BEGIN:VCALENDAR
VERSION:2.0
PRODID:-//jEvents 2.0 for Joomla//EN
CALSCALE:GREGORIAN
METHOD:PUBLISH
BEGIN:VTIMEZONE
TZID:Europe/Rome
BEGIN:STANDARD
DTSTART:20170321T000000
RDATE:20170326T030000
TZOFFSETFROM:+0200
TZOFFSETTO:+0100
TZNAME:Europe/Rome CET
END:STANDARD
BEGIN:STANDARD
DTSTART:20171029T020000
RDATE:20180325T030000
TZOFFSETFROM:+0200
TZOFFSETTO:+0100
TZNAME:Europe/Rome CET
END:STANDARD
BEGIN:STANDARD
DTSTART:20181028T020000
RDATE:20190331T030000
TZOFFSETFROM:+0200
TZOFFSETTO:+0100
TZNAME:Europe/Rome CET
END:STANDARD
BEGIN:STANDARD
DTSTART:20191027T020000
RDATE:20200329T030000
TZOFFSETFROM:+0200
TZOFFSETTO:+0100
TZNAME:Europe/Rome CET
END:STANDARD
BEGIN:STANDARD
DTSTART:20201025T020000
RDATE:20210328T030000
TZOFFSETFROM:+0200
TZOFFSETTO:+0100
TZNAME:Europe/Rome CET
END:STANDARD
BEGIN:STANDARD
DTSTART:20211031T020000
RDATE:20220327T030000
TZOFFSETFROM:+0200
TZOFFSETTO:+0100
TZNAME:Europe/Rome CET
END:STANDARD
BEGIN:STANDARD
DTSTART:20221030T020000
RDATE:20230326T030000
TZOFFSETFROM:+0200
TZOFFSETTO:+0100
TZNAME:Europe/Rome CET
END:STANDARD
BEGIN:STANDARD
DTSTART:20231029T020000
RDATE:20240331T030000
TZOFFSETFROM:+0200
TZOFFSETTO:+0100
TZNAME:Europe/Rome CET
END:STANDARD
BEGIN:STANDARD
DTSTART:20241027T020000
RDATE:20250330T030000
TZOFFSETFROM:+0200
TZOFFSETTO:+0100
TZNAME:Europe/Rome CET
END:STANDARD
BEGIN:STANDARD
DTSTART:20251026T020000
RDATE:20260329T030000
TZOFFSETFROM:+0200
TZOFFSETTO:+0100
TZNAME:Europe/Rome CET
END:STANDARD
BEGIN:STANDARD
DTSTART:20261025T020000
RDATE:20270328T030000
TZOFFSETFROM:+0200
TZOFFSETTO:+0100
TZNAME:Europe/Rome CET
END:STANDARD
BEGIN:STANDARD
DTSTART:20271031T020000
RDATE:20280326T030000
TZOFFSETFROM:+0200
TZOFFSETTO:+0100
TZNAME:Europe/Rome CET
END:STANDARD
BEGIN:STANDARD
DTSTART:20281029T020000
RDATE:20290325T030000
TZOFFSETFROM:+0200
TZOFFSETTO:+0100
TZNAME:Europe/Rome CET
END:STANDARD
BEGIN:STANDARD
DTSTART:20291028T020000
RDATE:20300331T030000
TZOFFSETFROM:+0200
TZOFFSETTO:+0100
TZNAME:Europe/Rome CET
END:STANDARD
BEGIN:STANDARD
DTSTART:20301027T020000
RDATE:20310330T030000
TZOFFSETFROM:+0200
TZOFFSETTO:+0100
TZNAME:Europe/Rome CET
END:STANDARD
BEGIN:STANDARD
DTSTART:20311026T020000
RDATE:20320328T030000
TZOFFSETFROM:+0200
TZOFFSETTO:+0100
TZNAME:Europe/Rome CET
END:STANDARD
BEGIN:STANDARD
DTSTART:20321031T020000
RDATE:20330327T030000
TZOFFSETFROM:+0200
TZOFFSETTO:+0100
TZNAME:Europe/Rome CET
END:STANDARD
BEGIN:STANDARD
DTSTART:20331030T020000
RDATE:20340326T030000
TZOFFSETFROM:+0200
TZOFFSETTO:+0100
TZNAME:Europe/Rome CET
END:STANDARD
BEGIN:STANDARD
DTSTART:20341029T020000
RDATE:20350325T030000
TZOFFSETFROM:+0200
TZOFFSETTO:+0100
TZNAME:Europe/Rome CET
END:STANDARD
BEGIN:STANDARD
DTSTART:20351028T020000
RDATE:20360330T030000
TZOFFSETFROM:+0200
TZOFFSETTO:+0100
TZNAME:Europe/Rome CET
END:STANDARD
BEGIN:STANDARD
DTSTART:20361026T020000
RDATE:20370329T030000
TZOFFSETFROM:+0200
TZOFFSETTO:+0100
TZNAME:Europe/Rome CET
END:STANDARD
BEGIN:STANDARD
DTSTART:20371025T020000
TZOFFSETFROM:+0200
TZOFFSETTO:+0100
TZNAME:Europe/Rome CET
END:STANDARD
BEGIN:DAYLIGHT
DTSTART:20170326T030000
RDATE:20171029T020000
TZOFFSETFROM:+0100
TZOFFSETTO:+0200
TZNAME:Europe/Rome CEST
END:DAYLIGHT
BEGIN:DAYLIGHT
DTSTART:20180325T030000
RDATE:20181028T020000
TZOFFSETFROM:+0100
TZOFFSETTO:+0200
TZNAME:Europe/Rome CEST
END:DAYLIGHT
BEGIN:DAYLIGHT
DTSTART:20190331T030000
RDATE:20191027T020000
TZOFFSETFROM:+0100
TZOFFSETTO:+0200
TZNAME:Europe/Rome CEST
END:DAYLIGHT
BEGIN:DAYLIGHT
DTSTART:20200329T030000
RDATE:20201025T020000
TZOFFSETFROM:+0100
TZOFFSETTO:+0200
TZNAME:Europe/Rome CEST
END:DAYLIGHT
BEGIN:DAYLIGHT
DTSTART:20210328T030000
RDATE:20211031T020000
TZOFFSETFROM:+0100
TZOFFSETTO:+0200
TZNAME:Europe/Rome CEST
END:DAYLIGHT
BEGIN:DAYLIGHT
DTSTART:20220327T030000
RDATE:20221030T020000
TZOFFSETFROM:+0100
TZOFFSETTO:+0200
TZNAME:Europe/Rome CEST
END:DAYLIGHT
BEGIN:DAYLIGHT
DTSTART:20230326T030000
RDATE:20231029T020000
TZOFFSETFROM:+0100
TZOFFSETTO:+0200
TZNAME:Europe/Rome CEST
END:DAYLIGHT
BEGIN:DAYLIGHT
DTSTART:20240331T030000
RDATE:20241027T020000
TZOFFSETFROM:+0100
TZOFFSETTO:+0200
TZNAME:Europe/Rome CEST
END:DAYLIGHT
BEGIN:DAYLIGHT
DTSTART:20250330T030000
RDATE:20251026T020000
TZOFFSETFROM:+0100
TZOFFSETTO:+0200
TZNAME:Europe/Rome CEST
END:DAYLIGHT
BEGIN:DAYLIGHT
DTSTART:20260329T030000
RDATE:20261025T020000
TZOFFSETFROM:+0100
TZOFFSETTO:+0200
TZNAME:Europe/Rome CEST
END:DAYLIGHT
BEGIN:DAYLIGHT
DTSTART:20270328T030000
RDATE:20271031T020000
TZOFFSETFROM:+0100
TZOFFSETTO:+0200
TZNAME:Europe/Rome CEST
END:DAYLIGHT
BEGIN:DAYLIGHT
DTSTART:20280326T030000
RDATE:20281029T020000
TZOFFSETFROM:+0100
TZOFFSETTO:+0200
TZNAME:Europe/Rome CEST
END:DAYLIGHT
BEGIN:DAYLIGHT
DTSTART:20290325T030000
RDATE:20291028T020000
TZOFFSETFROM:+0100
TZOFFSETTO:+0200
TZNAME:Europe/Rome CEST
END:DAYLIGHT
BEGIN:DAYLIGHT
DTSTART:20300331T030000
RDATE:20301027T020000
TZOFFSETFROM:+0100
TZOFFSETTO:+0200
TZNAME:Europe/Rome CEST
END:DAYLIGHT
BEGIN:DAYLIGHT
DTSTART:20310330T030000
RDATE:20311026T020000
TZOFFSETFROM:+0100
TZOFFSETTO:+0200
TZNAME:Europe/Rome CEST
END:DAYLIGHT
BEGIN:DAYLIGHT
DTSTART:20320328T030000
RDATE:20321031T020000
TZOFFSETFROM:+0100
TZOFFSETTO:+0200
TZNAME:Europe/Rome CEST
END:DAYLIGHT
BEGIN:DAYLIGHT
DTSTART:20330327T030000
RDATE:20331030T020000
TZOFFSETFROM:+0100
TZOFFSETTO:+0200
TZNAME:Europe/Rome CEST
END:DAYLIGHT
BEGIN:DAYLIGHT
DTSTART:20340326T030000
RDATE:20341029T020000
TZOFFSETFROM:+0100
TZOFFSETTO:+0200
TZNAME:Europe/Rome CEST
END:DAYLIGHT
BEGIN:DAYLIGHT
DTSTART:20350325T030000
RDATE:20351028T020000
TZOFFSETFROM:+0100
TZOFFSETTO:+0200
TZNAME:Europe/Rome CEST
END:DAYLIGHT
BEGIN:DAYLIGHT
DTSTART:20360330T030000
RDATE:20361026T020000
TZOFFSETFROM:+0100
TZOFFSETTO:+0200
TZNAME:Europe/Rome CEST
END:DAYLIGHT
BEGIN:DAYLIGHT
DTSTART:20370329T030000
RDATE:20371025T020000
TZOFFSETFROM:+0100
TZOFFSETTO:+0200
TZNAME:Europe/Rome CEST
END:DAYLIGHT
END:VTIMEZONE
BEGIN:VEVENT
UID:92e20fe8f0da412827d0bc9a3cf4f167
CATEGORIES:.
SUMMARY:22- Israeli Apartheid Week
DESCRIPTION;ENCODING=QUOTED-PRINTABLE:<p>La Nakba continua: 70 anni di Resistenza - Settimana contro l'apartheid 
 israeliana 2018<br /><br />Anche quest’anno torna in Italia e nel mondo la 
 Settimana contro l’apartheid israeliana (Israeli Apartheid Week - IAW).<br 
 /><br />La IAW è un'iniziativa internazionale, giunta alla sua quattordices
 ima edizione, che ha l'obiettivo di sensibilizzare l'opinione pubblica sull
 e politiche di occupazione militare, colonizzazione e apartheid attuate da 
 Israele contro i palestinesi e di promuovere le campagne del movimento BDS 
 per fare pressione su Israele al rispetto dei diritti umani e la legalità i
 nternazionale.<br /><br />Lanciata nel 2005 da un gruppo di studenti di Tor
 onto (Canada),  nel corso degli anni si è diffusa in tutto il mondo fino a 
 toccare oltre 200 città.<br /><br />A 70 anni dalla Nakba del 1948, la puli
 zia etnica che ha privato i palestinesi della libertà e della terra con la 
 fondazione dello stato di Israele, la resistenza popolare palestinese conti
 nua contro l’occupazione militare, per la libertà, la giustizia e l’uguagli
 anza.<br /><br />Nonostante gli attacchi e la propaganda di Israele contro 
 il BDS, la IAW e il movimento BDS continuano a costruire legami e solidarie
 tà internazionale con il popolo Palestinese, per l’affermazione della legal
 ità internazionale.<br /><br />Partecipa alle iniziative!<br /><br />------
 -------------------------<br /><strong>A ROMA</strong><br /><br />A Roma, B
 DS Italia organizza la presentazione del dossier Il Diritto di boicottare I
 sraele - BDS: un legittimo movimento per i diritti umani, giovedì, 22 marzo
  2018, ore 16.00 presso l’Ufficio in Italia del Parlamento europeo in via I
 V Novembre, 149. Interverranno l’europarlamentare Eleonora Forenza, l’Avv. 
 Fausto Gianelli dei Giuristi Democratici, e Vera Pegna, scrittrice e tradut
 trice.<br /><br />**È necessario confermare la partecipazione: <span id="cl
 oak2640">Questo indirizzo email è protetto dagli spambots. È necessario abi
 litare JavaScript per vederlo.</span><script type='text/javascript'>
 //<!-
 -
 document.getElementById('cloak2640').innerHTML = '';
 var prefix = '&#10
 9;a' + 'i&#108;' + '&#116;o';
 var path = 'hr' + 'ef' + '=';
 var addy2640 
 = '&#105;nf&#111;' + '&#64;';
 addy2640 = addy2640 + 'bds&#105;t&#97;l&#105
 ;&#97;' + '&#46;' + '&#111;rg';
 document.getElementById('cloak2640').inner
 HTML += '<a ' + path + '\'' + prefix + ':' + addy2640 + '\'>' +addy2640+'<\
 /a>';
 //-->
 </script><br /><br />-------------------------------<br /><st
 rong>IN ITALIA</strong><br /><br />Il dossier è a cura di BDS Italia con il
  sostegno di AssoPace Palestina, Centro Studi Sereno Regis, Pax Christi Ita
 lia, Rete Ebrei Contro l’occupazione, Servizio Civile Internazionale Italia
  e Un ponte per…<br /><br />Il programma per IAW in tutta Italia<br /><br /
 >Bologna – dibattiti all’università, proiezioni e incontri sull’informazion
 e<br /><br />Cagliari – La XV edizione dell’Al Ard Doc Film Festival<br /><
 br />Milano – incontri, proiezioni, danze, mostre fotografiche<br /><br />N
 apoli -  Proiezione del documentario Roadmap to Apartheid<br /><br />Pisa –
  azioni in piazza e incontri all’università<br /><br />Padova - incontri al
 l'università e proiezioni <br /><br />Roma – incontro per ricordare Rachel 
 Corrie e presentazione del dossier sul diritto al boicottaggio<br /><br />T
 orino – proiezioni, dibattiti all’università e concerti<br /><br />Udine – 
 mostra, proiezioni, letture<br /><br />Per informazioni sulla IAW nel mondo
 : www.apartheidweek.org<br /><br />fonte<br /><a href="https://bdsitalia.or
 g/index.php/la-campagna-bds/comunicati/2394-iaw-2018" target="_blank">https
 ://bdsitalia.org/index.php/la-campagna-bds/comunicati/2394-iaw-2018</a></p>
DTSTAMP:20260421T204036Z
DTSTART;TZID=Europe/Rome;VALUE=DATE:20180322
DTEND;TZID=Europe/Rome;VALUE=DATE:20180323
SEQUENCE:0
TRANSP:OPAQUE
END:VEVENT
END:VCALENDAR