BEGIN:VCALENDAR
VERSION:2.0
PRODID:-//jEvents 2.0 for Joomla//EN
CALSCALE:GREGORIAN
METHOD:PUBLISH
BEGIN:VTIMEZONE
TZID:Europe/Rome
BEGIN:STANDARD
DTSTART:20170206T000000
RDATE:20170326T030000
TZOFFSETFROM:+0200
TZOFFSETTO:+0100
TZNAME:Europe/Rome CET
END:STANDARD
BEGIN:STANDARD
DTSTART:20171029T020000
RDATE:20180325T030000
TZOFFSETFROM:+0200
TZOFFSETTO:+0100
TZNAME:Europe/Rome CET
END:STANDARD
BEGIN:STANDARD
DTSTART:20181028T020000
RDATE:20190331T030000
TZOFFSETFROM:+0200
TZOFFSETTO:+0100
TZNAME:Europe/Rome CET
END:STANDARD
BEGIN:STANDARD
DTSTART:20191027T020000
RDATE:20200329T030000
TZOFFSETFROM:+0200
TZOFFSETTO:+0100
TZNAME:Europe/Rome CET
END:STANDARD
BEGIN:STANDARD
DTSTART:20201025T020000
RDATE:20210328T030000
TZOFFSETFROM:+0200
TZOFFSETTO:+0100
TZNAME:Europe/Rome CET
END:STANDARD
BEGIN:STANDARD
DTSTART:20211031T020000
RDATE:20220327T030000
TZOFFSETFROM:+0200
TZOFFSETTO:+0100
TZNAME:Europe/Rome CET
END:STANDARD
BEGIN:STANDARD
DTSTART:20221030T020000
RDATE:20230326T030000
TZOFFSETFROM:+0200
TZOFFSETTO:+0100
TZNAME:Europe/Rome CET
END:STANDARD
BEGIN:STANDARD
DTSTART:20231029T020000
RDATE:20240331T030000
TZOFFSETFROM:+0200
TZOFFSETTO:+0100
TZNAME:Europe/Rome CET
END:STANDARD
BEGIN:STANDARD
DTSTART:20241027T020000
RDATE:20250330T030000
TZOFFSETFROM:+0200
TZOFFSETTO:+0100
TZNAME:Europe/Rome CET
END:STANDARD
BEGIN:STANDARD
DTSTART:20251026T020000
RDATE:20260329T030000
TZOFFSETFROM:+0200
TZOFFSETTO:+0100
TZNAME:Europe/Rome CET
END:STANDARD
BEGIN:STANDARD
DTSTART:20261025T020000
RDATE:20270328T030000
TZOFFSETFROM:+0200
TZOFFSETTO:+0100
TZNAME:Europe/Rome CET
END:STANDARD
BEGIN:STANDARD
DTSTART:20271031T020000
RDATE:20280326T030000
TZOFFSETFROM:+0200
TZOFFSETTO:+0100
TZNAME:Europe/Rome CET
END:STANDARD
BEGIN:STANDARD
DTSTART:20281029T020000
RDATE:20290325T030000
TZOFFSETFROM:+0200
TZOFFSETTO:+0100
TZNAME:Europe/Rome CET
END:STANDARD
BEGIN:STANDARD
DTSTART:20291028T020000
RDATE:20300331T030000
TZOFFSETFROM:+0200
TZOFFSETTO:+0100
TZNAME:Europe/Rome CET
END:STANDARD
BEGIN:STANDARD
DTSTART:20301027T020000
RDATE:20310330T030000
TZOFFSETFROM:+0200
TZOFFSETTO:+0100
TZNAME:Europe/Rome CET
END:STANDARD
BEGIN:STANDARD
DTSTART:20311026T020000
RDATE:20320328T030000
TZOFFSETFROM:+0200
TZOFFSETTO:+0100
TZNAME:Europe/Rome CET
END:STANDARD
BEGIN:STANDARD
DTSTART:20321031T020000
RDATE:20330327T030000
TZOFFSETFROM:+0200
TZOFFSETTO:+0100
TZNAME:Europe/Rome CET
END:STANDARD
BEGIN:STANDARD
DTSTART:20331030T020000
RDATE:20340326T030000
TZOFFSETFROM:+0200
TZOFFSETTO:+0100
TZNAME:Europe/Rome CET
END:STANDARD
BEGIN:STANDARD
DTSTART:20341029T020000
RDATE:20350325T030000
TZOFFSETFROM:+0200
TZOFFSETTO:+0100
TZNAME:Europe/Rome CET
END:STANDARD
BEGIN:STANDARD
DTSTART:20351028T020000
RDATE:20360330T030000
TZOFFSETFROM:+0200
TZOFFSETTO:+0100
TZNAME:Europe/Rome CET
END:STANDARD
BEGIN:STANDARD
DTSTART:20361026T020000
RDATE:20370329T030000
TZOFFSETFROM:+0200
TZOFFSETTO:+0100
TZNAME:Europe/Rome CET
END:STANDARD
BEGIN:STANDARD
DTSTART:20371025T020000
TZOFFSETFROM:+0200
TZOFFSETTO:+0100
TZNAME:Europe/Rome CET
END:STANDARD
BEGIN:DAYLIGHT
DTSTART:20170326T030000
RDATE:20171029T020000
TZOFFSETFROM:+0100
TZOFFSETTO:+0200
TZNAME:Europe/Rome CEST
END:DAYLIGHT
BEGIN:DAYLIGHT
DTSTART:20180325T030000
RDATE:20181028T020000
TZOFFSETFROM:+0100
TZOFFSETTO:+0200
TZNAME:Europe/Rome CEST
END:DAYLIGHT
BEGIN:DAYLIGHT
DTSTART:20190331T030000
RDATE:20191027T020000
TZOFFSETFROM:+0100
TZOFFSETTO:+0200
TZNAME:Europe/Rome CEST
END:DAYLIGHT
BEGIN:DAYLIGHT
DTSTART:20200329T030000
RDATE:20201025T020000
TZOFFSETFROM:+0100
TZOFFSETTO:+0200
TZNAME:Europe/Rome CEST
END:DAYLIGHT
BEGIN:DAYLIGHT
DTSTART:20210328T030000
RDATE:20211031T020000
TZOFFSETFROM:+0100
TZOFFSETTO:+0200
TZNAME:Europe/Rome CEST
END:DAYLIGHT
BEGIN:DAYLIGHT
DTSTART:20220327T030000
RDATE:20221030T020000
TZOFFSETFROM:+0100
TZOFFSETTO:+0200
TZNAME:Europe/Rome CEST
END:DAYLIGHT
BEGIN:DAYLIGHT
DTSTART:20230326T030000
RDATE:20231029T020000
TZOFFSETFROM:+0100
TZOFFSETTO:+0200
TZNAME:Europe/Rome CEST
END:DAYLIGHT
BEGIN:DAYLIGHT
DTSTART:20240331T030000
RDATE:20241027T020000
TZOFFSETFROM:+0100
TZOFFSETTO:+0200
TZNAME:Europe/Rome CEST
END:DAYLIGHT
BEGIN:DAYLIGHT
DTSTART:20250330T030000
RDATE:20251026T020000
TZOFFSETFROM:+0100
TZOFFSETTO:+0200
TZNAME:Europe/Rome CEST
END:DAYLIGHT
BEGIN:DAYLIGHT
DTSTART:20260329T030000
RDATE:20261025T020000
TZOFFSETFROM:+0100
TZOFFSETTO:+0200
TZNAME:Europe/Rome CEST
END:DAYLIGHT
BEGIN:DAYLIGHT
DTSTART:20270328T030000
RDATE:20271031T020000
TZOFFSETFROM:+0100
TZOFFSETTO:+0200
TZNAME:Europe/Rome CEST
END:DAYLIGHT
BEGIN:DAYLIGHT
DTSTART:20280326T030000
RDATE:20281029T020000
TZOFFSETFROM:+0100
TZOFFSETTO:+0200
TZNAME:Europe/Rome CEST
END:DAYLIGHT
BEGIN:DAYLIGHT
DTSTART:20290325T030000
RDATE:20291028T020000
TZOFFSETFROM:+0100
TZOFFSETTO:+0200
TZNAME:Europe/Rome CEST
END:DAYLIGHT
BEGIN:DAYLIGHT
DTSTART:20300331T030000
RDATE:20301027T020000
TZOFFSETFROM:+0100
TZOFFSETTO:+0200
TZNAME:Europe/Rome CEST
END:DAYLIGHT
BEGIN:DAYLIGHT
DTSTART:20310330T030000
RDATE:20311026T020000
TZOFFSETFROM:+0100
TZOFFSETTO:+0200
TZNAME:Europe/Rome CEST
END:DAYLIGHT
BEGIN:DAYLIGHT
DTSTART:20320328T030000
RDATE:20321031T020000
TZOFFSETFROM:+0100
TZOFFSETTO:+0200
TZNAME:Europe/Rome CEST
END:DAYLIGHT
BEGIN:DAYLIGHT
DTSTART:20330327T030000
RDATE:20331030T020000
TZOFFSETFROM:+0100
TZOFFSETTO:+0200
TZNAME:Europe/Rome CEST
END:DAYLIGHT
BEGIN:DAYLIGHT
DTSTART:20340326T030000
RDATE:20341029T020000
TZOFFSETFROM:+0100
TZOFFSETTO:+0200
TZNAME:Europe/Rome CEST
END:DAYLIGHT
BEGIN:DAYLIGHT
DTSTART:20350325T030000
RDATE:20351028T020000
TZOFFSETFROM:+0100
TZOFFSETTO:+0200
TZNAME:Europe/Rome CEST
END:DAYLIGHT
BEGIN:DAYLIGHT
DTSTART:20360330T030000
RDATE:20361026T020000
TZOFFSETFROM:+0100
TZOFFSETTO:+0200
TZNAME:Europe/Rome CEST
END:DAYLIGHT
BEGIN:DAYLIGHT
DTSTART:20370329T030000
RDATE:20371025T020000
TZOFFSETFROM:+0100
TZOFFSETTO:+0200
TZNAME:Europe/Rome CEST
END:DAYLIGHT
END:VTIMEZONE
BEGIN:VEVENT
UID:09a09833d52906e6f9230763309b8c13
CATEGORIES:.
SUMMARY:07- Migrazione, accoglienza, inclusione, co-sviluppo: il ruolo delle Diaspore Med-Africane (conferenza)
DESCRIPTION;ENCODING=QUOTED-PRINTABLE:<p>Convegno<br /><br />Migrazione, Accoglienza, Inclusione, Co-sviluppo<br 
 />Il ruolo delle Diaspore Med-Africane<br />Anno II - Dall'implementazione 
 sul terreno alle ricadute nazionali<br /><br />7 febbraio 2018, ore 15.00 -
  18.30<br />Camera dei Deputati - Auletta dei Gruppi Parlamentari, via di C
 ampo Marzio 78, Roma<br /><br />Per partecipare è obbligatorio iscriversi c
 ompilando la <a href="https://docs.google.com/forms/d/e/1FAIpQLSfUbr_AuhDkB
 X6NBzNJIDXW2oTmyAOqI1cDMc0pa6s3LdxU8w/viewform" target="_blank">scheda di r
 egistrazione</a></p><p><br />Il ruolo delle Diaspore Med-Africane in Italia
  è essenziale per facilitare l’inclusione dei nuovi arrivati e per contrast
 are possibili derive jihadiste o terroristiche, non solo per promuovere pro
 getti di co-sviluppo nei Paesi d’origine. Il Convegno è volto a dare voce i
 nnanzitutto proprio a queste organizzazioni diasporiche, cui i rappresentan
 ti delle istituzioni nazionali e locali sono chiamati a dare risposta. Il C
 onvegno si propone altresì di creare canali di contatto e di comunicazione 
 tra le diverse istituzioni nazionali e locali, le cui iniziative talora pro
 cedono in parallelo. Infine, è previsto un focus su alcuni progetti concret
 i, particolarmente emblematici e significativi anche come esperienze pilota
 , riproducibili in altri contesti.<br /><br /><br /><br />Sono stati invita
 ti:<br /><br />Abderrahmane Amajou, Responsabile di DiaMaSe - Diaspora del 
 Marocco e del Senegal per lo Sviluppo; Adramet Barry, rappresentante della 
 Comunità Guinea Conakry (Torino), membro del CDA del Centro Piemontese di S
 tudi Africani (CSA); Armando Barucco, Capo Unità di Analisi, Programmazione
  e Documentazione Storico Diplomatica del Ministero degli Affari Esteri e d
 ella Cooperazione Internazionale; Janiki Cingoli, Presidente Centro Italian
 o per la Pace in Medio Oriente (CIPMO); Ilda Curti, Rete Italiana Cultura P
 opolare; Cleophas Adrien Dioma, Coordinatore del Gruppo di lavoro Migrazion
 e e sviluppo del Consiglio nazionale per la cooperazione allo sviluppo; Tat
 iana Esposito, Direttrice Generale dell’Immigrazione e delle Politiche di i
 ntegrazione del Ministero del Lavoro e delle Politiche sociali; Piero Fassi
 no, Presidente del Centro Studi di Politica Internazionale (CeSPI); Anna Fe
 rro, Senior Researcher Area International Migration & Development Studies a
 l Centro Studi di Politica Internazionale (CeSPI); Laura Frigenti, Direttri
 ce dell’Agenzia Italiana per la Cooperazione allo Sviluppo (AICS); Daniele 
 Frigeri, Direttore Centro Studi di Politica Internazionale (CeSPI); Gian Ma
 rio Gillio, giornalista del quotidiano online Riforma.it; Mario Giro, Vice 
 Ministro degli Affari Esteri e della Cooperazione Internazionale; Modou Gue
 ye, Presidente dell’Associazione socio-culturale Sunugal; Simohamed Kaabour
 , Presidente CoNNGI - Coordinamento Nazionale Nuove Generazioni Italiane; M
 ario Morcone, Capo di Gabinetto del Ministro dell’Interno; Valentina Mutti,
  Project manager CIPMO; Paolo Naso, Coordinatore del progetto Mediterranean
  Hope – Corridoi Umanitari della Federazione delle Chiese Evangeliche in It
 alia (FCEI); Luca Pacini, Responsabile Area Welfare e Immigrazione ANCI; Fr
 anco Pittau, Presidente onorario Centro Studi e Ricerche IDOS – Dossier Sta
 tistico Immigrazione; Luigi Maria Vignali, Direttore Generale per gli Itali
 ani all'Estero e le Politiche Migratorie del Ministero degli Affari Esteri 
 e della Cooperazione Internazionale.<br /><br /><br />L’Iniziativa è promos
 sa dal Centro Italiano per la Pace in Medio Oriente (CIPMO) in partnership 
 con il Centro Studi di Politica Internazionale (CeSPI), con la collaborazio
 ne del Centro Piemontese di Studi Africani (CSA), la Rivista Confronti e  i
 l Centro Studi e Ricerche IDOS - Dossier Statistico Immigrazione. È sostenu
 ta dall'Unità di Analisi, Programmazione e Documentazione Storico Diplomati
 ca del Ministero degli Affari Esteri e della Cooperazione Internazionale.<b
 r /><br /><br />L’accesso alla sala - con abbigliamento consono e, per gli 
 uomini, obbligo di giacca - è consentito fino al raggiungimento della capie
 nza massima. Si prega di venire muniti di un documento di identità.<br /><b
 r /><br />Per informazioni:<br />CIPMO - Centro Italiano per la Pace in Med
 io Oriente<br />Corso Sempione 32B<br />20154 Milano<br />Tel 02 866 147/10
 9<br />Fax 02 866 200<br />E mail: <span id="cloak7533">Questo indirizzo em
 ail è protetto dagli spambots. È necessario abilitare JavaScript per vederl
 o.</span><script type='text/javascript'>
 //<!--
 document.getElementById('
 cloak7533').innerHTML = '';
 var prefix = '&#109;a' + 'i&#108;' + '&#116;o'
 ;
 var path = 'hr' + 'ef' + '=';
 var addy7533 = 'c&#105;pm&#111;' + '&#64;
 ';
 addy7533 = addy7533 + 'c&#105;pm&#111;' + '&#46;' + '&#111;rg';
 var ad
 dy_text7533 = 'c&#105;pm&#111;' + '&#64;' + 'c&#105;pm&#111;' + '&#46;' + '
 &#111;rg';
 document.getElementById('cloak7533').innerHTML += '<a ' + path 
 + '\'' + prefix + ':' + addy7533 + '\'>'+addy_text7533+'<\/a>';
 //-->
 </s
 cript></p><p>-----------------------------------------<br /><br />SCARICA I
 L PROGRAMMA<br /><a href="http://cipmo.org/export/sites/Cipmo/vita-cipmo/20
 17/Programma7Febbraio.pdf" target="_blank">http://cipmo.org/export/sites/Ci
 pmo/vita-cipmo/2017/Programma7Febbraio.pdf</a><br /><br />Il ruolo delle Di
 aspore Med-Africane in Italia è essenziale per facilitare l’inclusione dei 
 nuovi arrivati e per contrastare possibili derive jihadiste o terroristiche
 , non solo per promuovere progetti di co-sviluppo nei Paesi d’origine. Il C
 onvegno è volto a dare voce innanzitutto proprio a queste organizzazioni di
 asporiche, cui i rappresentanti delle istituzioni nazionali e locali sono c
 hiamati a dare risposta. Il Convegno si propone altresì di creare canali di
  contatto e di comunicazione tra le diverse istituzioni nazionali e locali,
  le cui iniziative talora procedono in parallelo. Infine, è previsto un foc
 us su alcune esperienze sul terreno, particolarmente emblematiche e signifi
 cative anche come esperienze pilota, riproducibili in altri contesti.<br />
 <br /><br />L’Iniziativa è promossa dal Centro Italiano per la Pace in Medi
 o Oriente (CIPMO) in partnership con il Centro Studi di Politica Internazio
 nale (CeSPI), con la collaborazione del Centro Piemontese di Studi Africani
  (CSA), la Rivista Confronti e il Centro Studi e Ricerche IDOS - Dossier St
 atistico Immigrazione.<br />É sostenuta dall’Unità di Analisi, Programmazio
 ne e Documentazione Storico Diplomatica del Ministero degli Affari Esteri e
  della Cooperazione Internazionale.<br /><br />Con il patrocinio della Rete
  Italiana per il Dialogo Euromediterraneo (RIDE – APS) e della Rete Italian
 a Anna Lindh Foundation (ALF). Si ringrazia MoneyGram.<br /><br /><br />PRO
 GRAMMA<br /><br />ore 14.30 Registrazione partecipanti<br />ore 15.00 Apert
 ura lavorI<br /><br />Presiedono<br />Janiki Cingoli, Presidente del Centro
  Italiano per la Pace in Medio Oriente (CIPMO) <br />Piero Fassino, Preside
 nte del Centro Studi di Politica Internazionale (CeSPI)<br /><br /><br />Sa
 luti istituzionali<br />Armando Barucco, Capo Unità di Analisi, Programmazi
 one e Documentazione Storico Diplomatica del Ministero degli Affari Esteri 
 e della Cooperazione Internazionale<br /><br /><br />Intervento di apertura
 <br />Mario Giro, Vice Ministro degli Affari Esteri e della Cooperazione In
 ternazionale (tbc)<br /><br /><br /><br />Panel I. La voce delle Diaspore M
 ed-Africane<br /><br />Introduce e modera <br />Tana Anglana, Esperta di Mi
 grazioni e Sviluppo<br /><br />Intervengono<br />Cleophas Adrien Dioma, Coo
 rdinatore del Gruppo di lavoro Migrazione e sviluppo del Consiglio Nazional
 e per la Cooperazione allo Sviluppo<br />Adramet Barry, Presidente dell’Alt
 o Consiglio dei Guineiani all’estero<br />Abderrahmane Amajou, Coordinatore
  tema migranti di Slow Food International, Consigliere comunale e rappresen
 tante della comunità marocchina di Bra (Cuneo)<br />Simohamed Kaabour, Pres
 idente del CoNNGI - Coordinamento Nazionale Nuove Generazioni Italiane<br /
 > <br /><br />Panel II. La risposta delle Istituzioni<br /><br />Introduce 
 e modera<br />Franco Pittau, Presidente Onorario del Centro Studi e Ricerch
 e IDOS – Dossier Statistico Immigrazione<br /><br />Intervengono<br />Mario
  Morcone, Capo di Gabinetto del Ministro dell’Interno<br />Luigi Maria Vign
 ali, Direttore Generale per gli Italiani all’Estero e le Politiche Migrator
 ie del Ministero degli Affari Esteri e della Cooperazione Internazionale<br
  />Laura Frigenti, Direttrice dell’Agenzia Italiana per la Cooperazione all
 o Sviluppo<br />Tatiana Esposito, Direttrice Generale dell’Immigrazione e d
 elle Politiche di integrazione del Ministero del Lavoro e delle Politiche s
 ociali<br />Camilla Orlandi, Responsabile del Dipartimento per l’Integrazio
 ne e l’accoglienza, Gestione immigrazione di ANCI<br />Un rappresentante de
 lla Direzione Generale per lo studente, l'integrazione e la partecipazione 
 del Ministero dell’Istruzione, dell’Università e della Ricerca (tbc)<br /><
 br /><br />Panel III. Esperienze sul terreno<br /><br />Introduce e modera<
 br />Gian Mario Gillio, giornalista del quotidiano online Riforma.it<br /><
 br />Intervengono<br />Paolo Naso, Coordinatore del progetto Mediterranean 
 Hope – Corridoi Umanitari della Federazione delle Chiese Evangeliche in Ita
 lia (FCEI)<br />Federico Daneo, Direttore del Centro Piemontese di Studi Af
 ricani (CSA)<br />Anna Ferro, Senior Researcher Area International Migratio
 n & Development Studies al Centro Studi di Politica Internazionale (CeSPI)<
 br />Valentina Mutti, Project manager al Centro Italiano per la Pace in Med
 io Oriente (CIPMO)<br />Modou Gueye, Presidente dell’Associazione sociocult
 urale Sunugal<br />Massimo Canovi, Head of Southern Europe MoneyGram<br /><
 br /><br />L’accesso alla sala è consentito fino al raggiungimento della ca
 pienza massima.<br />Si prega di venire muniti di documento di identità.<br
  />Il Cerimoniale della Camera dei Deputati richiede l'uso della giacca per
  gli uomini.<br /><br /><br />Per informazioni<br />CIPMO - Centro Italiano
  per la Pace in Medio Oriente<br />Corso Sempione 32B - 20154 Milano<br />T
 el. +39 02 866 147/109<br />Fax. 02 866 200<br />Email: <span id="cloak1520
 0">Questo indirizzo email è protetto dagli spambots. È necessario abilitare
  JavaScript per vederlo.</span><script type='text/javascript'>
 //<!--
 doc
 ument.getElementById('cloak15200').innerHTML = '';
 var prefix = '&#109;a' 
 + 'i&#108;' + '&#116;o';
 var path = 'hr' + 'ef' + '=';
 var addy15200 = 'c
 &#105;pm&#111;' + '&#64;';
 addy15200 = addy15200 + 'c&#105;pm&#111;' + '&#
 46;' + '&#111;rg';
 document.getElementById('cloak15200').innerHTML += '<a 
 ' + path + '\'' + prefix + ':' + addy15200 + '\'>' +addy15200+'<\/a>';
 //-
 ->
 </script><br />www.cipmo.org</p>
DTSTAMP:20260421T220047Z
DTSTART;TZID=Europe/Rome;VALUE=DATE:20180207
DTEND;TZID=Europe/Rome;VALUE=DATE:20180208
SEQUENCE:0
TRANSP:OPAQUE
END:VEVENT
END:VCALENDAR