BEGIN:VCALENDAR
VERSION:2.0
PRODID:-//jEvents 2.0 for Joomla//EN
CALSCALE:GREGORIAN
METHOD:PUBLISH
BEGIN:VTIMEZONE
TZID:Europe/Rome
BEGIN:STANDARD
DTSTART:20161209T000000
RDATE:20170326T030000
TZOFFSETFROM:+0200
TZOFFSETTO:+0100
TZNAME:Europe/Rome CET
END:STANDARD
BEGIN:STANDARD
DTSTART:20171029T020000
RDATE:20180325T030000
TZOFFSETFROM:+0200
TZOFFSETTO:+0100
TZNAME:Europe/Rome CET
END:STANDARD
BEGIN:STANDARD
DTSTART:20181028T020000
RDATE:20190331T030000
TZOFFSETFROM:+0200
TZOFFSETTO:+0100
TZNAME:Europe/Rome CET
END:STANDARD
BEGIN:STANDARD
DTSTART:20191027T020000
RDATE:20200329T030000
TZOFFSETFROM:+0200
TZOFFSETTO:+0100
TZNAME:Europe/Rome CET
END:STANDARD
BEGIN:STANDARD
DTSTART:20201025T020000
RDATE:20210328T030000
TZOFFSETFROM:+0200
TZOFFSETTO:+0100
TZNAME:Europe/Rome CET
END:STANDARD
BEGIN:STANDARD
DTSTART:20211031T020000
RDATE:20220327T030000
TZOFFSETFROM:+0200
TZOFFSETTO:+0100
TZNAME:Europe/Rome CET
END:STANDARD
BEGIN:STANDARD
DTSTART:20221030T020000
RDATE:20230326T030000
TZOFFSETFROM:+0200
TZOFFSETTO:+0100
TZNAME:Europe/Rome CET
END:STANDARD
BEGIN:STANDARD
DTSTART:20231029T020000
RDATE:20240331T030000
TZOFFSETFROM:+0200
TZOFFSETTO:+0100
TZNAME:Europe/Rome CET
END:STANDARD
BEGIN:STANDARD
DTSTART:20241027T020000
RDATE:20250330T030000
TZOFFSETFROM:+0200
TZOFFSETTO:+0100
TZNAME:Europe/Rome CET
END:STANDARD
BEGIN:STANDARD
DTSTART:20251026T020000
RDATE:20260329T030000
TZOFFSETFROM:+0200
TZOFFSETTO:+0100
TZNAME:Europe/Rome CET
END:STANDARD
BEGIN:STANDARD
DTSTART:20261025T020000
RDATE:20270328T030000
TZOFFSETFROM:+0200
TZOFFSETTO:+0100
TZNAME:Europe/Rome CET
END:STANDARD
BEGIN:STANDARD
DTSTART:20271031T020000
RDATE:20280326T030000
TZOFFSETFROM:+0200
TZOFFSETTO:+0100
TZNAME:Europe/Rome CET
END:STANDARD
BEGIN:STANDARD
DTSTART:20281029T020000
RDATE:20290325T030000
TZOFFSETFROM:+0200
TZOFFSETTO:+0100
TZNAME:Europe/Rome CET
END:STANDARD
BEGIN:STANDARD
DTSTART:20291028T020000
RDATE:20300331T030000
TZOFFSETFROM:+0200
TZOFFSETTO:+0100
TZNAME:Europe/Rome CET
END:STANDARD
BEGIN:STANDARD
DTSTART:20301027T020000
RDATE:20310330T030000
TZOFFSETFROM:+0200
TZOFFSETTO:+0100
TZNAME:Europe/Rome CET
END:STANDARD
BEGIN:STANDARD
DTSTART:20311026T020000
RDATE:20320328T030000
TZOFFSETFROM:+0200
TZOFFSETTO:+0100
TZNAME:Europe/Rome CET
END:STANDARD
BEGIN:STANDARD
DTSTART:20321031T020000
RDATE:20330327T030000
TZOFFSETFROM:+0200
TZOFFSETTO:+0100
TZNAME:Europe/Rome CET
END:STANDARD
BEGIN:STANDARD
DTSTART:20331030T020000
RDATE:20340326T030000
TZOFFSETFROM:+0200
TZOFFSETTO:+0100
TZNAME:Europe/Rome CET
END:STANDARD
BEGIN:STANDARD
DTSTART:20341029T020000
RDATE:20350325T030000
TZOFFSETFROM:+0200
TZOFFSETTO:+0100
TZNAME:Europe/Rome CET
END:STANDARD
BEGIN:STANDARD
DTSTART:20351028T020000
RDATE:20360330T030000
TZOFFSETFROM:+0200
TZOFFSETTO:+0100
TZNAME:Europe/Rome CET
END:STANDARD
BEGIN:STANDARD
DTSTART:20361026T020000
RDATE:20370329T030000
TZOFFSETFROM:+0200
TZOFFSETTO:+0100
TZNAME:Europe/Rome CET
END:STANDARD
BEGIN:STANDARD
DTSTART:20371025T020000
TZOFFSETFROM:+0200
TZOFFSETTO:+0100
TZNAME:Europe/Rome CET
END:STANDARD
BEGIN:DAYLIGHT
DTSTART:20170326T030000
RDATE:20171029T020000
TZOFFSETFROM:+0100
TZOFFSETTO:+0200
TZNAME:Europe/Rome CEST
END:DAYLIGHT
BEGIN:DAYLIGHT
DTSTART:20180325T030000
RDATE:20181028T020000
TZOFFSETFROM:+0100
TZOFFSETTO:+0200
TZNAME:Europe/Rome CEST
END:DAYLIGHT
BEGIN:DAYLIGHT
DTSTART:20190331T030000
RDATE:20191027T020000
TZOFFSETFROM:+0100
TZOFFSETTO:+0200
TZNAME:Europe/Rome CEST
END:DAYLIGHT
BEGIN:DAYLIGHT
DTSTART:20200329T030000
RDATE:20201025T020000
TZOFFSETFROM:+0100
TZOFFSETTO:+0200
TZNAME:Europe/Rome CEST
END:DAYLIGHT
BEGIN:DAYLIGHT
DTSTART:20210328T030000
RDATE:20211031T020000
TZOFFSETFROM:+0100
TZOFFSETTO:+0200
TZNAME:Europe/Rome CEST
END:DAYLIGHT
BEGIN:DAYLIGHT
DTSTART:20220327T030000
RDATE:20221030T020000
TZOFFSETFROM:+0100
TZOFFSETTO:+0200
TZNAME:Europe/Rome CEST
END:DAYLIGHT
BEGIN:DAYLIGHT
DTSTART:20230326T030000
RDATE:20231029T020000
TZOFFSETFROM:+0100
TZOFFSETTO:+0200
TZNAME:Europe/Rome CEST
END:DAYLIGHT
BEGIN:DAYLIGHT
DTSTART:20240331T030000
RDATE:20241027T020000
TZOFFSETFROM:+0100
TZOFFSETTO:+0200
TZNAME:Europe/Rome CEST
END:DAYLIGHT
BEGIN:DAYLIGHT
DTSTART:20250330T030000
RDATE:20251026T020000
TZOFFSETFROM:+0100
TZOFFSETTO:+0200
TZNAME:Europe/Rome CEST
END:DAYLIGHT
BEGIN:DAYLIGHT
DTSTART:20260329T030000
RDATE:20261025T020000
TZOFFSETFROM:+0100
TZOFFSETTO:+0200
TZNAME:Europe/Rome CEST
END:DAYLIGHT
BEGIN:DAYLIGHT
DTSTART:20270328T030000
RDATE:20271031T020000
TZOFFSETFROM:+0100
TZOFFSETTO:+0200
TZNAME:Europe/Rome CEST
END:DAYLIGHT
BEGIN:DAYLIGHT
DTSTART:20280326T030000
RDATE:20281029T020000
TZOFFSETFROM:+0100
TZOFFSETTO:+0200
TZNAME:Europe/Rome CEST
END:DAYLIGHT
BEGIN:DAYLIGHT
DTSTART:20290325T030000
RDATE:20291028T020000
TZOFFSETFROM:+0100
TZOFFSETTO:+0200
TZNAME:Europe/Rome CEST
END:DAYLIGHT
BEGIN:DAYLIGHT
DTSTART:20300331T030000
RDATE:20301027T020000
TZOFFSETFROM:+0100
TZOFFSETTO:+0200
TZNAME:Europe/Rome CEST
END:DAYLIGHT
BEGIN:DAYLIGHT
DTSTART:20310330T030000
RDATE:20311026T020000
TZOFFSETFROM:+0100
TZOFFSETTO:+0200
TZNAME:Europe/Rome CEST
END:DAYLIGHT
BEGIN:DAYLIGHT
DTSTART:20320328T030000
RDATE:20321031T020000
TZOFFSETFROM:+0100
TZOFFSETTO:+0200
TZNAME:Europe/Rome CEST
END:DAYLIGHT
BEGIN:DAYLIGHT
DTSTART:20330327T030000
RDATE:20331030T020000
TZOFFSETFROM:+0100
TZOFFSETTO:+0200
TZNAME:Europe/Rome CEST
END:DAYLIGHT
BEGIN:DAYLIGHT
DTSTART:20340326T030000
RDATE:20341029T020000
TZOFFSETFROM:+0100
TZOFFSETTO:+0200
TZNAME:Europe/Rome CEST
END:DAYLIGHT
BEGIN:DAYLIGHT
DTSTART:20350325T030000
RDATE:20351028T020000
TZOFFSETFROM:+0100
TZOFFSETTO:+0200
TZNAME:Europe/Rome CEST
END:DAYLIGHT
BEGIN:DAYLIGHT
DTSTART:20360330T030000
RDATE:20361026T020000
TZOFFSETFROM:+0100
TZOFFSETTO:+0200
TZNAME:Europe/Rome CEST
END:DAYLIGHT
BEGIN:DAYLIGHT
DTSTART:20370329T030000
RDATE:20371025T020000
TZOFFSETFROM:+0100
TZOFFSETTO:+0200
TZNAME:Europe/Rome CEST
END:DAYLIGHT
END:VTIMEZONE
BEGIN:VEVENT
UID:0a5fbb17f9dede4c35d8f34199d765f4
CATEGORIES:.
SUMMARY:10/16- Settimana della cucina palestinese
DESCRIPTION;ENCODING=QUOTED-PRINTABLE:<p>SETTIMANA DELL CUCINA PALESTINESE<br />Roma<br />10-16 Dicembre 2017<br 
 /><br /><strong>Dal 10 al 16 Dicembre 2017 in numerosi ristoranti e pub rom
 ani si potranno gustare piatti della tradizione culinaria palestinese.</str
 ong><br />Si tratta di una iniziativa lanciata con la collaborazione di Slo
 w Food dalla Rete Romana di Solidarietà con il Popolo Palestinese. Ai local
 i aderenti sarà fornito gratuitamente un "piccolo libro della cucina palest
 inese" con 20 ricette illustrate di piatti della tradizione culinaria di qu
 el popolo.<br />Ciascun ristorante o pub potrà scegliere tra di esse almeno
  un paio di pietanze da offrire ogni giorno nell'arco di quel periodo alla 
 propria clientela in aggiunta all'abituale menu. L'offerta sarà annunciata 
 con una locandina, anch'essa fornita gratuitamente ad ogni locale, nella qu
 ale, sotto la testatina SETTIMANA DELLA CUCINA PALESTINESE, saranno propost
 i i due "piatti del giorno".<br />La settimana sarà scandita da alcuni even
 ti: il 13 dicembre nel Caffè Letterario in via Ostiense, 95 dalle 20 si ter
 rà una "Serata Palestinese" a sottoscrizione, con cena a buffet, proiezioni
  di cortometraggi, dizione di poesie, musica e danze palestinese ed altro; 
 il 15 si parteciperà alla festa annuale di Slow Food "TERRA MADRE" al Cinem
 a Palazzo a San Lorenzo; e il 16 ci sarà un “Cooking Show Palestinese” dall
 e 17 alle 19,30 presso "Mind, Cibo per la mente", locale affiliato a Slow F
 ood, in Via Federico Nansen 62.<br /><br />Elenco aggiornato:<br /><br /><s
 trong>LISTA DEI LOCALI ADERENTI ALLA SETTIMANA DELLA CUCINA PALESTINESE</st
 rong><br />ROMA 10-16 DICEMBRE 2017<br /><br />----------------------------
 -----<br />ZONA CENTRO<br /><br />1<br />ALFONSO COUS COUS<br />Via Brescia
 , 23<br />06 97612215<br /><a href="https://www.facebook.com/Alfonso-COUS-C
 OUS-694688857282596/" target="_blank">https://www.facebook.com/Alfonso-COUS
 -COUS-694688857282596/</a><br />2<br />LUNA E L’ALTRA<br />(Casa Internazio
 nale delle Donne)<br />Via San Francesco di Sales, 1/a<br />06 68892465<br 
 /><a href="https://www.facebook.com/ristorantelunaelaltra2016/" target="_bl
 ank">https://www.facebook.com/ristorantelunaelaltra2016/</a><br />3<br />MA
 NDALOUN<br />Via di Porta Pinciana, 16/b<br />06 64824507<br /><span id="cl
 oak9355">Questo indirizzo email è protetto dagli spambots. È necessario abi
 litare JavaScript per vederlo.</span><script type='text/javascript'>
 //<!-
 -
 document.getElementById('cloak9355').innerHTML = '';
 var prefix = '&#10
 9;a' + 'i&#108;' + '&#116;o';
 var path = 'hr' + 'ef' + '=';
 var addy9355 
 = '&#105;nf&#111;' + '&#64;';
 addy9355 = addy9355 + 'm&#97;nd&#97;l&#111;&
 #117;n' + '&#46;' + '&#105;t';
 document.getElementById('cloak9355').innerH
 TML += '<a ' + path + '\'' + prefix + ':' + addy9355 + '\'>' +addy9355+'<\/
 a>';
 //-->
 </script><br />4<br />MARANEGA<br />Piazza Cmpo dei Fiori, 47/
 49<br />06 8300331<br /><a href="http://www.maranega.com/" target="_blank">
 http://www.maranega.com/</a><br />5<br />SCIAM<br />Via del Pellegrino, 56<
 br />06 68308957<br /><a href="https://sciamroma.wordpress.com/" target="_b
 lank">https://sciamroma.wordpress.com/</a><br />6<br />SPIRITO DIVINO<br />
 Via Dei Genovesi, 31 a/b –<br />Vicolo dell’Atleta, 13<br />06 5896689<br /
 ><a href="http://www.ristorantespiritodivino.com/" target="_blank">http://w
 ww.ristorantespiritodivino.com/</a><br />Slow Food<br /><br />-------------
 --------------------<br />ZONA GARBATELLA<br /><br />7<br />AL RISTORO DEGL
 I ANGELI<br />Via Luigi Orlando, 2<br />06 51436020<br /><span id="cloak743
 9">Questo indirizzo email è protetto dagli spambots. È necessario abilitare
  JavaScript per vederlo.</span><script type='text/javascript'>
 //<!--
 doc
 ument.getElementById('cloak7439').innerHTML = '';
 var prefix = '&#109;a' +
  'i&#108;' + '&#116;o';
 var path = 'hr' + 'ef' + '=';
 var addy7439 = '&#1
 05;nf&#111;' + '&#64;';
 addy7439 = addy7439 + 'r&#105;st&#111;r&#97;nt&#10
 1;d&#101;gl&#105;&#97;ng&#101;l&#105;' + '&#46;' + '&#105;t';
 document.get
 ElementById('cloak7439').innerHTML += '<a ' + path + '\'' + prefix + ':' + 
 addy7439 + '\'>' +addy7439+'<\/a>';
 //-->
 </script><br />8<br />CASETTA R
 OSSA<br />Via G. Battista Magnaghi, 14<br />06 89360511<br /><span id="cloa
 k52437">Questo indirizzo email è protetto dagli spambots. È necessario abil
 itare JavaScript per vederlo.</span><script type='text/javascript'>
 //<!--
 
 document.getElementById('cloak52437').innerHTML = '';
 var prefix = '&#10
 9;a' + 'i&#108;' + '&#116;o';
 var path = 'hr' + 'ef' + '=';
 var addy52437
  = '&#105;nf&#111;' + '&#64;';
 addy52437 = addy52437 + 'c&#97;s&#101;tt&#9
 7;r&#111;ss&#97;' + '&#46;' + '&#111;rg';
 document.getElementById('cloak52
 437').innerHTML += '<a ' + path + '\'' + prefix + ':' + addy52437 + '\'>' +
 addy52437+'<\/a>';
 //-->
 </script><br /><br />---------------------------
 ------<br />ZONA LAURENTINA<br /><br />9<br />AGRITURISMO GARIBALDI<br />Vi
 a di Vigna Murata,573<br />340 3480914<br /><a href="https://garibaldi.coop
 /trattoria/" target="_blank">https://garibaldi.coop/trattoria/</a><br />Slo
 w Food<br /><br />---------------------------------<br />ZONA MONTESACRO<br
  /><br />10<br />CAPRAECAVOLI<br />Via Capraia, 64<br />06 87179428<br /><s
 pan id="cloak90082">Questo indirizzo email è protetto dagli spambots. È nec
 essario abilitare JavaScript per vederlo.</span><script type='text/javascri
 pt'>
 //<!--
 document.getElementById('cloak90082').innerHTML = '';
 var pr
 efix = '&#109;a' + 'i&#108;' + '&#116;o';
 var path = 'hr' + 'ef' + '=';
 v
 ar addy90082 = 'c&#97;pr&#97;&#101;c&#97;v&#111;l&#105;' + '&#64;';
 addy90
 082 = addy90082 + 'c&#97;pr&#97;&#101;c&#97;v&#111;l&#105;' + '&#46;' + 'n&
 #101;t';
 document.getElementById('cloak90082').innerHTML += '<a ' + path +
  '\'' + prefix + ':' + addy90082 + '\'>' +addy90082+'<\/a>';
 //-->
 </scri
 pt><br />11<br />LA PASTELLA<br />Viale Gottardo, 39<br />333 4795167<br />
 <a href="http://friggitoriapastella.tumblr.com/" target="_blank">http://fri
 ggitoriapastella.tumblr.com/</a><br />12<br />LIBERTE’ CAFFE’ LETTERARIO<br
  />Viale Adriatico, 20<br />06 871953<br /><span id="cloak11573">Questo ind
 irizzo email è protetto dagli spambots. È necessario abilitare JavaScript p
 er vederlo.</span><script type='text/javascript'>
 //<!--
 document.getElem
 entById('cloak11573').innerHTML = '';
 var prefix = '&#109;a' + 'i&#108;' +
  '&#116;o';
 var path = 'hr' + 'ef' + '=';
 var addy11573 = '&#105;nf&#111;
 ' + '&#64;';
 addy11573 = addy11573 + 'd&#111;m&#117;sc&#105;tt&#97;g&#105;
 &#97;rd&#105;n&#111;' + '&#46;' + '&#105;t';
 document.getElementById('cloa
 k11573').innerHTML += '<a ' + path + '\'' + prefix + ':' + addy11573 + '\'>
 ' +addy11573+'<\/a>';
 //-->
 </script><br />13<br />MEZZO LITRO BISTROT<br
  />Via Nomentana, 468<br />06 827769<br /><span id="cloak75879">Questo indi
 rizzo email è protetto dagli spambots. È necessario abilitare JavaScript pe
 r vederlo.</span><script type='text/javascript'>
 //<!--
 document.getEleme
 ntById('cloak75879').innerHTML = '';
 var prefix = '&#109;a' + 'i&#108;' + 
 '&#116;o';
 var path = 'hr' + 'ef' + '=';
 var addy75879 = '&#101;lf&#97;n&
 #101;r&#97;89' + '&#64;';
 addy75879 = addy75879 + 'h&#111;tm&#97;&#105;l' 
 + '&#46;' + '' + '&#46;' + '&#105;t';
 document.getElementById('cloak75879'
 ).innerHTML += '<a ' + path + '\'' + prefix + ':' + addy75879 + '\'>' +addy
 75879+'<\/a>';
 //-->
 </script><br />14<br />COMO’<br />BISTROT DI MONTESA
 CRO<br />Viale Gottardo, 95<br />333 4395280<br /><a href="https://it-it.fa
 cebook.com/comobistrot/" target="_blank">https://it-it.facebook.com/comobis
 trot/</a><br />15<br />SOFA’ WINE BAR<br />Via Cimone,181<br />06 86897655<
 br /><span id="cloak55193">Questo indirizzo email è protetto dagli spambots
 . È necessario abilitare JavaScript per vederlo.</span><script type='text/j
 avascript'>
 //<!--
 document.getElementById('cloak55193').innerHTML = '';

  var prefix = '&#109;a' + 'i&#108;' + '&#116;o';
 var path = 'hr' + 'ef' + 
 '=';
 var addy55193 = '&#105;nf&#111;' + '&#64;';
 addy55193 = addy55193 + 
 's&#111;f&#97;w&#105;n&#101;b&#97;r' + '&#46;' + '&#105;t';
 document.getEl
 ementById('cloak55193').innerHTML += '<a ' + path + '\'' + prefix + ':' + a
 ddy55193 + '\'>' +addy55193+'<\/a>';
 //-->
 </script><br /><br />---------
 ------------------------<br />ZONA MONTEVERDE NUOVO<br /><br />16<br />DESI
 DERI DI PIZZA<br />Via Ozanam, 28<br />0697271584<br /><span id="cloak96209
 ">Questo indirizzo email è protetto dagli spambots. È necessario abilitare 
 JavaScript per vederlo.</span><script type='text/javascript'>
 //<!--
 docu
 ment.getElementById('cloak96209').innerHTML = '';
 var prefix = '&#109;a' +
  'i&#108;' + '&#116;o';
 var path = 'hr' + 'ef' + '=';
 var addy96209 = 'm&
 #117;f&#105;h&#117;ss&#101;&#105;n' + '&#64;';
 addy96209 = addy96209 + 'gm
 &#97;&#105;l' + '&#46;' + 'c&#111;m';
 document.getElementById('cloak96209'
 ).innerHTML += '<a ' + path + '\'' + prefix + ':' + addy96209 + '\'>' +addy
 96209+'<\/a>';
 //-->
 </script><br /><br />-------------------------------
 --<br />ZONA MONTI<br /><br />17<br />HUMUS BISTROT<br />Via Madonna dei Mo
 nti,109<br />06 88805491<br /><a href="https://www.facebook.com/pg/humusonl
 ine/reviews/" target="_blank">https://www.facebook.com/pg/humusonline/revie
 ws/</a><br />Slow Food<br />18<br />ZIZZI Laboratorio Artigianale<br />Via 
 San Martino ai Monti, 5<br />3664107376<br /><span id="cloak81313">Questo i
 ndirizzo email è protetto dagli spambots. È necessario abilitare JavaScript
  per vederlo.</span><script type='text/javascript'>
 //<!--
 document.getEl
 ementById('cloak81313').innerHTML = '';
 var prefix = '&#109;a' + 'i&#108;'
  + '&#116;o';
 var path = 'hr' + 'ef' + '=';
 var addy81313 = 'z&#105;zz&#1
 05;p&#105;zz&#97;' + '&#64;';
 addy81313 = addy81313 + 'gm&#97;&#105;l' + '
 &#46;' + 'c&#111;m';
 document.getElementById('cloak81313').innerHTML += '<
 a ' + path + '\'' + prefix + ':' + addy81313 + '\'>' +addy81313+'<\/a>';
 /
 /-->
 </script><br /><br />---------------------------------<br />ZONA OSTI
 ENSE<br /><br />19<br />CAFFE’ LETTERARIO<br />Via Ostiense, 95<br />06 573
 02842<br /><span id="cloak26985">Questo indirizzo email è protetto dagli sp
 ambots. È necessario abilitare JavaScript per vederlo.</span><script type='
 text/javascript'>
 //<!--
 document.getElementById('cloak26985').innerHTML 
 = '';
 var prefix = '&#109;a' + 'i&#108;' + '&#116;o';
 var path = 'hr' + '
 ef' + '=';
 var addy26985 = 'm&#97;&#105;l' + '&#64;';
 addy26985 = addy269
 85 + 'c&#97;ff&#101;l&#101;tt&#101;r&#97;r&#105;&#111;r&#111;m&#97;' + '&#4
 6;' + '&#105;t';
 document.getElementById('cloak26985').innerHTML += '<a ' 
 + path + '\'' + prefix + ':' + addy26985 + '\'>' +addy26985+'<\/a>';
 //-->
 
 </script><br /><br />---------------------------------<br />ZONA SAN LORE
 NZO<br /><br />20<br />ROUGE, OSTERIA IN SAN LORENZO<br />Piazza dei Siculi
 ,7<br />06 44362682<br /><span id="cloak23042">Questo indirizzo email è pro
 tetto dagli spambots. È necessario abilitare JavaScript per vederlo.</span>
 <script type='text/javascript'>
 //<!--
 document.getElementById('cloak2304
 2').innerHTML = '';
 var prefix = '&#109;a' + 'i&#108;' + '&#116;o';
 var p
 ath = 'hr' + 'ef' + '=';
 var addy23042 = '&#111;st&#101;r&#105;&#97;r&#111
 ;&#117;g&#101;' + '&#64;';
 addy23042 = addy23042 + 'gm&#97;&#105;l' + '&#4
 6;' + 'c&#111;m';
 document.getElementById('cloak23042').innerHTML += '<a '
  + path + '\'' + prefix + ':' + addy23042 + '\'>' +addy23042+'<\/a>';
 //--
 >
 </script><br />21<br />SAN LOLLO,<br />Via dei Latini, 57<br />06 494072
 6<br /><a href="https://www.facebook.com/San-Lollo-130121070373429/" target
 ="_blank">https://www.facebook.com/San-Lollo-130121070373429/</a><br />22<b
 r />BISTROT VEG&VEG cucina vegana e ve- getariana<br />Via dei Latini, 51<b
 r />06 44650403<br /><span id="cloak5148">Questo indirizzo email è protetto
  dagli spambots. È necessario abilitare JavaScript per vederlo.</span><scri
 pt type='text/javascript'>
 //<!--
 document.getElementById('cloak5148').in
 nerHTML = '';
 var prefix = '&#109;a' + 'i&#108;' + '&#116;o';
 var path = 
 'hr' + 'ef' + '=';
 var addy5148 = '&#111;st&#101;r&#105;&#97;r&#111;&#117;
 g&#101;' + '&#64;';
 addy5148 = addy5148 + 'gm&#97;&#105;l' + '&#46;' + 'c&
 #111;m';
 document.getElementById('cloak5148').innerHTML += '<a ' + path + 
 '\'' + prefix + ':' + addy5148 + '\'>' +addy5148+'<\/a>';
 //-->
 </script>
 <br /><br />---------------------------------<br />ZONA TIBURTINA<br /><br 
 />23<br />LA FRASCHETTA NEL PARCO<br />Via Tiburtina, 949<br />06 83661593<
 br /><span id="cloak37976">Questo indirizzo email è protetto dagli spambots
 . È necessario abilitare JavaScript per vederlo.</span><script type='text/j
 avascript'>
 //<!--
 document.getElementById('cloak37976').innerHTML = '';

  var prefix = '&#109;a' + 'i&#108;' + '&#116;o';
 var path = 'hr' + 'ef' + 
 '=';
 var addy37976 = 'c&#97;lc&#105;&#111;.p&#101;p&#101;' + '&#64;';
 add
 y37976 = addy37976 + 'gm&#97;&#105;l' + '&#46;' + 'c&#111;m';
 document.get
 ElementById('cloak37976').innerHTML += '<a ' + path + '\'' + prefix + ':' +
  addy37976 + '\'>' +addy37976+'<\/a>';
 //-->
 </script><br />24<br />LA CA
 CCIARELLA<br />Via di Casal Bruciato, 11<br />0643588578<br /><span id="clo
 ak89538">Questo indirizzo email è protetto dagli spambots. È necessario abi
 litare JavaScript per vederlo.</span><script type='text/javascript'>
 //<!-
 -
 document.getElementById('cloak89538').innerHTML = '';
 var prefix = '&#1
 09;a' + 'i&#108;' + '&#116;o';
 var path = 'hr' + 'ef' + '=';
 var addy8953
 8 = 'c&#97;cc&#105;&#97;r&#101;ll&#97;' + '&#64;';
 addy89538 = addy89538 +
  't&#105;sc&#97;l&#105;' + '&#46;' + '&#105;t';
 document.getElementById('c
 loak89538').innerHTML += '<a ' + path + '\'' + prefix + ':' + addy89538 + '
 \'>' +addy89538+'<\/a>';
 //-->
 </script><br />25<br />LA MOSCA BIANCA<br 
 />Via di Pietralata, 459<br />06 4503707<br /><br />-----------------------
 ----------<br />ZONA TUSCOLANA<br /><br />26<br />GALLO UMBRO<br />Via Tusc
 olana, 283<br />06 45686070<br /><a href="http://www.galloumbro.axeleroweb.
 it/" target="_blank">http://www.galloumbro.axeleroweb.it/</a><br />27<br />
 C'ERA UNA VOLTA...<br />Via Fabio Numerio, 54/62<br />Tel. 06 784 0735<br /
 ><a href="http://www.ceraunavolta.it" target="_blank">http://www.ceraunavol
 ta.it</a><br /><br />---------------------------------<br />ZONA CENTOCELLE
 <br /><br />28<br />PROLOCO DOL<br />Via Domenico Panaroli, 35<br />06 2430
 0765<br /><span id="cloak25966">Questo indirizzo email è protetto dagli spa
 mbots. È necessario abilitare JavaScript per vederlo.</span><script type='t
 ext/javascript'>
 //<!--
 document.getElementById('cloak25966').innerHTML =
  '';
 var prefix = '&#109;a' + 'i&#108;' + '&#116;o';
 var path = 'hr' + 'e
 f' + '=';
 var addy25966 = 'L&#111;c&#97;l&#97;v&#111;r&#111;76' + '&#64;';
 
 addy25966 = addy25966 + 'gm&#97;&#105;l' + '&#46;' + 'c&#111;m';
 documen
 t.getElementById('cloak25966').innerHTML += '<a ' + path + '\'' + prefix + 
 ':' + addy25966 + '\'>' +addy25966+'<\/a>';
 //-->
 </script><br /><br />29
 <br />RISTORANTE L’ARTISTA<br />Via delle Robinie, 45 a/b<br />06 64810895<
 br /><span id="cloak97146">Questo indirizzo email è protetto dagli spambots
 . È necessario abilitare JavaScript per vederlo.</span><script type='text/j
 avascript'>
 //<!--
 document.getElementById('cloak97146').innerHTML = '';

  var prefix = '&#109;a' + 'i&#108;' + '&#116;o';
 var path = 'hr' + 'ef' + 
 '=';
 var addy97146 = 'r&#105;st&#111;r&#97;nt&#101;&#97;rt&#105;st&#97;' +
  '&#64;';
 addy97146 = addy97146 + 'gm&#97;&#105;l' + '&#46;' + 'c&#111;m';
 
 document.getElementById('cloak97146').innerHTML += '<a ' + path + '\'' + 
 prefix + ':' + addy97146 + '\'>' +addy97146+'<\/a>';
 //-->
 </script><br /
 >30<br />INFERNOTTO – ENOTECA RISTORANTE<br />Via del Pigneto, 31-33<br />0
 6 70304040<br /><a href="http://www.infernotto.net" target="_blank">http://
 www.infernotto.net</a><br />---------------------------------</p>
DTSTAMP:20260422T012905Z
DTSTART;TZID=Europe/Rome;VALUE=DATE:20171210
DTEND;TZID=Europe/Rome;VALUE=DATE:20171211
SEQUENCE:0
TRANSP:OPAQUE
END:VEVENT
END:VCALENDAR