BEGIN:VCALENDAR
VERSION:2.0
PRODID:-//jEvents 2.0 for Joomla//EN
CALSCALE:GREGORIAN
METHOD:PUBLISH
BEGIN:VTIMEZONE
TZID:Europe/Rome
BEGIN:STANDARD
DTSTART:20141026T020000
RDATE:20150329T030000
TZOFFSETFROM:+0200
TZOFFSETTO:+0100
TZNAME:Europe/Rome CET
END:STANDARD
BEGIN:STANDARD
DTSTART:20151025T020000
RDATE:20160327T030000
TZOFFSETFROM:+0200
TZOFFSETTO:+0100
TZNAME:Europe/Rome CET
END:STANDARD
BEGIN:STANDARD
DTSTART:20161030T020000
RDATE:20170326T030000
TZOFFSETFROM:+0200
TZOFFSETTO:+0100
TZNAME:Europe/Rome CET
END:STANDARD
BEGIN:STANDARD
DTSTART:20171029T020000
RDATE:20180325T030000
TZOFFSETFROM:+0200
TZOFFSETTO:+0100
TZNAME:Europe/Rome CET
END:STANDARD
BEGIN:STANDARD
DTSTART:20181028T020000
RDATE:20190331T030000
TZOFFSETFROM:+0200
TZOFFSETTO:+0100
TZNAME:Europe/Rome CET
END:STANDARD
BEGIN:STANDARD
DTSTART:20191027T020000
RDATE:20200329T030000
TZOFFSETFROM:+0200
TZOFFSETTO:+0100
TZNAME:Europe/Rome CET
END:STANDARD
BEGIN:STANDARD
DTSTART:20201025T020000
RDATE:20210328T030000
TZOFFSETFROM:+0200
TZOFFSETTO:+0100
TZNAME:Europe/Rome CET
END:STANDARD
BEGIN:STANDARD
DTSTART:20211031T020000
RDATE:20220327T030000
TZOFFSETFROM:+0200
TZOFFSETTO:+0100
TZNAME:Europe/Rome CET
END:STANDARD
BEGIN:STANDARD
DTSTART:20221030T020000
RDATE:20230326T030000
TZOFFSETFROM:+0200
TZOFFSETTO:+0100
TZNAME:Europe/Rome CET
END:STANDARD
BEGIN:STANDARD
DTSTART:20231029T020000
RDATE:20240331T030000
TZOFFSETFROM:+0200
TZOFFSETTO:+0100
TZNAME:Europe/Rome CET
END:STANDARD
BEGIN:STANDARD
DTSTART:20241027T020000
RDATE:20250330T030000
TZOFFSETFROM:+0200
TZOFFSETTO:+0100
TZNAME:Europe/Rome CET
END:STANDARD
BEGIN:STANDARD
DTSTART:20251026T020000
RDATE:20260329T030000
TZOFFSETFROM:+0200
TZOFFSETTO:+0100
TZNAME:Europe/Rome CET
END:STANDARD
BEGIN:STANDARD
DTSTART:20261025T020000
RDATE:20270328T030000
TZOFFSETFROM:+0200
TZOFFSETTO:+0100
TZNAME:Europe/Rome CET
END:STANDARD
BEGIN:STANDARD
DTSTART:20271031T020000
RDATE:20280326T030000
TZOFFSETFROM:+0200
TZOFFSETTO:+0100
TZNAME:Europe/Rome CET
END:STANDARD
BEGIN:STANDARD
DTSTART:20281029T020000
RDATE:20290325T030000
TZOFFSETFROM:+0200
TZOFFSETTO:+0100
TZNAME:Europe/Rome CET
END:STANDARD
BEGIN:STANDARD
DTSTART:20291028T020000
RDATE:20300331T030000
TZOFFSETFROM:+0200
TZOFFSETTO:+0100
TZNAME:Europe/Rome CET
END:STANDARD
BEGIN:STANDARD
DTSTART:20301027T020000
RDATE:20310330T030000
TZOFFSETFROM:+0200
TZOFFSETTO:+0100
TZNAME:Europe/Rome CET
END:STANDARD
BEGIN:STANDARD
DTSTART:20311026T020000
RDATE:20320328T030000
TZOFFSETFROM:+0200
TZOFFSETTO:+0100
TZNAME:Europe/Rome CET
END:STANDARD
BEGIN:STANDARD
DTSTART:20321031T020000
RDATE:20330327T030000
TZOFFSETFROM:+0200
TZOFFSETTO:+0100
TZNAME:Europe/Rome CET
END:STANDARD
BEGIN:STANDARD
DTSTART:20331030T020000
RDATE:20340326T030000
TZOFFSETFROM:+0200
TZOFFSETTO:+0100
TZNAME:Europe/Rome CET
END:STANDARD
BEGIN:STANDARD
DTSTART:20341029T020000
RDATE:20350325T030000
TZOFFSETFROM:+0200
TZOFFSETTO:+0100
TZNAME:Europe/Rome CET
END:STANDARD
BEGIN:STANDARD
DTSTART:20351028T020000
RDATE:20360330T030000
TZOFFSETFROM:+0200
TZOFFSETTO:+0100
TZNAME:Europe/Rome CET
END:STANDARD
BEGIN:STANDARD
DTSTART:20361026T020000
RDATE:20370329T030000
TZOFFSETFROM:+0200
TZOFFSETTO:+0100
TZNAME:Europe/Rome CET
END:STANDARD
BEGIN:STANDARD
DTSTART:20371025T020000
TZOFFSETFROM:+0200
TZOFFSETTO:+0100
TZNAME:Europe/Rome CET
END:STANDARD
BEGIN:DAYLIGHT
DTSTART:20140519T000000
RDATE:20141026T020000
TZOFFSETFROM:+0100
TZOFFSETTO:+0200
TZNAME:Europe/Rome CEST
END:DAYLIGHT
BEGIN:DAYLIGHT
DTSTART:20150329T030000
RDATE:20151025T020000
TZOFFSETFROM:+0100
TZOFFSETTO:+0200
TZNAME:Europe/Rome CEST
END:DAYLIGHT
BEGIN:DAYLIGHT
DTSTART:20160327T030000
RDATE:20161030T020000
TZOFFSETFROM:+0100
TZOFFSETTO:+0200
TZNAME:Europe/Rome CEST
END:DAYLIGHT
BEGIN:DAYLIGHT
DTSTART:20170326T030000
RDATE:20171029T020000
TZOFFSETFROM:+0100
TZOFFSETTO:+0200
TZNAME:Europe/Rome CEST
END:DAYLIGHT
BEGIN:DAYLIGHT
DTSTART:20180325T030000
RDATE:20181028T020000
TZOFFSETFROM:+0100
TZOFFSETTO:+0200
TZNAME:Europe/Rome CEST
END:DAYLIGHT
BEGIN:DAYLIGHT
DTSTART:20190331T030000
RDATE:20191027T020000
TZOFFSETFROM:+0100
TZOFFSETTO:+0200
TZNAME:Europe/Rome CEST
END:DAYLIGHT
BEGIN:DAYLIGHT
DTSTART:20200329T030000
RDATE:20201025T020000
TZOFFSETFROM:+0100
TZOFFSETTO:+0200
TZNAME:Europe/Rome CEST
END:DAYLIGHT
BEGIN:DAYLIGHT
DTSTART:20210328T030000
RDATE:20211031T020000
TZOFFSETFROM:+0100
TZOFFSETTO:+0200
TZNAME:Europe/Rome CEST
END:DAYLIGHT
BEGIN:DAYLIGHT
DTSTART:20220327T030000
RDATE:20221030T020000
TZOFFSETFROM:+0100
TZOFFSETTO:+0200
TZNAME:Europe/Rome CEST
END:DAYLIGHT
BEGIN:DAYLIGHT
DTSTART:20230326T030000
RDATE:20231029T020000
TZOFFSETFROM:+0100
TZOFFSETTO:+0200
TZNAME:Europe/Rome CEST
END:DAYLIGHT
BEGIN:DAYLIGHT
DTSTART:20240331T030000
RDATE:20241027T020000
TZOFFSETFROM:+0100
TZOFFSETTO:+0200
TZNAME:Europe/Rome CEST
END:DAYLIGHT
BEGIN:DAYLIGHT
DTSTART:20250330T030000
RDATE:20251026T020000
TZOFFSETFROM:+0100
TZOFFSETTO:+0200
TZNAME:Europe/Rome CEST
END:DAYLIGHT
BEGIN:DAYLIGHT
DTSTART:20260329T030000
RDATE:20261025T020000
TZOFFSETFROM:+0100
TZOFFSETTO:+0200
TZNAME:Europe/Rome CEST
END:DAYLIGHT
BEGIN:DAYLIGHT
DTSTART:20270328T030000
RDATE:20271031T020000
TZOFFSETFROM:+0100
TZOFFSETTO:+0200
TZNAME:Europe/Rome CEST
END:DAYLIGHT
BEGIN:DAYLIGHT
DTSTART:20280326T030000
RDATE:20281029T020000
TZOFFSETFROM:+0100
TZOFFSETTO:+0200
TZNAME:Europe/Rome CEST
END:DAYLIGHT
BEGIN:DAYLIGHT
DTSTART:20290325T030000
RDATE:20291028T020000
TZOFFSETFROM:+0100
TZOFFSETTO:+0200
TZNAME:Europe/Rome CEST
END:DAYLIGHT
BEGIN:DAYLIGHT
DTSTART:20300331T030000
RDATE:20301027T020000
TZOFFSETFROM:+0100
TZOFFSETTO:+0200
TZNAME:Europe/Rome CEST
END:DAYLIGHT
BEGIN:DAYLIGHT
DTSTART:20310330T030000
RDATE:20311026T020000
TZOFFSETFROM:+0100
TZOFFSETTO:+0200
TZNAME:Europe/Rome CEST
END:DAYLIGHT
BEGIN:DAYLIGHT
DTSTART:20320328T030000
RDATE:20321031T020000
TZOFFSETFROM:+0100
TZOFFSETTO:+0200
TZNAME:Europe/Rome CEST
END:DAYLIGHT
BEGIN:DAYLIGHT
DTSTART:20330327T030000
RDATE:20331030T020000
TZOFFSETFROM:+0100
TZOFFSETTO:+0200
TZNAME:Europe/Rome CEST
END:DAYLIGHT
BEGIN:DAYLIGHT
DTSTART:20340326T030000
RDATE:20341029T020000
TZOFFSETFROM:+0100
TZOFFSETTO:+0200
TZNAME:Europe/Rome CEST
END:DAYLIGHT
BEGIN:DAYLIGHT
DTSTART:20350325T030000
RDATE:20351028T020000
TZOFFSETFROM:+0100
TZOFFSETTO:+0200
TZNAME:Europe/Rome CEST
END:DAYLIGHT
BEGIN:DAYLIGHT
DTSTART:20360330T030000
RDATE:20361026T020000
TZOFFSETFROM:+0100
TZOFFSETTO:+0200
TZNAME:Europe/Rome CEST
END:DAYLIGHT
BEGIN:DAYLIGHT
DTSTART:20370329T030000
RDATE:20371025T020000
TZOFFSETFROM:+0100
TZOFFSETTO:+0200
TZNAME:Europe/Rome CEST
END:DAYLIGHT
END:VTIMEZONE
BEGIN:VEVENT
UID:d0b48177dd132126c51817de6402e25b
CATEGORIES:.
SUMMARY:20/22- Arthug Cairo (mostra)
DESCRIPTION;ENCODING=QUOTED-PRINTABLE:<p>Ambasciata della Repubblica Araba d’Egitto<br />Ufficio Culturale e Scie
 ntifico<br />Scienza – Cultura – Dialogo<br /><br />ArtisticaMente, Associa
 zione Culturale<br /><br /><br />Il Consigliere Culturale dell'Ambasciata d
 'Egitto<br />Prof. Abdelrazek Fawky<br /><br />e il Presidente dell'Associa
 zione Culturale ArtisticaMente<br />Dott. Carmine Perito<br /><br />present
 ano<br />ARTHUG<br />ROMA - CAIRO<br /><br />CONCORSO E MOSTRA DI ARTI FIGU
 RATIVE E PLASTICHE<br />20 – 22 MAGGIO 2015<br /><br />Ufficio Culturale e 
 Scientifico della Repubblica Araba d'Egitto<br />Via delle Terme di Traiano
  13, Roma<br /><br /><br />inaugurazione che si terrà<br />Mercoledì 20 Mag
 gio 2015 alle ore 18.00<br /><br />La mostra rimarrà aperta fino a Venerdì 
 22 Maggio 2015, dalle ore 10.00 alle 17.00.<br /><br />I giorni Giovedì 21 
 e Venerdì 22 Maggio prevedono un’apertura straordinaria della mostra dalle 
 ore 18.00 alle 21.00, per godere nello splendido giardino dell’Ufficio Cult
 urale di un programma di arte, musica, folklore, moda e magia.<br /><br /><
 br />Ufficio Culturale e Scientifico Egiziano<br />Via delle Terme di Traia
 no 13, Roma - Tel. 06 4872302 Fax. 06 4872351<br />E-mail: <span id="cloak8
 1464">Questo indirizzo email è protetto dagli spambots. È necessario abilit
 are JavaScript per vederlo.</span><script type='text/javascript'>
 //<!--
 
 document.getElementById('cloak81464').innerHTML = '';
 var prefix = '&#109;
 a' + 'i&#108;' + '&#116;o';
 var path = 'hr' + 'ef' + '=';
 var addy81464 =
  'c&#117;&#111;-&#105;t' + '&#64;';
 addy81464 = addy81464 + 'm&#111;h&#101
 ;-c&#97;sm' + '&#46;' + '&#101;d&#117;' + '&#46;' + '&#101;g';
 document.ge
 tElementById('cloak81464').innerHTML += '<a ' + path + '\'' + prefix + ':' 
 + addy81464 + '\'>' +addy81464+'<\/a>';
 //-->
 </script> - <span id="cloak
 2781">Questo indirizzo email è protetto dagli spambots. È necessario abilit
 are JavaScript per vederlo.</span><script type='text/javascript'>
 //<!--
 
 document.getElementById('cloak2781').innerHTML = '';
 var prefix = '&#109;a
 ' + 'i&#108;' + '&#116;o';
 var path = 'hr' + 'ef' + '=';
 var addy2781 = '
 &#117;ffc&#117;lt&#117;r&#97;l&#101;g&#105;z&#105;&#97;n&#111;' + '&#64;';

  addy2781 = addy2781 + 'y&#97;h&#111;&#111;' + '&#46;' + '&#105;t';
 docume
 nt.getElementById('cloak2781').innerHTML += '<a ' + path + '\'' + prefix + 
 ':' + addy2781 + '\'>' +addy2781+'<\/a>';
 //-->
 </script><br />Account FA
 CEBOOK: ufficioculturalegizianoitalia - Contatto Skype: Egyptian Cultural O
 ffice<br />-------------<br /><br />Il Presidente dell'Associazione Cultura
 le ArtisticaMente, Dott. Carmine Perito ed il Consigliere Culturale dell'Am
 basciata d'Egitto, Professor Abdelrazek Fawky <br /><br />sono lieti di inv
 itarla mercoledì 20 Maggio 2015 alle ore 18.00 al vernissage del Concorso A
 rtistico ARTHUG ROMA - CAIRO<br /><br />presso l'Ufficio Culturale e Scient
 ifico della Repubblica Araba d'Egitto <br /><br />Via delle Terme di Traian
 o 13, Roma<br /><br />Settori artistici: Fotografia, Pittura, Disegno, Illu
 strazione, Fumetto, Grafica, Arti Plastiche, Scultura/installazione, Incisi
 one<br /><br />Il concorso è un'iniziativa a carattere internazionale che v
 ede protagonista l'Egitto. Le opere verranno esposte nelle giornate del 20,
  21 e 22 Maggio al termine delle quali è prevista la proclamazione dei prim
 i tre vincitori da una qualificata giuria tecnica, composta dal Consigliere
  e Professore Abdelrazek Fawky, il Professor Alfio Mongelli, il Professor G
 iuseppe Fanfoni, il Dottor Rosario Sprovieri, il Maestro Ennio Calabria, il
  Maestro Turi Sottili ed il Maestro Lillo Messina. <br />Le tre giornate ha
 nno l'obiettivo primario di ricondurre il Mediterraneo alla sua naturale vo
 cazione di spazio comune di convivenza e condivisione di interessi cultural
 i e di creare un terreno fertile di incontro e confronto tra i vari Paesi, 
 culture e tradizioni che coabitano nel bacino Euro-Mediterraneo.<br /><br /
 >PROGRAMMA<br /><br />Mercoledì 20 maggio, dalle ore 18.00 – Inaugurazione 
 ufficiale della mostra e presentazione della giuria, a seguire spettacolo d
 i bolle di sapone giganti di Stefano Tocchio e Aurora Ilari<br /><br />Giov
 edì 21 Maggio, dalle ore 18.00 – CYWKA Duo acustico, Tiziana Stefanelli e R
 iccardo Paci ed esibizione di folklore del gruppo Apsaras Bollywood Dance d
 i Valentina Manduchi<br /><br />Venerdì 22 Maggio, dalle ore 18.00 – Presen
 tazione della collezione NEW WORLD – Tahm Couture della stilista Nathalie A
 ltomonte, esibizione di folklore della ballerina Giorgia Vicenti e concerto
  di CYKWA Duo acustico; seguirà la proclamazione dei tre vincitori del Conc
 orso.<br /><br />La mostra rimarrà aperta al pubblico fino a venerdì 22 Mag
 gio dalle ore 10.00 alle ore 17.00<br />I giorni Giovedì 21 e Venerdì 22 pr
 evedono un'apertura straordinaria della mostra dalle ore 18.00 alle 21.00, 
 per godere, nello splendido giardino dell'Ufficio Culturale di un piccolo p
 rogramma di intrattenimento serale.<br /><br />ingresso gratuito</p>
DTSTAMP:20260422T032409Z
DTSTART;TZID=Europe/Rome;VALUE=DATE:20150520
DTEND;TZID=Europe/Rome;VALUE=DATE:20150521
SEQUENCE:0
TRANSP:OPAQUE
END:VEVENT
END:VCALENDAR