BEGIN:VCALENDAR
VERSION:2.0
PRODID:-//jEvents 2.0 for Joomla//EN
CALSCALE:GREGORIAN
METHOD:PUBLISH
BEGIN:VTIMEZONE
TZID:Europe/Rome
BEGIN:STANDARD
DTSTART:20140317T000100
RDATE:20140330T030000
TZOFFSETFROM:+0200
TZOFFSETTO:+0100
TZNAME:Europe/Rome CET
END:STANDARD
BEGIN:STANDARD
DTSTART:20141026T020000
RDATE:20150329T030000
TZOFFSETFROM:+0200
TZOFFSETTO:+0100
TZNAME:Europe/Rome CET
END:STANDARD
BEGIN:STANDARD
DTSTART:20151025T020000
RDATE:20160327T030000
TZOFFSETFROM:+0200
TZOFFSETTO:+0100
TZNAME:Europe/Rome CET
END:STANDARD
BEGIN:STANDARD
DTSTART:20161030T020000
RDATE:20170326T030000
TZOFFSETFROM:+0200
TZOFFSETTO:+0100
TZNAME:Europe/Rome CET
END:STANDARD
BEGIN:STANDARD
DTSTART:20171029T020000
RDATE:20180325T030000
TZOFFSETFROM:+0200
TZOFFSETTO:+0100
TZNAME:Europe/Rome CET
END:STANDARD
BEGIN:STANDARD
DTSTART:20181028T020000
RDATE:20190331T030000
TZOFFSETFROM:+0200
TZOFFSETTO:+0100
TZNAME:Europe/Rome CET
END:STANDARD
BEGIN:STANDARD
DTSTART:20191027T020000
RDATE:20200329T030000
TZOFFSETFROM:+0200
TZOFFSETTO:+0100
TZNAME:Europe/Rome CET
END:STANDARD
BEGIN:STANDARD
DTSTART:20201025T020000
RDATE:20210328T030000
TZOFFSETFROM:+0200
TZOFFSETTO:+0100
TZNAME:Europe/Rome CET
END:STANDARD
BEGIN:STANDARD
DTSTART:20211031T020000
RDATE:20220327T030000
TZOFFSETFROM:+0200
TZOFFSETTO:+0100
TZNAME:Europe/Rome CET
END:STANDARD
BEGIN:STANDARD
DTSTART:20221030T020000
RDATE:20230326T030000
TZOFFSETFROM:+0200
TZOFFSETTO:+0100
TZNAME:Europe/Rome CET
END:STANDARD
BEGIN:STANDARD
DTSTART:20231029T020000
RDATE:20240331T030000
TZOFFSETFROM:+0200
TZOFFSETTO:+0100
TZNAME:Europe/Rome CET
END:STANDARD
BEGIN:STANDARD
DTSTART:20241027T020000
RDATE:20250330T030000
TZOFFSETFROM:+0200
TZOFFSETTO:+0100
TZNAME:Europe/Rome CET
END:STANDARD
BEGIN:STANDARD
DTSTART:20251026T020000
RDATE:20260329T030000
TZOFFSETFROM:+0200
TZOFFSETTO:+0100
TZNAME:Europe/Rome CET
END:STANDARD
BEGIN:STANDARD
DTSTART:20261025T020000
RDATE:20270328T030000
TZOFFSETFROM:+0200
TZOFFSETTO:+0100
TZNAME:Europe/Rome CET
END:STANDARD
BEGIN:STANDARD
DTSTART:20271031T020000
RDATE:20280326T030000
TZOFFSETFROM:+0200
TZOFFSETTO:+0100
TZNAME:Europe/Rome CET
END:STANDARD
BEGIN:STANDARD
DTSTART:20281029T020000
RDATE:20290325T030000
TZOFFSETFROM:+0200
TZOFFSETTO:+0100
TZNAME:Europe/Rome CET
END:STANDARD
BEGIN:STANDARD
DTSTART:20291028T020000
RDATE:20300331T030000
TZOFFSETFROM:+0200
TZOFFSETTO:+0100
TZNAME:Europe/Rome CET
END:STANDARD
BEGIN:STANDARD
DTSTART:20301027T020000
RDATE:20310330T030000
TZOFFSETFROM:+0200
TZOFFSETTO:+0100
TZNAME:Europe/Rome CET
END:STANDARD
BEGIN:STANDARD
DTSTART:20311026T020000
RDATE:20320328T030000
TZOFFSETFROM:+0200
TZOFFSETTO:+0100
TZNAME:Europe/Rome CET
END:STANDARD
BEGIN:STANDARD
DTSTART:20321031T020000
RDATE:20330327T030000
TZOFFSETFROM:+0200
TZOFFSETTO:+0100
TZNAME:Europe/Rome CET
END:STANDARD
BEGIN:STANDARD
DTSTART:20331030T020000
RDATE:20340326T030000
TZOFFSETFROM:+0200
TZOFFSETTO:+0100
TZNAME:Europe/Rome CET
END:STANDARD
BEGIN:STANDARD
DTSTART:20341029T020000
RDATE:20350325T030000
TZOFFSETFROM:+0200
TZOFFSETTO:+0100
TZNAME:Europe/Rome CET
END:STANDARD
BEGIN:STANDARD
DTSTART:20351028T020000
RDATE:20360330T030000
TZOFFSETFROM:+0200
TZOFFSETTO:+0100
TZNAME:Europe/Rome CET
END:STANDARD
BEGIN:STANDARD
DTSTART:20361026T020000
RDATE:20370329T030000
TZOFFSETFROM:+0200
TZOFFSETTO:+0100
TZNAME:Europe/Rome CET
END:STANDARD
BEGIN:STANDARD
DTSTART:20371025T020000
TZOFFSETFROM:+0200
TZOFFSETTO:+0100
TZNAME:Europe/Rome CET
END:STANDARD
BEGIN:DAYLIGHT
DTSTART:20140330T030000
RDATE:20141026T020000
TZOFFSETFROM:+0100
TZOFFSETTO:+0200
TZNAME:Europe/Rome CEST
END:DAYLIGHT
BEGIN:DAYLIGHT
DTSTART:20150329T030000
RDATE:20151025T020000
TZOFFSETFROM:+0100
TZOFFSETTO:+0200
TZNAME:Europe/Rome CEST
END:DAYLIGHT
BEGIN:DAYLIGHT
DTSTART:20160327T030000
RDATE:20161030T020000
TZOFFSETFROM:+0100
TZOFFSETTO:+0200
TZNAME:Europe/Rome CEST
END:DAYLIGHT
BEGIN:DAYLIGHT
DTSTART:20170326T030000
RDATE:20171029T020000
TZOFFSETFROM:+0100
TZOFFSETTO:+0200
TZNAME:Europe/Rome CEST
END:DAYLIGHT
BEGIN:DAYLIGHT
DTSTART:20180325T030000
RDATE:20181028T020000
TZOFFSETFROM:+0100
TZOFFSETTO:+0200
TZNAME:Europe/Rome CEST
END:DAYLIGHT
BEGIN:DAYLIGHT
DTSTART:20190331T030000
RDATE:20191027T020000
TZOFFSETFROM:+0100
TZOFFSETTO:+0200
TZNAME:Europe/Rome CEST
END:DAYLIGHT
BEGIN:DAYLIGHT
DTSTART:20200329T030000
RDATE:20201025T020000
TZOFFSETFROM:+0100
TZOFFSETTO:+0200
TZNAME:Europe/Rome CEST
END:DAYLIGHT
BEGIN:DAYLIGHT
DTSTART:20210328T030000
RDATE:20211031T020000
TZOFFSETFROM:+0100
TZOFFSETTO:+0200
TZNAME:Europe/Rome CEST
END:DAYLIGHT
BEGIN:DAYLIGHT
DTSTART:20220327T030000
RDATE:20221030T020000
TZOFFSETFROM:+0100
TZOFFSETTO:+0200
TZNAME:Europe/Rome CEST
END:DAYLIGHT
BEGIN:DAYLIGHT
DTSTART:20230326T030000
RDATE:20231029T020000
TZOFFSETFROM:+0100
TZOFFSETTO:+0200
TZNAME:Europe/Rome CEST
END:DAYLIGHT
BEGIN:DAYLIGHT
DTSTART:20240331T030000
RDATE:20241027T020000
TZOFFSETFROM:+0100
TZOFFSETTO:+0200
TZNAME:Europe/Rome CEST
END:DAYLIGHT
BEGIN:DAYLIGHT
DTSTART:20250330T030000
RDATE:20251026T020000
TZOFFSETFROM:+0100
TZOFFSETTO:+0200
TZNAME:Europe/Rome CEST
END:DAYLIGHT
BEGIN:DAYLIGHT
DTSTART:20260329T030000
RDATE:20261025T020000
TZOFFSETFROM:+0100
TZOFFSETTO:+0200
TZNAME:Europe/Rome CEST
END:DAYLIGHT
BEGIN:DAYLIGHT
DTSTART:20270328T030000
RDATE:20271031T020000
TZOFFSETFROM:+0100
TZOFFSETTO:+0200
TZNAME:Europe/Rome CEST
END:DAYLIGHT
BEGIN:DAYLIGHT
DTSTART:20280326T030000
RDATE:20281029T020000
TZOFFSETFROM:+0100
TZOFFSETTO:+0200
TZNAME:Europe/Rome CEST
END:DAYLIGHT
BEGIN:DAYLIGHT
DTSTART:20290325T030000
RDATE:20291028T020000
TZOFFSETFROM:+0100
TZOFFSETTO:+0200
TZNAME:Europe/Rome CEST
END:DAYLIGHT
BEGIN:DAYLIGHT
DTSTART:20300331T030000
RDATE:20301027T020000
TZOFFSETFROM:+0100
TZOFFSETTO:+0200
TZNAME:Europe/Rome CEST
END:DAYLIGHT
BEGIN:DAYLIGHT
DTSTART:20310330T030000
RDATE:20311026T020000
TZOFFSETFROM:+0100
TZOFFSETTO:+0200
TZNAME:Europe/Rome CEST
END:DAYLIGHT
BEGIN:DAYLIGHT
DTSTART:20320328T030000
RDATE:20321031T020000
TZOFFSETFROM:+0100
TZOFFSETTO:+0200
TZNAME:Europe/Rome CEST
END:DAYLIGHT
BEGIN:DAYLIGHT
DTSTART:20330327T030000
RDATE:20331030T020000
TZOFFSETFROM:+0100
TZOFFSETTO:+0200
TZNAME:Europe/Rome CEST
END:DAYLIGHT
BEGIN:DAYLIGHT
DTSTART:20340326T030000
RDATE:20341029T020000
TZOFFSETFROM:+0100
TZOFFSETTO:+0200
TZNAME:Europe/Rome CEST
END:DAYLIGHT
BEGIN:DAYLIGHT
DTSTART:20350325T030000
RDATE:20351028T020000
TZOFFSETFROM:+0100
TZOFFSETTO:+0200
TZNAME:Europe/Rome CEST
END:DAYLIGHT
BEGIN:DAYLIGHT
DTSTART:20360330T030000
RDATE:20361026T020000
TZOFFSETFROM:+0100
TZOFFSETTO:+0200
TZNAME:Europe/Rome CEST
END:DAYLIGHT
BEGIN:DAYLIGHT
DTSTART:20370329T030000
RDATE:20371025T020000
TZOFFSETFROM:+0100
TZOFFSETTO:+0200
TZNAME:Europe/Rome CEST
END:DAYLIGHT
END:VTIMEZONE
BEGIN:VEVENT
UID:1429120105evt2903
CATEGORIES:.
SUMMARY:18/27- Videozoom Kurdistan Iraq (film)
DESCRIPTION;ENCODING=QUOTED-PRINTABLE:<strong>Museo di Roma in Trastevere - Videozoom: Kurdistan Iraq<br />18-27 
 marzo 2015</strong><br /><br />Sala 1 &egrave; lieta di presentare la rasse
 gna &ldquo;Videozoom:Kurdistan Iraq - Le piccole cose che contano di pi&ugr
 ave;&rdquo; a cura di Rebeen Hamarafiq che si terr&agrave; al Museo di Roma
  in Trastevere dal 18 marzo 2015. Questo progetto rappresenta la prima visi
 one in Italia di opere di video artisti curdi-iracheni della giovane genera
 zione. Si ringrazia l&rsquo;Ambasciata della Repubblica di Iraq per il suo 
 sostegno alla manifestazione.<br /><br />----------------------<br /><br />
 Roma Capitale, Assessorato alla Cultura e Turismo, Sovrintendenza Capitolin
 a ai Beni Culturali<br />Musei in Comune, Museo di Roma in Trastevere<br />
 Ambasciata dell&#39;Iraq<br />Sala1<br /><br /><strong>Giovanna Marinelli</
 strong><br />Assessore alla Cultura e al Tursimo<br /><br /><strong>Claudio
  Parisi Presicce</strong><br />Sovrintendente Capitolino ai Beni Culturali 
 <br /><br />Sono lieti di inviarla all&#39;inaugurazione della rassegna<br 
 /><strong>VideoZoom <br />Kurdistan Iraq<br />Le piccole cose che contano</
 strong><br /><br />Mercoledi 18 Marzo 2015 ore 18:00<br />Museo di Roma in 
 Trastevere &ndash; Piazza S. Egidio 1/b, 00153 - Roma<br /><br />La rassegn
 a prosegue fino al 27 marzo<br /><br />Sponsor Sistema Musei in Comune<br /
 >con la collaborazione di <br />Master Card Princeless Rome<br />Vodafone<b
 r />Z&egrave;tema servizi museali progetto cultura<br /><br />La mostra &eg
 rave; inserita nel sistema<br />Romaexhibit<br /><br />Per info:<br />Sala 
 1 - Centro Internazionale d&#39;Arte Contemporanea<br />Piazza di Porta San
  Giovanni, 10 - 00185 - Roma<br />Tel. 06 7008691 - 339 2397762<br />E-mail
 : <span id="cloak29670">Questo indirizzo email è protetto dagli spambots. È
  necessario abilitare JavaScript per vederlo.</span><script type='text/java
 script'>
 //<!--
 document.getElementById('cloak29670').innerHTML = '';
 va
 r prefix = '&#109;a' + 'i&#108;' + '&#116;o';
 var path = 'hr' + 'ef' + '='
 ;
 var addy29670 = 's&#97;l&#97;&#117;n&#111;' + '&#64;';
 addy29670 = addy
 29670 + 's&#97;l&#97;&#117;n&#111;' + '&#46;' + 'c&#111;m';
 document.getEl
 ementById('cloak29670').innerHTML += '<a ' + path + '\'' + prefix + ':' + a
 ddy29670 + '\'>' +addy29670+'<\/a>';
 //-->
 </script> - <span id="cloak769
 9">Questo indirizzo email è protetto dagli spambots. È necessario abilitare
  JavaScript per vederlo.</span><script type='text/javascript'>
 //<!--
 doc
 ument.getElementById('cloak7699').innerHTML = '';
 var prefix = '&#109;a' +
  'i&#108;' + '&#116;o';
 var path = 'hr' + 'ef' + '=';
 var addy7699 = 's&#
 97;l&#97;_&#117;' + '&#64;';
 addy7699 = addy7699 + 'h&#111;tm&#97;&#105;l'
  + '&#46;' + 'c&#111;m';
 document.getElementById('cloak7699').innerHTML +=
  '<a ' + path + '\'' + prefix + ':' + addy7699 + '\'>' +addy7699+'<\/a>';
 
 //-->
 </script><br />Website: www.salauno.com<br />Fb: Sala 1 - Centro Int
 ernazionale d&#39;Arte Contemporanea<br /><br />--------------------------<
 br /><br />Roma Capitale, Assessorato alla Cultura e Turismo, Sovrintendenz
 a Capitolina ai Beni Culturali<br />Musei in Comune, Museo di Roma in Trast
 evere<br />Ambasciata dell&#39;Iraq<br />Sala1<br /><br /><br /><strong>Vid
 eozoom:Kurdistan Iraq<br />Le piccole cose che contano di pi&ugrave;</stron
 g><br /><br />A cura di Rebeen Hamarafiq<br /><br />Opere di Rebeen Hamaraf
 iq, Gaylan Abdullah, Rozhgar Mustafa, Sherko Abdulrazaq, Sherwan Fateh, Ava
 n Omar, Sherwan Can, Poshya Kakil<br /><br /><strong>Museo di Roma in Trast
 evere<br />Presentazione: 18 Marzo 2015 ore 18:00<br />Fino al 27 Marzo 201
 5</strong><br /><br /><strong>La videoarte sperimentale del Kurdistan Iraq 
 visibile per la prima volta in Italia</strong><br /><br /><br />Videozoom &
 egrave; un&rsquo;iniziativa &ldquo;in progress&rdquo; che intende mostrare 
 la video arte contemporanea in diverse realt&agrave; territoriali. Il proge
 tto Videozoom: Kurdistan Iraq, promosso da Roma Capitale, Assessorato alla 
 Cultura e al Turismo - Sovrintendenza Capitolina ai Beni Culturali, sostenu
 to dall&rsquo;Ambasciata della Repubblica d&rsquo;Iraq a Roma e prodotto da
 ll&rsquo;Associazione Culturale Sala 1, <strong>sar&agrave; presentato il 1
 8 Marzo nel Museo di Roma in Trastevere alla presenza dell&rsquo;Ambasciato
 re Saywan Barzani e proseguir&agrave; fino al 27 Marzo 2015.<br />Si ringra
 zia Nicola Visconti e Ali Assaf.</strong><br /><br />A seguito della rivolt
 a dell&rsquo;Iraq in Kurdistan nel 1991, la nuova situazione venutasi a cre
 are ha rappresentato per molti artisti il sogno di dare vita ad una <strong
 >produzione culturale puramente curda</strong>, prima di allora impensabile
 . C&rsquo;erano per&ograve; molti e vari ostacoli, dalla mancanza di tecnol
 ogie alla formazione degli artisti e al loro modo di pensare l&rsquo;arte. 
 La situazione riguardava la costruzione di un punto di vista limitato all&#
 39;ambiente circostante gli artisti e a volte concentrato su sogni politici
  nazionali.<br />Ma alcuni altri progetti e opere d&#39;arte iniziarono a g
 uardare indietro e a mettere in discussione aspetti importanti come questio
 ni sociali, ambientali o diversi altri argomenti che si generavano dai prec
 edenti o, ancora, qualsiasi altra tematica che potesse influenzare la loro 
 specifica identit&agrave;. <br />Questi diversi progetti conducevano in dir
 ezione opposta, alla costruzione di una maggiore consapevolezza del proprio
  posto all&#39;interno della societ&agrave; e a problemi universali in grad
 o di coinvolgere tutti invece di utilizzare l&#39;arte solo come una macchi
 na di creazione di simboli nazionali.<br />La maggior parte delle opere sce
 lte per questo progetto sono, in diversi modi, riflessioni attorno a questi
 oni quotidiane che colpiscono gli individui e la societ&agrave; e creano un
 a variet&agrave; di punti di vista, <strong>appuntando lo sguardo sulle pic
 cole cose che contano di pi&ugrave;.</strong><br /><br /><strong>Per ulteri
 ori informazioni: </strong><br />Museo di Roma in Trastevere &ndash; Piazza
  S. Egidio 1/b, 00153 - Roma<br />Dal 19 al 27 Marzo 2015 &ndash; Presentaz
 ione: 18 Marzo 2015 ore 18:00<br />Orario: da marted&igrave; a domenica dal
 le ore 10:00 alle ore 20:00 (ultimo ingresso ore 19)<br />Info: <a href="ht
 tp://www.museodiromaintrastevere.it" target="_blank">http://www.museodiroma
 intrastevere.it</a>  060608<br /><br /><br /><strong>Ufficio stampa:</stron
 g><br />Chiara Ducatelli<br />Sala 1 &ndash; Centro Internazionale d&rsquo;
 Arte Contemporanea<br /><span id="cloak37716">Questo indirizzo email è prot
 etto dagli spambots. È necessario abilitare JavaScript per vederlo.</span><
 script type='text/javascript'>
 //<!--
 document.getElementById('cloak37716
 ').innerHTML = '';
 var prefix = '&#109;a' + 'i&#108;' + '&#116;o';
 var pa
 th = 'hr' + 'ef' + '=';
 var addy37716 = 's&#97;l&#97;&#117;n&#111;' + '&#6
 4;';
 addy37716 = addy37716 + 's&#97;l&#97;&#117;n&#111;' + '&#46;' + 'c&#1
 11;m';
 document.getElementById('cloak37716').innerHTML += '<a ' + path + '
 \'' + prefix + ':' + addy37716 + '\'>' +addy37716+'<\/a>';
 //-->
 </script
 > &ndash; <a href="http://www.salauno.com " target="_blank">http://www.sala
 uno.com </a> <br />FB: Sala 1 Centro Internazionale d&rsquo;Arte Contempora
 nea <br />Tel. 06 7008691 &ndash; 339 2397762 &ndash; 333 4959015
DTSTAMP:20260422T033347Z
DTSTART;TZID=Europe/Rome:20150318T000100
DTEND;TZID=Europe/Rome:20150319T000100
SEQUENCE:0
TRANSP:OPAQUE
END:VEVENT
END:VCALENDAR