BEGIN:VCALENDAR
VERSION:2.0
PRODID:-//jEvents 2.0 for Joomla//EN
CALSCALE:GREGORIAN
METHOD:PUBLISH
BEGIN:VTIMEZONE
TZID:Europe/Rome
BEGIN:STANDARD
DTSTART:20141026T020000
RDATE:20150329T030000
TZOFFSETFROM:+0200
TZOFFSETTO:+0100
TZNAME:Europe/Rome CET
END:STANDARD
BEGIN:STANDARD
DTSTART:20151025T020000
RDATE:20160327T030000
TZOFFSETFROM:+0200
TZOFFSETTO:+0100
TZNAME:Europe/Rome CET
END:STANDARD
BEGIN:STANDARD
DTSTART:20161030T020000
RDATE:20170326T030000
TZOFFSETFROM:+0200
TZOFFSETTO:+0100
TZNAME:Europe/Rome CET
END:STANDARD
BEGIN:STANDARD
DTSTART:20171029T020000
RDATE:20180325T030000
TZOFFSETFROM:+0200
TZOFFSETTO:+0100
TZNAME:Europe/Rome CET
END:STANDARD
BEGIN:STANDARD
DTSTART:20181028T020000
RDATE:20190331T030000
TZOFFSETFROM:+0200
TZOFFSETTO:+0100
TZNAME:Europe/Rome CET
END:STANDARD
BEGIN:STANDARD
DTSTART:20191027T020000
RDATE:20200329T030000
TZOFFSETFROM:+0200
TZOFFSETTO:+0100
TZNAME:Europe/Rome CET
END:STANDARD
BEGIN:STANDARD
DTSTART:20201025T020000
RDATE:20210328T030000
TZOFFSETFROM:+0200
TZOFFSETTO:+0100
TZNAME:Europe/Rome CET
END:STANDARD
BEGIN:STANDARD
DTSTART:20211031T020000
RDATE:20220327T030000
TZOFFSETFROM:+0200
TZOFFSETTO:+0100
TZNAME:Europe/Rome CET
END:STANDARD
BEGIN:STANDARD
DTSTART:20221030T020000
RDATE:20230326T030000
TZOFFSETFROM:+0200
TZOFFSETTO:+0100
TZNAME:Europe/Rome CET
END:STANDARD
BEGIN:STANDARD
DTSTART:20231029T020000
RDATE:20240331T030000
TZOFFSETFROM:+0200
TZOFFSETTO:+0100
TZNAME:Europe/Rome CET
END:STANDARD
BEGIN:STANDARD
DTSTART:20241027T020000
RDATE:20250330T030000
TZOFFSETFROM:+0200
TZOFFSETTO:+0100
TZNAME:Europe/Rome CET
END:STANDARD
BEGIN:STANDARD
DTSTART:20251026T020000
RDATE:20260329T030000
TZOFFSETFROM:+0200
TZOFFSETTO:+0100
TZNAME:Europe/Rome CET
END:STANDARD
BEGIN:STANDARD
DTSTART:20261025T020000
RDATE:20270328T030000
TZOFFSETFROM:+0200
TZOFFSETTO:+0100
TZNAME:Europe/Rome CET
END:STANDARD
BEGIN:STANDARD
DTSTART:20271031T020000
RDATE:20280326T030000
TZOFFSETFROM:+0200
TZOFFSETTO:+0100
TZNAME:Europe/Rome CET
END:STANDARD
BEGIN:STANDARD
DTSTART:20281029T020000
RDATE:20290325T030000
TZOFFSETFROM:+0200
TZOFFSETTO:+0100
TZNAME:Europe/Rome CET
END:STANDARD
BEGIN:STANDARD
DTSTART:20291028T020000
RDATE:20300331T030000
TZOFFSETFROM:+0200
TZOFFSETTO:+0100
TZNAME:Europe/Rome CET
END:STANDARD
BEGIN:STANDARD
DTSTART:20301027T020000
RDATE:20310330T030000
TZOFFSETFROM:+0200
TZOFFSETTO:+0100
TZNAME:Europe/Rome CET
END:STANDARD
BEGIN:STANDARD
DTSTART:20311026T020000
RDATE:20320328T030000
TZOFFSETFROM:+0200
TZOFFSETTO:+0100
TZNAME:Europe/Rome CET
END:STANDARD
BEGIN:STANDARD
DTSTART:20321031T020000
RDATE:20330327T030000
TZOFFSETFROM:+0200
TZOFFSETTO:+0100
TZNAME:Europe/Rome CET
END:STANDARD
BEGIN:STANDARD
DTSTART:20331030T020000
RDATE:20340326T030000
TZOFFSETFROM:+0200
TZOFFSETTO:+0100
TZNAME:Europe/Rome CET
END:STANDARD
BEGIN:STANDARD
DTSTART:20341029T020000
RDATE:20350325T030000
TZOFFSETFROM:+0200
TZOFFSETTO:+0100
TZNAME:Europe/Rome CET
END:STANDARD
BEGIN:STANDARD
DTSTART:20351028T020000
RDATE:20360330T030000
TZOFFSETFROM:+0200
TZOFFSETTO:+0100
TZNAME:Europe/Rome CET
END:STANDARD
BEGIN:STANDARD
DTSTART:20361026T020000
RDATE:20370329T030000
TZOFFSETFROM:+0200
TZOFFSETTO:+0100
TZNAME:Europe/Rome CET
END:STANDARD
BEGIN:STANDARD
DTSTART:20371025T020000
TZOFFSETFROM:+0200
TZOFFSETTO:+0100
TZNAME:Europe/Rome CET
END:STANDARD
BEGIN:DAYLIGHT
DTSTART:20140809T000100
RDATE:20141026T020000
TZOFFSETFROM:+0100
TZOFFSETTO:+0200
TZNAME:Europe/Rome CEST
END:DAYLIGHT
BEGIN:DAYLIGHT
DTSTART:20150329T030000
RDATE:20151025T020000
TZOFFSETFROM:+0100
TZOFFSETTO:+0200
TZNAME:Europe/Rome CEST
END:DAYLIGHT
BEGIN:DAYLIGHT
DTSTART:20160327T030000
RDATE:20161030T020000
TZOFFSETFROM:+0100
TZOFFSETTO:+0200
TZNAME:Europe/Rome CEST
END:DAYLIGHT
BEGIN:DAYLIGHT
DTSTART:20170326T030000
RDATE:20171029T020000
TZOFFSETFROM:+0100
TZOFFSETTO:+0200
TZNAME:Europe/Rome CEST
END:DAYLIGHT
BEGIN:DAYLIGHT
DTSTART:20180325T030000
RDATE:20181028T020000
TZOFFSETFROM:+0100
TZOFFSETTO:+0200
TZNAME:Europe/Rome CEST
END:DAYLIGHT
BEGIN:DAYLIGHT
DTSTART:20190331T030000
RDATE:20191027T020000
TZOFFSETFROM:+0100
TZOFFSETTO:+0200
TZNAME:Europe/Rome CEST
END:DAYLIGHT
BEGIN:DAYLIGHT
DTSTART:20200329T030000
RDATE:20201025T020000
TZOFFSETFROM:+0100
TZOFFSETTO:+0200
TZNAME:Europe/Rome CEST
END:DAYLIGHT
BEGIN:DAYLIGHT
DTSTART:20210328T030000
RDATE:20211031T020000
TZOFFSETFROM:+0100
TZOFFSETTO:+0200
TZNAME:Europe/Rome CEST
END:DAYLIGHT
BEGIN:DAYLIGHT
DTSTART:20220327T030000
RDATE:20221030T020000
TZOFFSETFROM:+0100
TZOFFSETTO:+0200
TZNAME:Europe/Rome CEST
END:DAYLIGHT
BEGIN:DAYLIGHT
DTSTART:20230326T030000
RDATE:20231029T020000
TZOFFSETFROM:+0100
TZOFFSETTO:+0200
TZNAME:Europe/Rome CEST
END:DAYLIGHT
BEGIN:DAYLIGHT
DTSTART:20240331T030000
RDATE:20241027T020000
TZOFFSETFROM:+0100
TZOFFSETTO:+0200
TZNAME:Europe/Rome CEST
END:DAYLIGHT
BEGIN:DAYLIGHT
DTSTART:20250330T030000
RDATE:20251026T020000
TZOFFSETFROM:+0100
TZOFFSETTO:+0200
TZNAME:Europe/Rome CEST
END:DAYLIGHT
BEGIN:DAYLIGHT
DTSTART:20260329T030000
RDATE:20261025T020000
TZOFFSETFROM:+0100
TZOFFSETTO:+0200
TZNAME:Europe/Rome CEST
END:DAYLIGHT
BEGIN:DAYLIGHT
DTSTART:20270328T030000
RDATE:20271031T020000
TZOFFSETFROM:+0100
TZOFFSETTO:+0200
TZNAME:Europe/Rome CEST
END:DAYLIGHT
BEGIN:DAYLIGHT
DTSTART:20280326T030000
RDATE:20281029T020000
TZOFFSETFROM:+0100
TZOFFSETTO:+0200
TZNAME:Europe/Rome CEST
END:DAYLIGHT
BEGIN:DAYLIGHT
DTSTART:20290325T030000
RDATE:20291028T020000
TZOFFSETFROM:+0100
TZOFFSETTO:+0200
TZNAME:Europe/Rome CEST
END:DAYLIGHT
BEGIN:DAYLIGHT
DTSTART:20300331T030000
RDATE:20301027T020000
TZOFFSETFROM:+0100
TZOFFSETTO:+0200
TZNAME:Europe/Rome CEST
END:DAYLIGHT
BEGIN:DAYLIGHT
DTSTART:20310330T030000
RDATE:20311026T020000
TZOFFSETFROM:+0100
TZOFFSETTO:+0200
TZNAME:Europe/Rome CEST
END:DAYLIGHT
BEGIN:DAYLIGHT
DTSTART:20320328T030000
RDATE:20321031T020000
TZOFFSETFROM:+0100
TZOFFSETTO:+0200
TZNAME:Europe/Rome CEST
END:DAYLIGHT
BEGIN:DAYLIGHT
DTSTART:20330327T030000
RDATE:20331030T020000
TZOFFSETFROM:+0100
TZOFFSETTO:+0200
TZNAME:Europe/Rome CEST
END:DAYLIGHT
BEGIN:DAYLIGHT
DTSTART:20340326T030000
RDATE:20341029T020000
TZOFFSETFROM:+0100
TZOFFSETTO:+0200
TZNAME:Europe/Rome CEST
END:DAYLIGHT
BEGIN:DAYLIGHT
DTSTART:20350325T030000
RDATE:20351028T020000
TZOFFSETFROM:+0100
TZOFFSETTO:+0200
TZNAME:Europe/Rome CEST
END:DAYLIGHT
BEGIN:DAYLIGHT
DTSTART:20360330T030000
RDATE:20361026T020000
TZOFFSETFROM:+0100
TZOFFSETTO:+0200
TZNAME:Europe/Rome CEST
END:DAYLIGHT
BEGIN:DAYLIGHT
DTSTART:20370329T030000
RDATE:20371025T020000
TZOFFSETFROM:+0100
TZOFFSETTO:+0200
TZNAME:Europe/Rome CEST
END:DAYLIGHT
END:VTIMEZONE
BEGIN:VEVENT
UID:1429120103evt2889
CATEGORIES:.
SUMMARY:10- Missione Palestina Libano Giordania (viaggio)
DESCRIPTION;ENCODING=QUOTED-PRINTABLE:<p>COMUNICATO STAMPA<br />DI PER NON DIMENTICARE IL DIRITTO AL RITORNO - MI
 SSIONE MULTIPLA</p><p><strong>Appello: Per non dimenticare&hellip; il dirit
 to al ritorno: missione multipla ad Agosto 2015</strong><br /><br />Appello
  che lancia <strong>quattro missioni</strong> in contemporanea per <strong>
 agosto 2015 a Gaza, in Cisgiordania, in Libano e in Giordania</strong>, dov
 e andremo a portare il nostro sostegno alla resistenza palestinese e a riba
 dire la centralit&agrave; del diritto al ritorno dei profughi palestinesi a
 lle loro case e alle loro terre.<br /><br /><strong>Chi fosse intenzionato 
 a partecipare dovr&agrave; riempire la scheda di preadesione ed inviarla al
 l&rsquo;indirizzo di posta elettronica <span id="cloak75437">Questo indiriz
 zo email è protetto dagli spambots. È necessario abilitare JavaScript per v
 ederlo.</span><script type='text/javascript'>
 //<!--
 document.getElementB
 yId('cloak75437').innerHTML = '';
 var prefix = '&#109;a' + 'i&#108;' + '&#
 116;o';
 var path = 'hr' + 'ef' + '=';
 var addy75437 = 'd&#105;r&#105;tt&#
 111;&#97;lr&#105;t&#111;rn&#111;194' + '&#64;';
 addy75437 = addy75437 + 'g
 m&#97;&#105;l' + '&#46;' + 'c&#111;m';
 document.getElementById('cloak75437
 ').innerHTML += '<a ' + path + '\'' + prefix + ':' + addy75437 + '\'>' +add
 y75437+'<\/a>';
 //-->
 </script> entro il 15 marzo 2015</strong>. Entro il
  30 marzo il comitato organizzatore comunicher&agrave;, a tutti quelli che 
 avranno aderito, in quale delegazione sono stati accolti, le date precise d
 i <strong>partenza e ritorno (che saranno comunque nell&rsquo;arco dei gior
 ni 10-30 agosto)</strong>, i costi e le scadenze per i versamenti. Chi ader
 ir&agrave; ricever&agrave; man mano tutte le informazioni di cui avr&agrave
 ; bisogno in maniera dettagliata.<br /><br />Gli organizzatori hanno anche 
 lanciato una sottoscrizione nazionale a sostegno del popolo palestinese, ed
  invitano tutti i singoli e le strutture che si riconoscono nelle motivazio
 ni politiche dell&#39;appello ad organizzare iniziative politiche a sostegn
 o della resistenza del popolo palestinese da qui a fine luglio 2015,&nbsp; 
 collegandole, se possibile,&nbsp; con una raccolta fondi.<br /><br /><br />
 <strong>Per non dimenticare&hellip; il diritto al ritorno<br />I luoghi del
 la diaspora palestinese</strong><br /><br />Siamo donne e uomini che riteng
 ono che il diritto al ritorno sia un punto irremovibile e centrale per il f
 uturo del popolo di Palestina. Nessun risarcimento potr&agrave; mai ripagar
 e le sofferenze e le privazioni di decenni di diaspora, ma il riconosciment
 o di questo diritto &egrave; l&rsquo;unico modo per dare una soluzione all&
 rsquo;occupazione delle terre palestinesi.<br /><br />Crediamo perci&ograve
 ; che si debba ricordare a noi e al mondo che l&rsquo;occupazione ha genera
 to un esodo forzato del popolo di Palestina e che oggi ci sono palestinesi 
 in Libano, come in Giordania, Siria, Iraq e altri Paesi &ndash; non ultimo 
 il nostro Occidente - ma che ci sono palestinesi rifugiati nella stessa Pal
 estina.<br /><br />Partendo da queste considerazioni stiamo organizzando pe
 r il prossimo mese di agosto una iniziativa internazionale per portare cont
 emporaneamente quattro missioni a Gaza, Cisgiordania, Libano e Giordania. L
 &rsquo;obiettivo &egrave; la riaffermazione del diritto al ritorno.<br /><b
 r />L&rsquo;ebraicizzazione di Israele &ndash; punta pi&ugrave; alta del pr
 ogramma neocoloniale del sionismo &ndash; esclude il diritto al ritorno dei
  non ebrei, e dunque dei palestinesi nati in quelle stesse terre e dei loro
  discendenti. La nostra presenza in quei paesi vuole denunciare questo trat
 tamento intollerabile e razzista. Una missione che metta al centro la quest
 ione dei diritti dei rifugiati, tutti i loro diritti.<br /><br />Il tema de
 l diritto al ritorno per il popolo di Palestina, ignorato da troppi, dentro
  e fuori il mondo arabo-mediorientale, non pu&ograve; essere eluso o messo 
 da parte in nome di altre e pretestuose compatibilit&agrave;. Le quattro de
 legazioni ricorderanno le vittime delle stragi e porteranno ai palestinesi 
 la solidariet&agrave; politica e il sostegno umano.<br /><br />Per realizza
 re questo progetto lanciamo da oggi una sottoscrizione nazionale, dando cos
 &igrave; continuit&agrave; al positivo lavoro messo in campo da anni dal Fo
 rum Palestina e dal Comitato per non dimentica Sabra e Chatila e proseguito
  nel dicembre 2013 / gennaio 2014 a Gaza dalla delegazione &ldquo;Tutti a G
 aza 2013&rdquo;.<br /><br />Siamo quindi pronti per raccogliere le vostre a
 desioni per formare le quattro delegazioni Per non dimenticare il diritto a
 l ritorno. Quello del prossimo agosto sar&agrave; un appuntamento important
 e perch&eacute; ci dar&agrave; la possibilit&agrave; di conoscere la realt&
 agrave; di Gaza, Cisgiordania, Libano e Giordania incontrando tutte le forz
 e e le organizzazioni politiche e sociali che l&igrave; lavorano e operano.
 <br /><br />Vogliamo che l&rsquo;iniziativa che ci accingiamo a prendere, i
 n collaborazione con i nostri amici palestinesi, con i quali da anni lavori
 amo insieme nel Comitato internazionale Per non dimenticare Sabra e Chatila
  e con il quotidiano libanese Assafir, sia un momento, centrale, di un perc
 orso che deve prevedere iniziative su tutto il territorio italiano da svolg
 ersi prima e dopo il mese di agosto con al centro &ldquo;il diritto al rito
 rno&rdquo;. Intendiamo, inoltre, tessere un filo con il lavoro che il Comit
 ato Per non dimenticare Sabra e Chatila ha svolto negli ultimi anni. La nos
 tra presenza in Libano, come a Gaza, Cisgiordania, Giordania &egrave; final
 izzata a denunciare una realt&agrave; inaccettabile e drammatica che ha ori
 gine dall&lsquo;occupazione della Palestina.<br /><br />Il nostro invito &e
 grave; rivolto a quanti in questi anni hanno lavorato a fianco del popolo p
 alestinese, combattendo l&rsquo;occupazione e condannando il sionismo. Siam
 o senza equilibrismi dalla parte dei diritti dei palestinesi, &ldquo;senza 
 se e senza ma..&rdquo;, ma nello stesso tempo respingiamo qualsiasi approcc
 io antisemita e razzista. La pregiudiziale antifascista e anticoloniale &eg
 rave; pertanto per noi centrale.<br /><br />Vi chiediamo di farci pervenire
  nel tempo pi&ugrave; breve possibile le vostre intenzioni di partecipare p
 er consentirci di organizzare al meglio la visita. Nelle prossime settimane
  vi faremo sapere regole date e costi della missione.<br /><br />Bassam Sal
 eh, Ismail Fawzi, Nabil Kheir, Sami Hallac, Yousef Salman, Ahmed Dawud, Ma&
 rsquo;moun Al Barghouti, Hakeem Abu Jaleela, Mohammed Hamdan, Mariagiulia A
 gnoletto (Salaam ragazzi dell&rsquo;Olivo - Milano), Enzo Apicella (cartoon
 ist), Goretta Bonacorsi, Enzo Brandi, Sergio Cararo (direttore di Contropia
 no), Andrea Catone (direttore di Marx XXI), Antonietta Chiarini, Tullia Chi
 arini, Blanca Clemente, Mimmo Colaninno, Geraldina Colotti (Monde Diplomati
 que), Comitato Fasano per la Palestina (Fasano, BR), Marinella Correggia (g
 iornalista, attivista per la pace), Tonia De Guido (Comitato Palestina &nda
 sh; Bologna), Eliana Ferrari, Mirca Garuti (laboratorio multimediale Alkemi
 a &ndash; Modena), Rodolfo Greco (www.palestinarossa.it &ndash; Milano), Lu
 ciano Ianni (attivista pro-Palestina &ndash; Roma), Enzo Infantino (attivis
 ta pro-Palestina &ndash; Calabria), Kalamu (gruppo musicale calabrese), Ton
 io Leone (attivista per la Palestina &ndash; Fasano), Alessia Leonello, Ste
 fania Limiti (giornalista, Comitato per non dimenticare Sabra e Chatila &nd
 ash; Roma), Pati Luceri (docente e attivista pro-Palestina &ndash; Lecce), 
 Francesco Maringi&ograve; (presidenza internazionale Centro Studi Correspon
 dances Internacionales), Miriam Marino, Marcella Masperi, Mariano Mingarell
 i (Associazione Italo Palestinese &ndash; Firenze), Nicola Monti (direttore
  Labaro TV), Maurizio Musolino (giornalista, Comitato per non dimenticare S
 abra e Chatila &ndash; Roma), Loretta Mussi (attivista pro-Palestina - Roma
 ), Flavio Novara (Laboratorio multimediale Alkemia &ndash; Modena), Gustavo
  Pasquali (Comitato per non dimenticare il diritto al ritorno &ndash; Roma)
 , Ivano Poppi, Laura Pugnaghi (Rete 1&deg; marzo), Roberta Ravoni, Carmen R
 icci, Dominique Sbiroli (Comitato con la Palestina nel cuore &ndash; Roma),
  Massimo Sgarzi, Elio Teresi (direttore Radio Aut per l&rsquo;antimafia soc
 iale - Palermo), Ornella Terracini, Marta Turilli (Comitato con la Palestin
 a nel cuore &ndash; Roma), Jacopo Venier (direttore Libera TV), Maria Raffa
 ella Violano (Presidente Amici della Mezza Luna Rossa Palestinese), Lucio V
 itale.</p>
DTSTAMP:20260422T063951Z
DTSTART;TZID=Europe/Rome:20150810T000100
DTEND;TZID=Europe/Rome:20150811T000100
SEQUENCE:0
TRANSP:OPAQUE
END:VEVENT
END:VCALENDAR