BEGIN:VCALENDAR
VERSION:2.0
PRODID:-//jEvents 2.0 for Joomla//EN
CALSCALE:GREGORIAN
METHOD:PUBLISH
BEGIN:VTIMEZONE
TZID:Europe/Rome
BEGIN:STANDARD
DTSTART:20140128T000100
RDATE:20140330T030000
TZOFFSETFROM:+0200
TZOFFSETTO:+0100
TZNAME:Europe/Rome CET
END:STANDARD
BEGIN:STANDARD
DTSTART:20141026T020000
RDATE:20150329T030000
TZOFFSETFROM:+0200
TZOFFSETTO:+0100
TZNAME:Europe/Rome CET
END:STANDARD
BEGIN:STANDARD
DTSTART:20151025T020000
RDATE:20160327T030000
TZOFFSETFROM:+0200
TZOFFSETTO:+0100
TZNAME:Europe/Rome CET
END:STANDARD
BEGIN:STANDARD
DTSTART:20161030T020000
RDATE:20170326T030000
TZOFFSETFROM:+0200
TZOFFSETTO:+0100
TZNAME:Europe/Rome CET
END:STANDARD
BEGIN:STANDARD
DTSTART:20171029T020000
RDATE:20180325T030000
TZOFFSETFROM:+0200
TZOFFSETTO:+0100
TZNAME:Europe/Rome CET
END:STANDARD
BEGIN:STANDARD
DTSTART:20181028T020000
RDATE:20190331T030000
TZOFFSETFROM:+0200
TZOFFSETTO:+0100
TZNAME:Europe/Rome CET
END:STANDARD
BEGIN:STANDARD
DTSTART:20191027T020000
RDATE:20200329T030000
TZOFFSETFROM:+0200
TZOFFSETTO:+0100
TZNAME:Europe/Rome CET
END:STANDARD
BEGIN:STANDARD
DTSTART:20201025T020000
RDATE:20210328T030000
TZOFFSETFROM:+0200
TZOFFSETTO:+0100
TZNAME:Europe/Rome CET
END:STANDARD
BEGIN:STANDARD
DTSTART:20211031T020000
RDATE:20220327T030000
TZOFFSETFROM:+0200
TZOFFSETTO:+0100
TZNAME:Europe/Rome CET
END:STANDARD
BEGIN:STANDARD
DTSTART:20221030T020000
RDATE:20230326T030000
TZOFFSETFROM:+0200
TZOFFSETTO:+0100
TZNAME:Europe/Rome CET
END:STANDARD
BEGIN:STANDARD
DTSTART:20231029T020000
RDATE:20240331T030000
TZOFFSETFROM:+0200
TZOFFSETTO:+0100
TZNAME:Europe/Rome CET
END:STANDARD
BEGIN:STANDARD
DTSTART:20241027T020000
RDATE:20250330T030000
TZOFFSETFROM:+0200
TZOFFSETTO:+0100
TZNAME:Europe/Rome CET
END:STANDARD
BEGIN:STANDARD
DTSTART:20251026T020000
RDATE:20260329T030000
TZOFFSETFROM:+0200
TZOFFSETTO:+0100
TZNAME:Europe/Rome CET
END:STANDARD
BEGIN:STANDARD
DTSTART:20261025T020000
RDATE:20270328T030000
TZOFFSETFROM:+0200
TZOFFSETTO:+0100
TZNAME:Europe/Rome CET
END:STANDARD
BEGIN:STANDARD
DTSTART:20271031T020000
RDATE:20280326T030000
TZOFFSETFROM:+0200
TZOFFSETTO:+0100
TZNAME:Europe/Rome CET
END:STANDARD
BEGIN:STANDARD
DTSTART:20281029T020000
RDATE:20290325T030000
TZOFFSETFROM:+0200
TZOFFSETTO:+0100
TZNAME:Europe/Rome CET
END:STANDARD
BEGIN:STANDARD
DTSTART:20291028T020000
RDATE:20300331T030000
TZOFFSETFROM:+0200
TZOFFSETTO:+0100
TZNAME:Europe/Rome CET
END:STANDARD
BEGIN:STANDARD
DTSTART:20301027T020000
RDATE:20310330T030000
TZOFFSETFROM:+0200
TZOFFSETTO:+0100
TZNAME:Europe/Rome CET
END:STANDARD
BEGIN:STANDARD
DTSTART:20311026T020000
RDATE:20320328T030000
TZOFFSETFROM:+0200
TZOFFSETTO:+0100
TZNAME:Europe/Rome CET
END:STANDARD
BEGIN:STANDARD
DTSTART:20321031T020000
RDATE:20330327T030000
TZOFFSETFROM:+0200
TZOFFSETTO:+0100
TZNAME:Europe/Rome CET
END:STANDARD
BEGIN:STANDARD
DTSTART:20331030T020000
RDATE:20340326T030000
TZOFFSETFROM:+0200
TZOFFSETTO:+0100
TZNAME:Europe/Rome CET
END:STANDARD
BEGIN:STANDARD
DTSTART:20341029T020000
RDATE:20350325T030000
TZOFFSETFROM:+0200
TZOFFSETTO:+0100
TZNAME:Europe/Rome CET
END:STANDARD
BEGIN:STANDARD
DTSTART:20351028T020000
RDATE:20360330T030000
TZOFFSETFROM:+0200
TZOFFSETTO:+0100
TZNAME:Europe/Rome CET
END:STANDARD
BEGIN:STANDARD
DTSTART:20361026T020000
RDATE:20370329T030000
TZOFFSETFROM:+0200
TZOFFSETTO:+0100
TZNAME:Europe/Rome CET
END:STANDARD
BEGIN:STANDARD
DTSTART:20371025T020000
TZOFFSETFROM:+0200
TZOFFSETTO:+0100
TZNAME:Europe/Rome CET
END:STANDARD
BEGIN:DAYLIGHT
DTSTART:20140330T030000
RDATE:20141026T020000
TZOFFSETFROM:+0100
TZOFFSETTO:+0200
TZNAME:Europe/Rome CEST
END:DAYLIGHT
BEGIN:DAYLIGHT
DTSTART:20150329T030000
RDATE:20151025T020000
TZOFFSETFROM:+0100
TZOFFSETTO:+0200
TZNAME:Europe/Rome CEST
END:DAYLIGHT
BEGIN:DAYLIGHT
DTSTART:20160327T030000
RDATE:20161030T020000
TZOFFSETFROM:+0100
TZOFFSETTO:+0200
TZNAME:Europe/Rome CEST
END:DAYLIGHT
BEGIN:DAYLIGHT
DTSTART:20170326T030000
RDATE:20171029T020000
TZOFFSETFROM:+0100
TZOFFSETTO:+0200
TZNAME:Europe/Rome CEST
END:DAYLIGHT
BEGIN:DAYLIGHT
DTSTART:20180325T030000
RDATE:20181028T020000
TZOFFSETFROM:+0100
TZOFFSETTO:+0200
TZNAME:Europe/Rome CEST
END:DAYLIGHT
BEGIN:DAYLIGHT
DTSTART:20190331T030000
RDATE:20191027T020000
TZOFFSETFROM:+0100
TZOFFSETTO:+0200
TZNAME:Europe/Rome CEST
END:DAYLIGHT
BEGIN:DAYLIGHT
DTSTART:20200329T030000
RDATE:20201025T020000
TZOFFSETFROM:+0100
TZOFFSETTO:+0200
TZNAME:Europe/Rome CEST
END:DAYLIGHT
BEGIN:DAYLIGHT
DTSTART:20210328T030000
RDATE:20211031T020000
TZOFFSETFROM:+0100
TZOFFSETTO:+0200
TZNAME:Europe/Rome CEST
END:DAYLIGHT
BEGIN:DAYLIGHT
DTSTART:20220327T030000
RDATE:20221030T020000
TZOFFSETFROM:+0100
TZOFFSETTO:+0200
TZNAME:Europe/Rome CEST
END:DAYLIGHT
BEGIN:DAYLIGHT
DTSTART:20230326T030000
RDATE:20231029T020000
TZOFFSETFROM:+0100
TZOFFSETTO:+0200
TZNAME:Europe/Rome CEST
END:DAYLIGHT
BEGIN:DAYLIGHT
DTSTART:20240331T030000
RDATE:20241027T020000
TZOFFSETFROM:+0100
TZOFFSETTO:+0200
TZNAME:Europe/Rome CEST
END:DAYLIGHT
BEGIN:DAYLIGHT
DTSTART:20250330T030000
RDATE:20251026T020000
TZOFFSETFROM:+0100
TZOFFSETTO:+0200
TZNAME:Europe/Rome CEST
END:DAYLIGHT
BEGIN:DAYLIGHT
DTSTART:20260329T030000
RDATE:20261025T020000
TZOFFSETFROM:+0100
TZOFFSETTO:+0200
TZNAME:Europe/Rome CEST
END:DAYLIGHT
BEGIN:DAYLIGHT
DTSTART:20270328T030000
RDATE:20271031T020000
TZOFFSETFROM:+0100
TZOFFSETTO:+0200
TZNAME:Europe/Rome CEST
END:DAYLIGHT
BEGIN:DAYLIGHT
DTSTART:20280326T030000
RDATE:20281029T020000
TZOFFSETFROM:+0100
TZOFFSETTO:+0200
TZNAME:Europe/Rome CEST
END:DAYLIGHT
BEGIN:DAYLIGHT
DTSTART:20290325T030000
RDATE:20291028T020000
TZOFFSETFROM:+0100
TZOFFSETTO:+0200
TZNAME:Europe/Rome CEST
END:DAYLIGHT
BEGIN:DAYLIGHT
DTSTART:20300331T030000
RDATE:20301027T020000
TZOFFSETFROM:+0100
TZOFFSETTO:+0200
TZNAME:Europe/Rome CEST
END:DAYLIGHT
BEGIN:DAYLIGHT
DTSTART:20310330T030000
RDATE:20311026T020000
TZOFFSETFROM:+0100
TZOFFSETTO:+0200
TZNAME:Europe/Rome CEST
END:DAYLIGHT
BEGIN:DAYLIGHT
DTSTART:20320328T030000
RDATE:20321031T020000
TZOFFSETFROM:+0100
TZOFFSETTO:+0200
TZNAME:Europe/Rome CEST
END:DAYLIGHT
BEGIN:DAYLIGHT
DTSTART:20330327T030000
RDATE:20331030T020000
TZOFFSETFROM:+0100
TZOFFSETTO:+0200
TZNAME:Europe/Rome CEST
END:DAYLIGHT
BEGIN:DAYLIGHT
DTSTART:20340326T030000
RDATE:20341029T020000
TZOFFSETFROM:+0100
TZOFFSETTO:+0200
TZNAME:Europe/Rome CEST
END:DAYLIGHT
BEGIN:DAYLIGHT
DTSTART:20350325T030000
RDATE:20351028T020000
TZOFFSETFROM:+0100
TZOFFSETTO:+0200
TZNAME:Europe/Rome CEST
END:DAYLIGHT
BEGIN:DAYLIGHT
DTSTART:20360330T030000
RDATE:20361026T020000
TZOFFSETFROM:+0100
TZOFFSETTO:+0200
TZNAME:Europe/Rome CEST
END:DAYLIGHT
BEGIN:DAYLIGHT
DTSTART:20370329T030000
RDATE:20371025T020000
TZOFFSETFROM:+0100
TZOFFSETTO:+0200
TZNAME:Europe/Rome CEST
END:DAYLIGHT
END:VTIMEZONE
BEGIN:VEVENT
UID:1429120100evt2861
CATEGORIES:.
SUMMARY:29- Il valore dell'immigrazione (presentaz libro)
DESCRIPTION;ENCODING=QUOTED-PRINTABLE:<p><strong>Il valore dell&rsquo;immigrazione</strong><br /><br />Flm Fondaz
 ione Leone Moressa<br /><br /><strong>29 Gennaio 2015<br />ore 16,30<br /><
 /strong>Sala del Refettorio, <br />Palazzo San Macuto<br />Via del Seminari
 o 76, <br />Roma</p><p>ATTENZIONE:<br />IL CONVEGNO SI TERRA&#39; PRESSO LA
  PRESIDENZA DEL CONSIGLIO DEI MINISTRI, E NON ALLA CAMERA DEI DEPUTATI.<br 
 />INDIRIZZO CORRETTO:<br /><strong>Presso: Sala Polifunzionale della Presid
 enza del Consiglio dei Ministri<br />Via Santa Maria in Via, 37 - Roma </st
 rong><br /><br /><strong>PRESENTAZIONE DEL VOLUME</strong><br />Enrico DI P
 ASQUALE e Chiara TRONCHIN<br />Ricercatori Fondazione Leone Moressa<br /><b
 r /><strong>INTERVENGONO</strong><br />Khalid CHAOUKI<br />Deputato,<br />C
 oordinatore intergruppo parlamentare immigrazione<br /><br />Stefano SOLARI
 <br />Dip. Scienze economiche e manageriali<br />Universit&agrave; di Padov
 a<br /><br />Federico SODA<br />Direttore OIM - Organizzazione Internaziona
 le <br />per le Migrazioni, <br />Ufficio di coordinamento per il Mediterra
 neo<br /><br />Anna MELI<br />Associazione Carta di Roma<br /><br />Costanz
 a HERMANIN<br />Open Society Foundations<br /><br />MODERATORE<br />Valerio
  CATALDI<br />Giornalista TG2<br /><br /><strong>PER PARTECIPARE</strong> E
 &rsquo; NECESSARIO INVIARE RICHIESTA DI ACCREDITO <strong>ENTRO IL 26 GENNA
 IO</strong><br /><br /><strong>PER L&rsquo;ACCREDITAMENTO </strong>CLICCA Q
 UI <br /><a href="https://docs.google.com/forms/d/1Y6A5pG3wj2L2c-D2ZW49N-lp
 I6J9lWm188UGRhChZlk/viewform" target="_blank">https://docs.google.com/forms
 /d/1Y6A5pG3wj2L2c-D2ZW49N-lpI6J9lWm188UGRhChZlk/viewform</a> <br /><br />O 
 INVIA UNA MAIL A <span id="cloak1443">Questo indirizzo email è protetto dag
 li spambots. È necessario abilitare JavaScript per vederlo.</span><script t
 ype='text/javascript'>
 //<!--
 document.getElementById('cloak1443').innerH
 TML = '';
 var prefix = '&#109;a' + 'i&#108;' + '&#116;o';
 var path = 'hr'
  + 'ef' + '=';
 var addy1443 = '&#105;nf&#111;' + '&#64;';
 addy1443 = addy
 1443 + 'f&#111;nd&#97;z&#105;&#111;n&#101;l&#101;&#111;n&#101;m&#111;r&#101
 ;ss&#97;' + '&#46;' + '&#111;rg';
 document.getElementById('cloak1443').inn
 erHTML += '<a ' + path + '\'' + prefix + ':' + addy1443 + '\'>' +addy1443+'
 <\/a>';
 //-->
 </script><br /><br />Il Volume verr&agrave; distribuito ai 
 partecipanti fino ad esaurimento copie.<br /><br /><strong>CONOSCERE IL CON
 TRIBUTO ECONOMICO DELL&rsquo;IMMIGRAZIONE </strong><br /><strong>PER COMBAT
 TERE GLI STEREOTIPI IMPROPRI</strong><br /><br />Che tipo di informazione v
 eicola la carta stampata italiana sul tema dell&rsquo;immigrazione, e qual 
 &egrave; il ruolo che ricopre nella costruzione dell&rsquo;immagine pubblic
 a degli immigrati? <br />In quale misura partecipa a quel processo di costr
 uzione di senso comune che, per definizione, &egrave; il modo di &ldquo;sen
 tire&rdquo; del grande pubblico?<br />Queste sono alcune delle domande che 
 costituiscono l&rsquo;oggetto della presente pubblicazione. <br />La Fondaz
 ione Leone Moressa mette in rilievo, con l&rsquo;utilizzo di diversi approc
 ci, quali siano gli attori sociali, le aree tematiche e le &ldquo;parole&rd
 quo; che concorrono alla formazione del senso comune e della nostra percezi
 one della realt&agrave;.<br /><br /><br /><strong>Con il sostegno di</stron
 g><br />Open Society Foundations<br /><br /><strong>Per informazioni rivolg
 ersi a</strong><br />Fondazione Leone Moressa<br />Via Torre Belfredo 81/e<
 br />30171 Mestre (Venezia)<br />tel. 041 610734<br />fax 041 984501<br /><
 a href="http://www.fondazioneleonemoressa.org" target="_blank">http://www.f
 ondazioneleonemoressa.org</a> <br /><span id="cloak56551">Questo indirizzo 
 email è protetto dagli spambots. È necessario abilitare JavaScript per vede
 rlo.</span><script type='text/javascript'>
 //<!--
 document.getElementById
 ('cloak56551').innerHTML = '';
 var prefix = '&#109;a' + 'i&#108;' + '&#116
 ;o';
 var path = 'hr' + 'ef' + '=';
 var addy56551 = '&#105;nf&#111;' + '&#
 64;';
 addy56551 = addy56551 + 'f&#111;nd&#97;z&#105;&#111;n&#101;l&#101;&#
 111;n&#101;m&#111;r&#101;ss&#97;' + '&#46;' + '&#111;rg';
 document.getElem
 entById('cloak56551').innerHTML += '<a ' + path + '\'' + prefix + ':' + add
 y56551 + '\'>' +addy56551+'<\/a>';
 //-->
 </script><br /><br />-----<br />
 Per partecipare al Convegno segnalare il proprio nominativo a <span id="clo
 ak43363">Questo indirizzo email è protetto dagli spambots. È necessario abi
 litare JavaScript per vederlo.</span><script type='text/javascript'>
 //<!-
 -
 document.getElementById('cloak43363').innerHTML = '';
 var prefix = '&#1
 09;a' + 'i&#108;' + '&#116;o';
 var path = 'hr' + 'ef' + '=';
 var addy4336
 3 = '&#105;nf&#111;' + '&#64;';
 addy43363 = addy43363 + 'f&#111;nd&#97;z&#
 105;&#111;n&#101;l&#101;&#111;n&#101;m&#111;r&#101;ss&#97;' + '&#46;' + '&#
 105;t';
 document.getElementById('cloak43363').innerHTML += '<a ' + path + 
 '\'' + prefix + ':' + addy43363 + '\'>' +addy43363+'<\/a>';
 //-->
 </scrip
 t> oppure a Silvia De Marchi <span id="cloak19856">Questo indirizzo email è
  protetto dagli spambots. È necessario abilitare JavaScript per vederlo.</s
 pan><script type='text/javascript'>
 //<!--
 document.getElementById('cloak
 19856').innerHTML = '';
 var prefix = '&#109;a' + 'i&#108;' + '&#116;o';
 v
 ar path = 'hr' + 'ef' + '=';
 var addy19856 = 's&#105;lv&#105;&#97;.d&#101;
 m&#97;rch&#105;' + '&#64;';
 addy19856 = addy19856 + 'c&#97;m&#101;r&#97;' 
 + '&#46;' + '&#105;t';
 document.getElementById('cloak19856').innerHTML += 
 '<a ' + path + '\'' + prefix + ':' + addy19856 + '\'>' +addy19856+'<\/a>';

  //-->
 </script><br /><br />Per gli uomini &egrave; obbligatoria la giacca
 .</p>
DTSTAMP:20260422T174737Z
DTSTART;TZID=Europe/Rome:20150129T000100
DTEND;TZID=Europe/Rome:20150130T000100
SEQUENCE:0
TRANSP:OPAQUE
END:VEVENT
END:VCALENDAR