BEGIN:VCALENDAR
VERSION:2.0
PRODID:-//jEvents 2.0 for Joomla//EN
CALSCALE:GREGORIAN
METHOD:PUBLISH
BEGIN:VTIMEZONE
TZID:Europe/Rome
BEGIN:STANDARD
DTSTART:20131210T000100
RDATE:20140330T030000
TZOFFSETFROM:+0200
TZOFFSETTO:+0100
TZNAME:Europe/Rome CET
END:STANDARD
BEGIN:STANDARD
DTSTART:20141026T020000
RDATE:20150329T030000
TZOFFSETFROM:+0200
TZOFFSETTO:+0100
TZNAME:Europe/Rome CET
END:STANDARD
BEGIN:STANDARD
DTSTART:20151025T020000
RDATE:20160327T030000
TZOFFSETFROM:+0200
TZOFFSETTO:+0100
TZNAME:Europe/Rome CET
END:STANDARD
BEGIN:STANDARD
DTSTART:20161030T020000
RDATE:20170326T030000
TZOFFSETFROM:+0200
TZOFFSETTO:+0100
TZNAME:Europe/Rome CET
END:STANDARD
BEGIN:STANDARD
DTSTART:20171029T020000
RDATE:20180325T030000
TZOFFSETFROM:+0200
TZOFFSETTO:+0100
TZNAME:Europe/Rome CET
END:STANDARD
BEGIN:STANDARD
DTSTART:20181028T020000
RDATE:20190331T030000
TZOFFSETFROM:+0200
TZOFFSETTO:+0100
TZNAME:Europe/Rome CET
END:STANDARD
BEGIN:STANDARD
DTSTART:20191027T020000
RDATE:20200329T030000
TZOFFSETFROM:+0200
TZOFFSETTO:+0100
TZNAME:Europe/Rome CET
END:STANDARD
BEGIN:STANDARD
DTSTART:20201025T020000
RDATE:20210328T030000
TZOFFSETFROM:+0200
TZOFFSETTO:+0100
TZNAME:Europe/Rome CET
END:STANDARD
BEGIN:STANDARD
DTSTART:20211031T020000
RDATE:20220327T030000
TZOFFSETFROM:+0200
TZOFFSETTO:+0100
TZNAME:Europe/Rome CET
END:STANDARD
BEGIN:STANDARD
DTSTART:20221030T020000
RDATE:20230326T030000
TZOFFSETFROM:+0200
TZOFFSETTO:+0100
TZNAME:Europe/Rome CET
END:STANDARD
BEGIN:STANDARD
DTSTART:20231029T020000
RDATE:20240331T030000
TZOFFSETFROM:+0200
TZOFFSETTO:+0100
TZNAME:Europe/Rome CET
END:STANDARD
BEGIN:STANDARD
DTSTART:20241027T020000
RDATE:20250330T030000
TZOFFSETFROM:+0200
TZOFFSETTO:+0100
TZNAME:Europe/Rome CET
END:STANDARD
BEGIN:STANDARD
DTSTART:20251026T020000
RDATE:20260329T030000
TZOFFSETFROM:+0200
TZOFFSETTO:+0100
TZNAME:Europe/Rome CET
END:STANDARD
BEGIN:STANDARD
DTSTART:20261025T020000
RDATE:20270328T030000
TZOFFSETFROM:+0200
TZOFFSETTO:+0100
TZNAME:Europe/Rome CET
END:STANDARD
BEGIN:STANDARD
DTSTART:20271031T020000
RDATE:20280326T030000
TZOFFSETFROM:+0200
TZOFFSETTO:+0100
TZNAME:Europe/Rome CET
END:STANDARD
BEGIN:STANDARD
DTSTART:20281029T020000
RDATE:20290325T030000
TZOFFSETFROM:+0200
TZOFFSETTO:+0100
TZNAME:Europe/Rome CET
END:STANDARD
BEGIN:STANDARD
DTSTART:20291028T020000
RDATE:20300331T030000
TZOFFSETFROM:+0200
TZOFFSETTO:+0100
TZNAME:Europe/Rome CET
END:STANDARD
BEGIN:STANDARD
DTSTART:20301027T020000
RDATE:20310330T030000
TZOFFSETFROM:+0200
TZOFFSETTO:+0100
TZNAME:Europe/Rome CET
END:STANDARD
BEGIN:STANDARD
DTSTART:20311026T020000
RDATE:20320328T030000
TZOFFSETFROM:+0200
TZOFFSETTO:+0100
TZNAME:Europe/Rome CET
END:STANDARD
BEGIN:STANDARD
DTSTART:20321031T020000
RDATE:20330327T030000
TZOFFSETFROM:+0200
TZOFFSETTO:+0100
TZNAME:Europe/Rome CET
END:STANDARD
BEGIN:STANDARD
DTSTART:20331030T020000
RDATE:20340326T030000
TZOFFSETFROM:+0200
TZOFFSETTO:+0100
TZNAME:Europe/Rome CET
END:STANDARD
BEGIN:STANDARD
DTSTART:20341029T020000
RDATE:20350325T030000
TZOFFSETFROM:+0200
TZOFFSETTO:+0100
TZNAME:Europe/Rome CET
END:STANDARD
BEGIN:STANDARD
DTSTART:20351028T020000
RDATE:20360330T030000
TZOFFSETFROM:+0200
TZOFFSETTO:+0100
TZNAME:Europe/Rome CET
END:STANDARD
BEGIN:STANDARD
DTSTART:20361026T020000
RDATE:20370329T030000
TZOFFSETFROM:+0200
TZOFFSETTO:+0100
TZNAME:Europe/Rome CET
END:STANDARD
BEGIN:STANDARD
DTSTART:20371025T020000
TZOFFSETFROM:+0200
TZOFFSETTO:+0100
TZNAME:Europe/Rome CET
END:STANDARD
BEGIN:DAYLIGHT
DTSTART:20140330T030000
RDATE:20141026T020000
TZOFFSETFROM:+0100
TZOFFSETTO:+0200
TZNAME:Europe/Rome CEST
END:DAYLIGHT
BEGIN:DAYLIGHT
DTSTART:20150329T030000
RDATE:20151025T020000
TZOFFSETFROM:+0100
TZOFFSETTO:+0200
TZNAME:Europe/Rome CEST
END:DAYLIGHT
BEGIN:DAYLIGHT
DTSTART:20160327T030000
RDATE:20161030T020000
TZOFFSETFROM:+0100
TZOFFSETTO:+0200
TZNAME:Europe/Rome CEST
END:DAYLIGHT
BEGIN:DAYLIGHT
DTSTART:20170326T030000
RDATE:20171029T020000
TZOFFSETFROM:+0100
TZOFFSETTO:+0200
TZNAME:Europe/Rome CEST
END:DAYLIGHT
BEGIN:DAYLIGHT
DTSTART:20180325T030000
RDATE:20181028T020000
TZOFFSETFROM:+0100
TZOFFSETTO:+0200
TZNAME:Europe/Rome CEST
END:DAYLIGHT
BEGIN:DAYLIGHT
DTSTART:20190331T030000
RDATE:20191027T020000
TZOFFSETFROM:+0100
TZOFFSETTO:+0200
TZNAME:Europe/Rome CEST
END:DAYLIGHT
BEGIN:DAYLIGHT
DTSTART:20200329T030000
RDATE:20201025T020000
TZOFFSETFROM:+0100
TZOFFSETTO:+0200
TZNAME:Europe/Rome CEST
END:DAYLIGHT
BEGIN:DAYLIGHT
DTSTART:20210328T030000
RDATE:20211031T020000
TZOFFSETFROM:+0100
TZOFFSETTO:+0200
TZNAME:Europe/Rome CEST
END:DAYLIGHT
BEGIN:DAYLIGHT
DTSTART:20220327T030000
RDATE:20221030T020000
TZOFFSETFROM:+0100
TZOFFSETTO:+0200
TZNAME:Europe/Rome CEST
END:DAYLIGHT
BEGIN:DAYLIGHT
DTSTART:20230326T030000
RDATE:20231029T020000
TZOFFSETFROM:+0100
TZOFFSETTO:+0200
TZNAME:Europe/Rome CEST
END:DAYLIGHT
BEGIN:DAYLIGHT
DTSTART:20240331T030000
RDATE:20241027T020000
TZOFFSETFROM:+0100
TZOFFSETTO:+0200
TZNAME:Europe/Rome CEST
END:DAYLIGHT
BEGIN:DAYLIGHT
DTSTART:20250330T030000
RDATE:20251026T020000
TZOFFSETFROM:+0100
TZOFFSETTO:+0200
TZNAME:Europe/Rome CEST
END:DAYLIGHT
BEGIN:DAYLIGHT
DTSTART:20260329T030000
RDATE:20261025T020000
TZOFFSETFROM:+0100
TZOFFSETTO:+0200
TZNAME:Europe/Rome CEST
END:DAYLIGHT
BEGIN:DAYLIGHT
DTSTART:20270328T030000
RDATE:20271031T020000
TZOFFSETFROM:+0100
TZOFFSETTO:+0200
TZNAME:Europe/Rome CEST
END:DAYLIGHT
BEGIN:DAYLIGHT
DTSTART:20280326T030000
RDATE:20281029T020000
TZOFFSETFROM:+0100
TZOFFSETTO:+0200
TZNAME:Europe/Rome CEST
END:DAYLIGHT
BEGIN:DAYLIGHT
DTSTART:20290325T030000
RDATE:20291028T020000
TZOFFSETFROM:+0100
TZOFFSETTO:+0200
TZNAME:Europe/Rome CEST
END:DAYLIGHT
BEGIN:DAYLIGHT
DTSTART:20300331T030000
RDATE:20301027T020000
TZOFFSETFROM:+0100
TZOFFSETTO:+0200
TZNAME:Europe/Rome CEST
END:DAYLIGHT
BEGIN:DAYLIGHT
DTSTART:20310330T030000
RDATE:20311026T020000
TZOFFSETFROM:+0100
TZOFFSETTO:+0200
TZNAME:Europe/Rome CEST
END:DAYLIGHT
BEGIN:DAYLIGHT
DTSTART:20320328T030000
RDATE:20321031T020000
TZOFFSETFROM:+0100
TZOFFSETTO:+0200
TZNAME:Europe/Rome CEST
END:DAYLIGHT
BEGIN:DAYLIGHT
DTSTART:20330327T030000
RDATE:20331030T020000
TZOFFSETFROM:+0100
TZOFFSETTO:+0200
TZNAME:Europe/Rome CEST
END:DAYLIGHT
BEGIN:DAYLIGHT
DTSTART:20340326T030000
RDATE:20341029T020000
TZOFFSETFROM:+0100
TZOFFSETTO:+0200
TZNAME:Europe/Rome CEST
END:DAYLIGHT
BEGIN:DAYLIGHT
DTSTART:20350325T030000
RDATE:20351028T020000
TZOFFSETFROM:+0100
TZOFFSETTO:+0200
TZNAME:Europe/Rome CEST
END:DAYLIGHT
BEGIN:DAYLIGHT
DTSTART:20360330T030000
RDATE:20361026T020000
TZOFFSETFROM:+0100
TZOFFSETTO:+0200
TZNAME:Europe/Rome CEST
END:DAYLIGHT
BEGIN:DAYLIGHT
DTSTART:20370329T030000
RDATE:20371025T020000
TZOFFSETFROM:+0100
TZOFFSETTO:+0200
TZNAME:Europe/Rome CEST
END:DAYLIGHT
END:VTIMEZONE
BEGIN:VEVENT
UID:1429120094evt2808
CATEGORIES:.
SUMMARY:11- Emozioni dal mondo per un’Italia plurale
DESCRIPTION;ENCODING=QUOTED-PRINTABLE:<p><strong>Emozioni dal mondo per un’Italia plurale<br /><br />Camera dei D
 eputati – Sala delle Colonne Palazzo Marini / via Poli 19- Roma</strong><br
  /><br />L’Associazione socio-culturale Emozioni dal Mondo per... ONLUS pre
 senta alle Istituzioni, alle Associazioni e alla Stampa la<strong> rassegna
  artistica</strong> "Emozioni dal mondo per un’ Italia plurale" che si terr
 à<strong> giovedì 11 dicembre 2014 dalle ore 21.00 al Gran Teatro di Roma</
 strong>. Il ricavato della serata sarà devoluto in beneficenza, in parte al
 la <strong>Fondazione Telethon</strong> e, in parte, per finanziare cinque 
 borse di studio da assegnare a studenti che stanno affrontando con profitto
  i percorsi accademici di Medicina, Farmacia e Giurisprudenza (la borsa di 
 studio di quest’ultima facoltà grazie alla generosa iniziativa dell’Ordine 
 degli Avvocati di Roma) presso le tre Università degli Studi Statali di Rom
 a. Inoltre i proventi della vendita del CD della manifestazione verranno de
 stinati alla Scuola di Danza del Teatro dell’Opera di Roma.<br /><br />Nel 
 corso della manifestazione si alterneranno sul palco del Gran Teatro artist
 i sia italiani che stranieri e verranno condivise con il pubblico le miglio
 ri <strong>esperienze di convivenza fra le varie culture</strong> che negli
  anni si sono affermate <strong>nella città di Roma</strong>, dando partico
 lare risalto a chi si è impegnato in prima persona nel volontariato. Inoltr
 e ci saranno interventi sia in video che dal vivo riguardanti l’attività di
  Telethon.<br /><br />Madrina dell’evento benefico è l’attrice Simona March
 ini.<br /><br />La manifestazione ha fin qui ricevuto il patrocinio dell’Or
 dine degli Avvocati di Roma, di RAI Segretariato Sociale, degli Assessorati
  “Roma Produttiva” e “Sviluppo delle Periferie, Infrastrutture e Manutenzio
 ne Urbana” di Roma Capitale, del Centro Astalli JRS (Servizio dei Gesuiti p
 er i Rifugiati in Italia), e delle Università degli Studi “La Sapienza” e “
 Tor Vergata”.<br /><br /><br />Per partecipare al convegno confermare prese
 nza entro il 31/10 alle 12 a: <span id="cloak38313">Questo indirizzo email 
 è protetto dagli spambots. È necessario abilitare JavaScript per vederlo.</
 span><script type='text/javascript'>
 //<!--
 document.getElementById('cloa
 k38313').innerHTML = '';
 var prefix = '&#109;a' + 'i&#108;' + '&#116;o';
 
 var path = 'hr' + 'ef' + '=';
 var addy38313 = 's&#105;lv&#105;&#97;.d&#101
 ;m&#97;rch&#105;' + '&#64;';
 addy38313 = addy38313 + 'c&#97;m&#101;r&#97;'
  + '&#46;' + '&#105;t';
 document.getElementById('cloak38313').innerHTML +=
  '<a ' + path + '\'' + prefix + ':' + addy38313 + '\'>' +addy38313+'<\/a>';
 
 //-->
 </script><br /><br />Per gli uomini è obbligatorio l’uso della gia
 cca.<br /><br />Khalid Chaouki</p><p>-------------------</p><p><strong>L’As
 sociazione socio-culturale<br />“Emozioni dal Mondo per .. ONLUS”<br /></st
 rong><br />sta organizzando la rassegna artistica<br /><strong>"Emozioni da
 l mondo per un’Italia plurale"</strong><br /><br /><strong>che si terrà gio
 vedì 11 dicembre 2014 alle ore 21.00<br />al Gran Teatro di Roma Saxa Rubra
 .</strong><br /><br />Il ricavato della serata sarà devoluto in beneficenza
 , in gran parte alla Fondazione Telethon ed il restante verrà utilizzato pe
 r finanziare cinque borse di studio da assegnare a studenti che stanno affr
 ontando con profitto i percorsi accademici di Medicina, Farmacia e Giurispr
 udenza (la borsa di studio di quest’ultima facoltà grazie alla generosa ini
 ziativa dell’Ordine degli Avvocati di Roma) presso le tre Università degli 
 Studi Statali di Roma. Inoltre verrà realizzato un CD della serata i cui pr
 oventi saranno destinati alla Scuola di Danza del Teatro dell’Opera di Roma
 .<br /><br />Nel corso della manifestazione si alterneranno illustri artist
 i sia italiani che stranieri e verranno condivise con il pubblico le miglio
 ri esperienze di convivenza fra le varie culture che negli anni si sono aff
 ermate nella città di Roma, dando particolare risalto a chi si è impegnato 
 in prima persona nel volontariato. Inoltre ci saranno interventi sia in vid
 eo che dal vivo riguardanti l’attività della Fondazione Telethon.<br />Madr
 ina dell’evento benefico è l’attrice Simona Marchini.</p><p><br />---------
 ---------------<br />Roma,    novembre 2014<br /><br />L’Associazione socio
 -culturale “Emozioni dal Mondo per .. ONLUS” sta organizzando la rassegna a
 rtistica "Emozioni dal mondo per un’Italia plurale" che si terrà giovedì 11
  dicembre 2014 alle ore 21.00 al Gran Teatro di Roma Saxa Rubra. Il ricavat
 o della serata sarà devoluto in beneficenza, in gran parte alla Fondazione 
 Telethon ed il restante verrà utilizzato per finanziare cinque borse di stu
 dio da assegnare a studenti che stanno affrontando con profitto i percorsi 
 accademici di Medicina, Farmacia e Giurisprudenza (la borsa di studio di qu
 est’ultima facoltà grazie alla generosa iniziativa dell’Ordine degli Avvoca
 ti di Roma) presso le tre Università degli Studi Statali di Roma. Inoltre v
 errà realizzato un CD della serata i cui proventi saranno destinati alla Sc
 uola di Danza del Teatro dell’Opera di Roma.<br />Nel corso della manifesta
 zione si alterneranno illustri artisti sia italiani che stranieri e verrann
 o condivise con il pubblico le migliori esperienze di convivenza fra le var
 ie culture che negli anni si sono affermate nella città di Roma, dando part
 icolare risalto a chi si è impegnato in prima persona nel volontariato. Ino
 ltre ci saranno interventi sia in video che dal vivo riguardanti l’attività
  della Fondazione Telethon.<br />Madrina dell’evento benefico è l’attrice S
 imona Marchini. <br />La manifestazione ha fin qui ricevuto il patrocinio d
 ell’Ordine degli Avvocati di Roma, di RAI Segretariato Sociale, degli Asses
 sorati “Roma Produttiva” e “Sviluppo delle Periferie, Infrastrutture e Manu
 tenzione Urbana” di Roma Capitale, del Centro Astalli JRS (Servizio dei Ges
 uiti per i Rifugiati in Italia), delle Università degli Studi “La Sapienza”
  e “Tor Vergata”, della Facoltà di Giurisprudenza dell’Università degli Stu
 di “Roma Tre”, di AltaRoma.  <br /><br />Per la realizzazione del nostro pr
 ogetto benefico Vi chiediamo di volerci sostenere con le vostre generose li
 beralità. <br /><br />Per le donazioni unitarie superiori a 15 euro sarà pe
 r noi cosa gradita invitarVi – fino ad esaurimento posti -  ad assistere al
 la manifestazione di beneficenza  “Emozioni dal Mondo per un’Italia plurale
 ” pro Telethon al Gran Teatro di Roma Saxa Rubra giovedì 11 dicembre 2014 a
 lle ore 21.<br /><br />Per gli inviti si terrà conto sia della disponibilit
 à dei posti che della tipologia di donazione come di seguito indicato: <br 
 /><br />-    Donatori Ordinari: da 15 a 29 euro (circa 500 posti);<br />-  
   Donatori Sostenitori: da 30 a 59 euro (circa 1.500 posti);<br />-    Dona
 tori Speciali: da 60 euro (circa 1.000 posti).<br /><br />Sarà nostra cura 
 aggiornare continuamente sul nostro sito internet i posti ancora a disposiz
 ione al Gran Teatro.<br /><br />La nostra Associazione è una Onlus quindi t
 utte le liberalità potranno essere portate in detrazione fiscale. <br /><br
  />Le donazioni dovranno essere effettuate mediante bonifico bancario sul c
 onto corrente presso l’agenzia 11 di Roma della Banca Nazione del Lavoro in
 testato all’associazione “Emozioni dal Mondo per …..  ONLUS” alle seguenti 
 coordinate bancarie iban:<br /><br />IT72O0100503211000000001025<br /><br /
 >In ogni bonifico dovrà essere inserita la seguente causale in chiaro:<br /
 >“Liberalità di NOME COGNOME” (il benefattore).<br />In caso di più nominat
 ivi dovrà essere inserito il nome del primo benefattore più il numero degli
  altri (esempio per un bonifico da parte di sei benefattori, causale: Liber
 alità di Mario Rossi + 5). <br />Si raccomanda di conservare la ricevuta de
 l bonifico bancario per un duplice scopo: 1) per il ritiro dell’invito; 2) 
 per la detrazione fiscale. <br /><br />Vi preghiamo di volerci cortesemente
  comunicare il vostro bonifico con un messaggio all’indirizzo e-mail <span 
 id="cloak2847">Questo indirizzo email è protetto dagli spambots. È necessar
 io abilitare JavaScript per vederlo.</span><script type='text/javascript'>

  //<!--
 document.getElementById('cloak2847').innerHTML = '';
 var prefix =
  '&#109;a' + 'i&#108;' + '&#116;o';
 var path = 'hr' + 'ef' + '=';
 var add
 y2847 = '&#101;dm&#111;nl&#117;s2014' + '&#64;';
 addy2847 = addy2847 + 'gm
 &#97;&#105;l' + '&#46;' + 'c&#111;m';
 document.getElementById('cloak2847')
 .innerHTML += '<a ' + path + '\'' + prefix + ':' + addy2847 + '\'>' +addy28
 47+'<\/a>';
 //-->
 </script> con l’importo, i nominativi dei benefattori e
 d almeno un recapito telefonico. <br /><br />Salvo diversi accordi, i carto
 ncini – firmati dal presidente dell’Associazione – contenenti gli inviti pe
 r lo spettacolo potranno essere ritirati direttamente al Gran Teatro la ser
 a dell’evento dalle ore 20.30. <br /><br />Per informazioni:<br /><a href="
 http://www.emozionidalmondoper.org" target="_blank">www.emozionidalmondoper
 .org</a> <br /><span id="cloak7734">Questo indirizzo email è protetto dagli
  spambots. È necessario abilitare JavaScript per vederlo.</span><script typ
 e='text/javascript'>
 //<!--
 document.getElementById('cloak7734').innerHTM
 L = '';
 var prefix = '&#109;a' + 'i&#108;' + '&#116;o';
 var path = 'hr' +
  'ef' + '=';
 var addy7734 = '&#101;m&#111;z&#105;&#111;n&#105;d&#97;lm&#11
 1;nd&#111;p&#101;r' + '&#64;';
 addy7734 = addy7734 + 'gm&#97;&#105;l' + '&
 #46;' + 'c&#111;m';
 document.getElementById('cloak7734').innerHTML += '<a 
 ' + path + '\'' + prefix + ':' + addy7734 + '\'>' +addy7734+'<\/a>';
 //-->
 
 </script><br /> <br /><br />Ringrazio per la cortese attenzione e porgo d
 istinti saluti.<br /><br /><br />Il Presidente<br />On. Khalid Chaouki<br /
 ><br />------------------------<br /><strong>Madrina dell'evento:</strong><
 br /><strong>SIMONA MARCHINI </strong><br /><br /><strong>Interverranno:</s
 trong><br /><strong>FRANCESCO PANNOFINO</strong><br /><strong>BANDA DELL’AR
 MA DEI CARABINIERI</strong> (apriranno la serata)<br /><strong>BALLERINI TE
 ATRO DELL’OPERA DI ROMA</strong> (si esibiranno con una coreografia dello S
 chiaccianoci. “Emozioni dal Mondo per.. ONLUS” e Simona Marchini sostengono
  la scuola di danza del Teatro dell’Opera di Roma.<br /><br />I presentator
 i della serata saranno:<br /><br /><strong>Iman Sabbah</strong> (presentatr
 ice sky tg24) Israeliana di origine araba e di religione cristiana. Studia 
 alla LUMSA, laurea in Scienze della Comunicazione, indirizzo giornalismo. S
 i iscrive all'Albo dei giornalisti (elenco stranieri) nel 2002. <br /><br /
 ><strong>Viola Graziosi</strong> Figlia del noto attore Paolo Graziosi. Att
 rice. Teatro (ultimo spettacolo a teatro con Gabriele Lavia “I pilastri del
 la società”. Televisione (tra i tanti lavori ricordiamo Nero Wolfe, Distret
 to di Polizia, Un passo dal Cielo e Centovetrine). Cinema (ultimo film “Un 
 ragazzo d’oro” di Pupi Avati, 2014)<br /><br /><strong>Danilo Brugia Attore
 </strong>, cantante e musicista. Musical “Non abbiate paura” (2014) di Andr
 ea Pallotto e Gianluca Ferrato nel ruolo di Karol Wojtyla</p><p>Alcuni arti
 sti big che saranno presenti all'evento:<br /><br /><strong>ARTISTI BIG ALC
 UNE INFORMAZIONI</strong><br /><br />·         <strong>EDOARDO DE ANGELIS</
 strong> Importante cantautore italiano. Ricordiamo il disco Sale di Sicilia
 , che vede la partecipazione, tra gli altri, di Neri Marcoré, Franco Battia
 to ed Andrea Camilleri. Curiosità: - Nel romanzo Il ladro di merendine di A
 ndrea Camilleri (pubblicato dalla Sellerio Editore, a pagina 51 vengono cit
 ati alcuni versi della canzone Lella di De Angelis, che il commissario Mont
 albano canticchia mentre è al telefono (E te lo vojo di' / che so' stato io
 ...) - Nella graphic novel Un polpo alla gola di Zerocalcare viene citata s
 ul finale la canzone Lella ascoltata nella propria auto da uno dei personag
 gi del racconto<br /><br />·         <strong>GABIN DABIRE’ </strong>(si esi
 birà con Jackie Perkins cantando “Imagine” di john Lennon)<br /><br />·    
      <strong>FAUSTO MESOLELLA</strong> chitarrista, compositore e arrangiat
 ore italiano. Dal 1986 fa parte degli AVION TRAVEL. Come chitarrista ha par
 tecipato con la Piccola Orchestra Avion Travel a due edizioni del Festival 
 di Sanremo nella Sezione Campioni, vincendo nel 1998 ilPremio della Critica
  Mia Martini al 48º Festival di Sanremo con il brano Dormi e sogna e nel 20
 00 il 50º Festival di Sanremo con il brano Sentimento.<br /><br />·       <
 strong>  LUCILLA GALEAZZI </strong> in collaborazione con la tiorbista Chri
 stina Pluhar al progetto "LA TARANTELLA" con l' Ensemble "Arpeggiata" da le
 i creato e diretto, che riscuoterà unanime e grandissimi successo internazi
 onale(premio Grammy Awards quale miglior disco classico europeo 2003)<br />
 <br /><strong>ERNESTO BASSIGNANO</strong> Radio città Futura - conduttore<b
 r />---------------------------</p><p>1)    SIMONA MARCHINI MADRINA DELL’EV
 ENTO<br />2)    FRANCESCO PANNOFINO <br />3)    BANDA DELL’ARMA DEI CARABIN
 IERI (apriranno la serata)<br />4)    BALLERINI TEATRO DELL’OPERA DI ROMA (
 si esibiranno con una coreografia dello Schiaccianoci. “Emozioni dal Mondo 
 per.. ONLUS” e Simona Marchini sostengono la scuola di danza del Teatro del
 l’Opera di Roma. <br /><br />I presentatori della serata sono <br />-    Im
 an Sabbah (presentatrice sky tg24)  Israeliana di origine araba e di religi
 one cristiana. Studia alla LUMSA, si laurea in Scienze della Comunicazione,
  indirizzo giornalismo. Si iscrive all'Albo dei giornalisti (elenco stranie
 ri) nel 2002.<br />Allo scoppio della guerra in Iraq nel 2003 lavora per Ra
 i Med, il primo canale bilingue in Europa. Dopo circa tre anni, il direttor
 e Corradino Mineo le propone di affiancarlo nella conduzione del programma 
 Il Caffè su Rai News, canale col quale aveva già in passato collaborato con
 ducendo il programma Il Chiosco - sguardo sulla stampa euro-araba e curando
  programmi di approfondimento sulla realtà del Medio Oriente. Dal 2012 è ma
 dre di un bambino di nome Paolo in onore a Papa Giovanni Paolo II.<br />-  
   Viola Graziosi Figlia del noto attore Paolo Graziosi. Attrice. Teatro (ul
 timo spettacolo a teatro con Gabriele Lavia “I pilastri della società”. Tel
 evisione (tra i tanti lavori ricordiamo Nero Wolfe, Distretto di Polizia, U
 n passo dal Cielo e Centovetrine). Cinema (ultimo film “Un ragazzo d’oro” d
 i Pupi Avati, 2014)<br />-    Danilo Brugia Attore, cantante e musicista. M
 usical “Non abbiate paura” (2014) di Andrea Pallotto e Gianluca Ferrato nel
  ruolo di Karol Wojtyla</p>
DTSTAMP:20260422T081430Z
DTSTART;TZID=Europe/Rome:20141211T000100
DTEND;TZID=Europe/Rome:20141212T000100
SEQUENCE:0
TRANSP:OPAQUE
END:VEVENT
END:VCALENDAR