BEGIN:VCALENDAR
VERSION:2.0
PRODID:-//jEvents 2.0 for Joomla//EN
CALSCALE:GREGORIAN
METHOD:PUBLISH
BEGIN:VTIMEZONE
TZID:Europe/Rome
BEGIN:STANDARD
DTSTART:20131105T000100
RDATE:20140330T030000
TZOFFSETFROM:+0200
TZOFFSETTO:+0100
TZNAME:Europe/Rome CET
END:STANDARD
BEGIN:STANDARD
DTSTART:20141026T020000
RDATE:20150329T030000
TZOFFSETFROM:+0200
TZOFFSETTO:+0100
TZNAME:Europe/Rome CET
END:STANDARD
BEGIN:STANDARD
DTSTART:20151025T020000
RDATE:20160327T030000
TZOFFSETFROM:+0200
TZOFFSETTO:+0100
TZNAME:Europe/Rome CET
END:STANDARD
BEGIN:STANDARD
DTSTART:20161030T020000
RDATE:20170326T030000
TZOFFSETFROM:+0200
TZOFFSETTO:+0100
TZNAME:Europe/Rome CET
END:STANDARD
BEGIN:STANDARD
DTSTART:20171029T020000
RDATE:20180325T030000
TZOFFSETFROM:+0200
TZOFFSETTO:+0100
TZNAME:Europe/Rome CET
END:STANDARD
BEGIN:STANDARD
DTSTART:20181028T020000
RDATE:20190331T030000
TZOFFSETFROM:+0200
TZOFFSETTO:+0100
TZNAME:Europe/Rome CET
END:STANDARD
BEGIN:STANDARD
DTSTART:20191027T020000
RDATE:20200329T030000
TZOFFSETFROM:+0200
TZOFFSETTO:+0100
TZNAME:Europe/Rome CET
END:STANDARD
BEGIN:STANDARD
DTSTART:20201025T020000
RDATE:20210328T030000
TZOFFSETFROM:+0200
TZOFFSETTO:+0100
TZNAME:Europe/Rome CET
END:STANDARD
BEGIN:STANDARD
DTSTART:20211031T020000
RDATE:20220327T030000
TZOFFSETFROM:+0200
TZOFFSETTO:+0100
TZNAME:Europe/Rome CET
END:STANDARD
BEGIN:STANDARD
DTSTART:20221030T020000
RDATE:20230326T030000
TZOFFSETFROM:+0200
TZOFFSETTO:+0100
TZNAME:Europe/Rome CET
END:STANDARD
BEGIN:STANDARD
DTSTART:20231029T020000
RDATE:20240331T030000
TZOFFSETFROM:+0200
TZOFFSETTO:+0100
TZNAME:Europe/Rome CET
END:STANDARD
BEGIN:STANDARD
DTSTART:20241027T020000
RDATE:20250330T030000
TZOFFSETFROM:+0200
TZOFFSETTO:+0100
TZNAME:Europe/Rome CET
END:STANDARD
BEGIN:STANDARD
DTSTART:20251026T020000
RDATE:20260329T030000
TZOFFSETFROM:+0200
TZOFFSETTO:+0100
TZNAME:Europe/Rome CET
END:STANDARD
BEGIN:STANDARD
DTSTART:20261025T020000
RDATE:20270328T030000
TZOFFSETFROM:+0200
TZOFFSETTO:+0100
TZNAME:Europe/Rome CET
END:STANDARD
BEGIN:STANDARD
DTSTART:20271031T020000
RDATE:20280326T030000
TZOFFSETFROM:+0200
TZOFFSETTO:+0100
TZNAME:Europe/Rome CET
END:STANDARD
BEGIN:STANDARD
DTSTART:20281029T020000
RDATE:20290325T030000
TZOFFSETFROM:+0200
TZOFFSETTO:+0100
TZNAME:Europe/Rome CET
END:STANDARD
BEGIN:STANDARD
DTSTART:20291028T020000
RDATE:20300331T030000
TZOFFSETFROM:+0200
TZOFFSETTO:+0100
TZNAME:Europe/Rome CET
END:STANDARD
BEGIN:STANDARD
DTSTART:20301027T020000
RDATE:20310330T030000
TZOFFSETFROM:+0200
TZOFFSETTO:+0100
TZNAME:Europe/Rome CET
END:STANDARD
BEGIN:STANDARD
DTSTART:20311026T020000
RDATE:20320328T030000
TZOFFSETFROM:+0200
TZOFFSETTO:+0100
TZNAME:Europe/Rome CET
END:STANDARD
BEGIN:STANDARD
DTSTART:20321031T020000
RDATE:20330327T030000
TZOFFSETFROM:+0200
TZOFFSETTO:+0100
TZNAME:Europe/Rome CET
END:STANDARD
BEGIN:STANDARD
DTSTART:20331030T020000
RDATE:20340326T030000
TZOFFSETFROM:+0200
TZOFFSETTO:+0100
TZNAME:Europe/Rome CET
END:STANDARD
BEGIN:STANDARD
DTSTART:20341029T020000
RDATE:20350325T030000
TZOFFSETFROM:+0200
TZOFFSETTO:+0100
TZNAME:Europe/Rome CET
END:STANDARD
BEGIN:STANDARD
DTSTART:20351028T020000
RDATE:20360330T030000
TZOFFSETFROM:+0200
TZOFFSETTO:+0100
TZNAME:Europe/Rome CET
END:STANDARD
BEGIN:STANDARD
DTSTART:20361026T020000
RDATE:20370329T030000
TZOFFSETFROM:+0200
TZOFFSETTO:+0100
TZNAME:Europe/Rome CET
END:STANDARD
BEGIN:STANDARD
DTSTART:20371025T020000
TZOFFSETFROM:+0200
TZOFFSETTO:+0100
TZNAME:Europe/Rome CET
END:STANDARD
BEGIN:DAYLIGHT
DTSTART:20140330T030000
RDATE:20141026T020000
TZOFFSETFROM:+0100
TZOFFSETTO:+0200
TZNAME:Europe/Rome CEST
END:DAYLIGHT
BEGIN:DAYLIGHT
DTSTART:20150329T030000
RDATE:20151025T020000
TZOFFSETFROM:+0100
TZOFFSETTO:+0200
TZNAME:Europe/Rome CEST
END:DAYLIGHT
BEGIN:DAYLIGHT
DTSTART:20160327T030000
RDATE:20161030T020000
TZOFFSETFROM:+0100
TZOFFSETTO:+0200
TZNAME:Europe/Rome CEST
END:DAYLIGHT
BEGIN:DAYLIGHT
DTSTART:20170326T030000
RDATE:20171029T020000
TZOFFSETFROM:+0100
TZOFFSETTO:+0200
TZNAME:Europe/Rome CEST
END:DAYLIGHT
BEGIN:DAYLIGHT
DTSTART:20180325T030000
RDATE:20181028T020000
TZOFFSETFROM:+0100
TZOFFSETTO:+0200
TZNAME:Europe/Rome CEST
END:DAYLIGHT
BEGIN:DAYLIGHT
DTSTART:20190331T030000
RDATE:20191027T020000
TZOFFSETFROM:+0100
TZOFFSETTO:+0200
TZNAME:Europe/Rome CEST
END:DAYLIGHT
BEGIN:DAYLIGHT
DTSTART:20200329T030000
RDATE:20201025T020000
TZOFFSETFROM:+0100
TZOFFSETTO:+0200
TZNAME:Europe/Rome CEST
END:DAYLIGHT
BEGIN:DAYLIGHT
DTSTART:20210328T030000
RDATE:20211031T020000
TZOFFSETFROM:+0100
TZOFFSETTO:+0200
TZNAME:Europe/Rome CEST
END:DAYLIGHT
BEGIN:DAYLIGHT
DTSTART:20220327T030000
RDATE:20221030T020000
TZOFFSETFROM:+0100
TZOFFSETTO:+0200
TZNAME:Europe/Rome CEST
END:DAYLIGHT
BEGIN:DAYLIGHT
DTSTART:20230326T030000
RDATE:20231029T020000
TZOFFSETFROM:+0100
TZOFFSETTO:+0200
TZNAME:Europe/Rome CEST
END:DAYLIGHT
BEGIN:DAYLIGHT
DTSTART:20240331T030000
RDATE:20241027T020000
TZOFFSETFROM:+0100
TZOFFSETTO:+0200
TZNAME:Europe/Rome CEST
END:DAYLIGHT
BEGIN:DAYLIGHT
DTSTART:20250330T030000
RDATE:20251026T020000
TZOFFSETFROM:+0100
TZOFFSETTO:+0200
TZNAME:Europe/Rome CEST
END:DAYLIGHT
BEGIN:DAYLIGHT
DTSTART:20260329T030000
RDATE:20261025T020000
TZOFFSETFROM:+0100
TZOFFSETTO:+0200
TZNAME:Europe/Rome CEST
END:DAYLIGHT
BEGIN:DAYLIGHT
DTSTART:20270328T030000
RDATE:20271031T020000
TZOFFSETFROM:+0100
TZOFFSETTO:+0200
TZNAME:Europe/Rome CEST
END:DAYLIGHT
BEGIN:DAYLIGHT
DTSTART:20280326T030000
RDATE:20281029T020000
TZOFFSETFROM:+0100
TZOFFSETTO:+0200
TZNAME:Europe/Rome CEST
END:DAYLIGHT
BEGIN:DAYLIGHT
DTSTART:20290325T030000
RDATE:20291028T020000
TZOFFSETFROM:+0100
TZOFFSETTO:+0200
TZNAME:Europe/Rome CEST
END:DAYLIGHT
BEGIN:DAYLIGHT
DTSTART:20300331T030000
RDATE:20301027T020000
TZOFFSETFROM:+0100
TZOFFSETTO:+0200
TZNAME:Europe/Rome CEST
END:DAYLIGHT
BEGIN:DAYLIGHT
DTSTART:20310330T030000
RDATE:20311026T020000
TZOFFSETFROM:+0100
TZOFFSETTO:+0200
TZNAME:Europe/Rome CEST
END:DAYLIGHT
BEGIN:DAYLIGHT
DTSTART:20320328T030000
RDATE:20321031T020000
TZOFFSETFROM:+0100
TZOFFSETTO:+0200
TZNAME:Europe/Rome CEST
END:DAYLIGHT
BEGIN:DAYLIGHT
DTSTART:20330327T030000
RDATE:20331030T020000
TZOFFSETFROM:+0100
TZOFFSETTO:+0200
TZNAME:Europe/Rome CEST
END:DAYLIGHT
BEGIN:DAYLIGHT
DTSTART:20340326T030000
RDATE:20341029T020000
TZOFFSETFROM:+0100
TZOFFSETTO:+0200
TZNAME:Europe/Rome CEST
END:DAYLIGHT
BEGIN:DAYLIGHT
DTSTART:20350325T030000
RDATE:20351028T020000
TZOFFSETFROM:+0100
TZOFFSETTO:+0200
TZNAME:Europe/Rome CEST
END:DAYLIGHT
BEGIN:DAYLIGHT
DTSTART:20360330T030000
RDATE:20361026T020000
TZOFFSETFROM:+0100
TZOFFSETTO:+0200
TZNAME:Europe/Rome CEST
END:DAYLIGHT
BEGIN:DAYLIGHT
DTSTART:20370329T030000
RDATE:20371025T020000
TZOFFSETFROM:+0100
TZOFFSETTO:+0200
TZNAME:Europe/Rome CEST
END:DAYLIGHT
END:VTIMEZONE
BEGIN:VEVENT
UID:1429120094evt2803
CATEGORIES:.
SUMMARY:06- Cineforum Palestina (film)
DESCRIPTION;ENCODING=QUOTED-PRINTABLE:<p>Fondazione Archivio Audiovisivo del Movimento Operaio e Democratico<br /
 >Rete Romana di Solidarieta&#39; con il Popolo Palestinese<br /><br />prese
 ntano<br /><br /><strong>CINEFORUM PALESTINA</strong><br /><br /><strong>Ro
 ute 181<br />Frammenti di un viaggio in Palestina-Israele<br />Il Sud - par
 te I<br /><br />regia di Michel Khleifi, Eyal Sivan</strong><br />(2004, 27
 0&#39;)<br />in tre parti<br /><br />presenta il film<br />Roberto Silvestr
 i<br /><br />Route 181 &egrave; la linea di demarcazione tracciata dalla Ri
 soluzione 181 della Nazioni Unite il 29 Novemre 1947 che prevedeva la divis
 ione/spartizione della Palestina in due Stati.<br />Nel 2002 due registi, i
 l palestinese Michel Khleifi e l&#39;israeliano Eyal Sivan hanno viaggiato 
 insieme lungo questa frontiera virtuale da sud a nord, per realizzare un sa
 ggio visivo in 3 capitoli, che evocano le frontiere reali che dividono i du
 e popoli e le due societ&agrave;.<br /><br /><strong>Giovedi 6 novembre 201
 4 - ore 18</strong><br />&quot;Sala Zavattini&quot; Fondazione AAMOD<br />V
 ia Ostiense, 106 (Centrale Montemartini)<br /><br />info AAMOD +39 06 57305
 447 - <span id="cloak87883">Questo indirizzo email è protetto dagli spambot
 s. È necessario abilitare JavaScript per vederlo.</span><script type='text/
 javascript'>
 //<!--
 document.getElementById('cloak87883').innerHTML = '';
 
 var prefix = '&#109;a' + 'i&#108;' + '&#116;o';
 var path = 'hr' + 'ef' +
  '=';
 var addy87883 = '&#105;nf&#111;' + '&#64;';
 addy87883 = addy87883 +
  '&#97;&#97;m&#111;d' + '&#46;' + '&#105;t';
 document.getElementById('cloa
 k87883').innerHTML += '<a ' + path + '\'' + prefix + ':' + addy87883 + '\'>
 ' +addy87883+'<\/a>';
 //-->
 </script><br />info RETE ROMANA PALESTINA <sp
 an id="cloak17983">Questo indirizzo email è protetto dagli spambots. È nece
 ssario abilitare JavaScript per vederlo.</span><script type='text/javascrip
 t'>
 //<!--
 document.getElementById('cloak17983').innerHTML = '';
 var pre
 fix = '&#109;a' + 'i&#108;' + '&#116;o';
 var path = 'hr' + 'ef' + '=';
 va
 r addy17983 = 'r&#101;t&#101;r&#111;m&#97;n&#97;p&#97;l&#101;st&#105;n&#97;
 ' + '&#64;';
 addy17983 = addy17983 + 'g&#111;&#111;gl&#101;gr&#111;&#117;p
 s' + '&#46;' + 'c&#111;m';
 document.getElementById('cloak17983').innerHTML
  += '<a ' + path + '\'' + prefix + ':' + addy17983 + '\'>' +addy17983+'<\/a
 >';
 //-->
 </script></p><p>------------------------ </p><p><strong>ARTICOL
 O sull&#39;evento </strong><br />da Roma Multietnica<br /><br /><strong>Rou
 te 181. Frammenti di un viaggio in Palestina - Israele</strong><br /><br />
 Gioved&igrave; 6 novembre 2014 alle 18 presso la Fondazione AAMOD - Sala Za
 vattini in via Ostiense, 106 (Centrale Montemartini), Archivio Audiovisivo 
 del Movimento Operaio e Democratico e Rete Romana di Solidariet&agrave; con
  il Popolo Palestinese presentano Route 181. Frammenti di un viaggio in Pal
 estina - Israele di Michel Khleifi e Eyal Sivan(2004, 270&#39;). Presenta i
 l film Roberto Silvestri.<br /><br />Route 181. Frammenti di un viaggio in 
 Palestina-Israele offre uno sguardo inedito sugli abitanti di Palestina-Isr
 aele: lo sguardo comune, unitario, di un palestinese e di un israeliano. Pe
 r pi&ugrave; di un anno due cineasti, il palestinese Michel Khleifi e l&#39
 ;israeliano Eyal Sivan, si sono dedicati alla produzione di quello che loro
  stessi definiscono un atto di fede cinematografico.<br />Con questo road m
 ovie di pi&ugrave; di quattro ore, i due registi percorrono insieme il loro
  paese. Nell&#39;estate del 2002, per due mesi, Khleifi e Sivan hanno viagg
 iato fianco a fianco dal sud al nord del loro paese d&#39;origine, traccian
 do il proprio percorso su una mappa e chiamandolo Route 181. Questa linea v
 irtuale segue il confine stabilito dalla risoluzione 181, votata dalle Nazi
 oni Unite nel novembre del 1947 allo scopo di dividere la Palestina in due 
 differenti stati. Lungo la strada incontrano donne e uomini, israeliani e p
 alestinesi, giovani e vecchi, civili e soldati, riprendendoli nei momenti d
 ella vita di tutti i giorni. Ognuno di questi personaggi ha un modo suo pro
 prio di evocare le frontiere che li separano dai loro vicini: concretezza, 
 cinismo, filo spinato, humour, indifferenza, sospetto, aggressivit&agrave;.
  Quei confini sono stati costruiti sulle colline e nelle pianure, sulle mon
 tagne e nelle valli ma, soprattutto, nella mente e nel cuore di questi due 
 popoli, nell&#39;inconsapevolezza collettiva di entrambe le societ&agrave;.
 <br /><br />Fondazione AAMOD - Sala Zavattini<br />via Ostiense, 106 </p>
DTSTAMP:20260422T112525Z
DTSTART;TZID=Europe/Rome:20141106T000100
DTEND;TZID=Europe/Rome:20141107T000100
SEQUENCE:0
TRANSP:OPAQUE
END:VEVENT
END:VCALENDAR