BEGIN:VCALENDAR
VERSION:2.0
PRODID:-//jEvents 2.0 for Joomla//EN
CALSCALE:GREGORIAN
METHOD:PUBLISH
BEGIN:VTIMEZONE
TZID:Europe/Rome
BEGIN:STANDARD
DTSTART:20141026T020000
RDATE:20150329T030000
TZOFFSETFROM:+0200
TZOFFSETTO:+0100
TZNAME:Europe/Rome CET
END:STANDARD
BEGIN:STANDARD
DTSTART:20151025T020000
RDATE:20160327T030000
TZOFFSETFROM:+0200
TZOFFSETTO:+0100
TZNAME:Europe/Rome CET
END:STANDARD
BEGIN:STANDARD
DTSTART:20161030T020000
RDATE:20170326T030000
TZOFFSETFROM:+0200
TZOFFSETTO:+0100
TZNAME:Europe/Rome CET
END:STANDARD
BEGIN:STANDARD
DTSTART:20171029T020000
RDATE:20180325T030000
TZOFFSETFROM:+0200
TZOFFSETTO:+0100
TZNAME:Europe/Rome CET
END:STANDARD
BEGIN:STANDARD
DTSTART:20181028T020000
RDATE:20190331T030000
TZOFFSETFROM:+0200
TZOFFSETTO:+0100
TZNAME:Europe/Rome CET
END:STANDARD
BEGIN:STANDARD
DTSTART:20191027T020000
RDATE:20200329T030000
TZOFFSETFROM:+0200
TZOFFSETTO:+0100
TZNAME:Europe/Rome CET
END:STANDARD
BEGIN:STANDARD
DTSTART:20201025T020000
RDATE:20210328T030000
TZOFFSETFROM:+0200
TZOFFSETTO:+0100
TZNAME:Europe/Rome CET
END:STANDARD
BEGIN:STANDARD
DTSTART:20211031T020000
RDATE:20220327T030000
TZOFFSETFROM:+0200
TZOFFSETTO:+0100
TZNAME:Europe/Rome CET
END:STANDARD
BEGIN:STANDARD
DTSTART:20221030T020000
RDATE:20230326T030000
TZOFFSETFROM:+0200
TZOFFSETTO:+0100
TZNAME:Europe/Rome CET
END:STANDARD
BEGIN:STANDARD
DTSTART:20231029T020000
RDATE:20240331T030000
TZOFFSETFROM:+0200
TZOFFSETTO:+0100
TZNAME:Europe/Rome CET
END:STANDARD
BEGIN:STANDARD
DTSTART:20241027T020000
RDATE:20250330T030000
TZOFFSETFROM:+0200
TZOFFSETTO:+0100
TZNAME:Europe/Rome CET
END:STANDARD
BEGIN:STANDARD
DTSTART:20251026T020000
RDATE:20260329T030000
TZOFFSETFROM:+0200
TZOFFSETTO:+0100
TZNAME:Europe/Rome CET
END:STANDARD
BEGIN:STANDARD
DTSTART:20261025T020000
RDATE:20270328T030000
TZOFFSETFROM:+0200
TZOFFSETTO:+0100
TZNAME:Europe/Rome CET
END:STANDARD
BEGIN:STANDARD
DTSTART:20271031T020000
RDATE:20280326T030000
TZOFFSETFROM:+0200
TZOFFSETTO:+0100
TZNAME:Europe/Rome CET
END:STANDARD
BEGIN:STANDARD
DTSTART:20281029T020000
RDATE:20290325T030000
TZOFFSETFROM:+0200
TZOFFSETTO:+0100
TZNAME:Europe/Rome CET
END:STANDARD
BEGIN:STANDARD
DTSTART:20291028T020000
RDATE:20300331T030000
TZOFFSETFROM:+0200
TZOFFSETTO:+0100
TZNAME:Europe/Rome CET
END:STANDARD
BEGIN:STANDARD
DTSTART:20301027T020000
RDATE:20310330T030000
TZOFFSETFROM:+0200
TZOFFSETTO:+0100
TZNAME:Europe/Rome CET
END:STANDARD
BEGIN:STANDARD
DTSTART:20311026T020000
RDATE:20320328T030000
TZOFFSETFROM:+0200
TZOFFSETTO:+0100
TZNAME:Europe/Rome CET
END:STANDARD
BEGIN:STANDARD
DTSTART:20321031T020000
RDATE:20330327T030000
TZOFFSETFROM:+0200
TZOFFSETTO:+0100
TZNAME:Europe/Rome CET
END:STANDARD
BEGIN:STANDARD
DTSTART:20331030T020000
RDATE:20340326T030000
TZOFFSETFROM:+0200
TZOFFSETTO:+0100
TZNAME:Europe/Rome CET
END:STANDARD
BEGIN:STANDARD
DTSTART:20341029T020000
RDATE:20350325T030000
TZOFFSETFROM:+0200
TZOFFSETTO:+0100
TZNAME:Europe/Rome CET
END:STANDARD
BEGIN:STANDARD
DTSTART:20351028T020000
RDATE:20360330T030000
TZOFFSETFROM:+0200
TZOFFSETTO:+0100
TZNAME:Europe/Rome CET
END:STANDARD
BEGIN:STANDARD
DTSTART:20361026T020000
RDATE:20370329T030000
TZOFFSETFROM:+0200
TZOFFSETTO:+0100
TZNAME:Europe/Rome CET
END:STANDARD
BEGIN:STANDARD
DTSTART:20371025T020000
TZOFFSETFROM:+0200
TZOFFSETTO:+0100
TZNAME:Europe/Rome CET
END:STANDARD
BEGIN:DAYLIGHT
DTSTART:20140505T000100
RDATE:20141026T020000
TZOFFSETFROM:+0100
TZOFFSETTO:+0200
TZNAME:Europe/Rome CEST
END:DAYLIGHT
BEGIN:DAYLIGHT
DTSTART:20150329T030000
RDATE:20151025T020000
TZOFFSETFROM:+0100
TZOFFSETTO:+0200
TZNAME:Europe/Rome CEST
END:DAYLIGHT
BEGIN:DAYLIGHT
DTSTART:20160327T030000
RDATE:20161030T020000
TZOFFSETFROM:+0100
TZOFFSETTO:+0200
TZNAME:Europe/Rome CEST
END:DAYLIGHT
BEGIN:DAYLIGHT
DTSTART:20170326T030000
RDATE:20171029T020000
TZOFFSETFROM:+0100
TZOFFSETTO:+0200
TZNAME:Europe/Rome CEST
END:DAYLIGHT
BEGIN:DAYLIGHT
DTSTART:20180325T030000
RDATE:20181028T020000
TZOFFSETFROM:+0100
TZOFFSETTO:+0200
TZNAME:Europe/Rome CEST
END:DAYLIGHT
BEGIN:DAYLIGHT
DTSTART:20190331T030000
RDATE:20191027T020000
TZOFFSETFROM:+0100
TZOFFSETTO:+0200
TZNAME:Europe/Rome CEST
END:DAYLIGHT
BEGIN:DAYLIGHT
DTSTART:20200329T030000
RDATE:20201025T020000
TZOFFSETFROM:+0100
TZOFFSETTO:+0200
TZNAME:Europe/Rome CEST
END:DAYLIGHT
BEGIN:DAYLIGHT
DTSTART:20210328T030000
RDATE:20211031T020000
TZOFFSETFROM:+0100
TZOFFSETTO:+0200
TZNAME:Europe/Rome CEST
END:DAYLIGHT
BEGIN:DAYLIGHT
DTSTART:20220327T030000
RDATE:20221030T020000
TZOFFSETFROM:+0100
TZOFFSETTO:+0200
TZNAME:Europe/Rome CEST
END:DAYLIGHT
BEGIN:DAYLIGHT
DTSTART:20230326T030000
RDATE:20231029T020000
TZOFFSETFROM:+0100
TZOFFSETTO:+0200
TZNAME:Europe/Rome CEST
END:DAYLIGHT
BEGIN:DAYLIGHT
DTSTART:20240331T030000
RDATE:20241027T020000
TZOFFSETFROM:+0100
TZOFFSETTO:+0200
TZNAME:Europe/Rome CEST
END:DAYLIGHT
BEGIN:DAYLIGHT
DTSTART:20250330T030000
RDATE:20251026T020000
TZOFFSETFROM:+0100
TZOFFSETTO:+0200
TZNAME:Europe/Rome CEST
END:DAYLIGHT
BEGIN:DAYLIGHT
DTSTART:20260329T030000
RDATE:20261025T020000
TZOFFSETFROM:+0100
TZOFFSETTO:+0200
TZNAME:Europe/Rome CEST
END:DAYLIGHT
BEGIN:DAYLIGHT
DTSTART:20270328T030000
RDATE:20271031T020000
TZOFFSETFROM:+0100
TZOFFSETTO:+0200
TZNAME:Europe/Rome CEST
END:DAYLIGHT
BEGIN:DAYLIGHT
DTSTART:20280326T030000
RDATE:20281029T020000
TZOFFSETFROM:+0100
TZOFFSETTO:+0200
TZNAME:Europe/Rome CEST
END:DAYLIGHT
BEGIN:DAYLIGHT
DTSTART:20290325T030000
RDATE:20291028T020000
TZOFFSETFROM:+0100
TZOFFSETTO:+0200
TZNAME:Europe/Rome CEST
END:DAYLIGHT
BEGIN:DAYLIGHT
DTSTART:20300331T030000
RDATE:20301027T020000
TZOFFSETFROM:+0100
TZOFFSETTO:+0200
TZNAME:Europe/Rome CEST
END:DAYLIGHT
BEGIN:DAYLIGHT
DTSTART:20310330T030000
RDATE:20311026T020000
TZOFFSETFROM:+0100
TZOFFSETTO:+0200
TZNAME:Europe/Rome CEST
END:DAYLIGHT
BEGIN:DAYLIGHT
DTSTART:20320328T030000
RDATE:20321031T020000
TZOFFSETFROM:+0100
TZOFFSETTO:+0200
TZNAME:Europe/Rome CEST
END:DAYLIGHT
BEGIN:DAYLIGHT
DTSTART:20330327T030000
RDATE:20331030T020000
TZOFFSETFROM:+0100
TZOFFSETTO:+0200
TZNAME:Europe/Rome CEST
END:DAYLIGHT
BEGIN:DAYLIGHT
DTSTART:20340326T030000
RDATE:20341029T020000
TZOFFSETFROM:+0100
TZOFFSETTO:+0200
TZNAME:Europe/Rome CEST
END:DAYLIGHT
BEGIN:DAYLIGHT
DTSTART:20350325T030000
RDATE:20351028T020000
TZOFFSETFROM:+0100
TZOFFSETTO:+0200
TZNAME:Europe/Rome CEST
END:DAYLIGHT
BEGIN:DAYLIGHT
DTSTART:20360330T030000
RDATE:20361026T020000
TZOFFSETFROM:+0100
TZOFFSETTO:+0200
TZNAME:Europe/Rome CEST
END:DAYLIGHT
BEGIN:DAYLIGHT
DTSTART:20370329T030000
RDATE:20371025T020000
TZOFFSETFROM:+0100
TZOFFSETTO:+0200
TZNAME:Europe/Rome CEST
END:DAYLIGHT
END:VTIMEZONE
BEGIN:VEVENT
UID:1429120090evt2777
CATEGORIES:.
SUMMARY:06/10- [Dubai] Conferenza Internazionale Lingua Araba
DESCRIPTION;ENCODING=QUOTED-PRINTABLE:<p><strong>4&deg; Conferenza Internazionale della Lingua Araba - Traduzione
 </strong><br /><br /><strong>Traduzione di Mohammed Roma</strong> - <span i
 d="cloak19842">Questo indirizzo email è protetto dagli spambots. È necessar
 io abilitare JavaScript per vederlo.</span><script type='text/javascript'>

  //<!--
 document.getElementById('cloak19842').innerHTML = '';
 var prefix 
 = '&#109;a' + 'i&#108;' + '&#116;o';
 var path = 'hr' + 'ef' + '=';
 var ad
 dy19842 = 'm&#111;h&#97;mm&#101;dr&#111;m&#97;' + '&#64;';
 addy19842 = add
 y19842 + 'gm&#97;&#105;l' + '&#46;' + 'c&#111;m';
 document.getElementById(
 'cloak19842').innerHTML += '<a ' + path + '\'' + prefix + ':' + addy19842 +
  '\'>' +addy19842+'<\/a>';
 //-->
 </script><br /><br /><a href="http://www
 .sguardosulmedioriente.it" target="_blank">http://www.sguardosulmedioriente
 .it</a> <br /><br />Link: <a href="http://www.arabiclanguageic.org/view_pag
 e.php?id=4" target="_blank">http://www.arabiclanguageic.org/view_page.php?i
 d=4</a> <br />​<br /><br /><strong>4&deg; Conferenza Internazionale della L
 ingua Araba</strong><br /><br />Con il patrocinio di Sua Altezza, Shaykh Mo
 hammed ibn Rashid al Maktoum, vicepresidente degli Emirati Arabi Uniti, Pri
 mo Ministro e governatore di Dubai, il Consiglio Internazionale della Lingu
 a Araba in collaborazione con l&#39;UNESCO, con l&#39;Ufficio della Pubblic
 a Istruzione degli stati arabi del Golfo, l&#39;organizzazione araba per l&
 #39;educazione, la cultura e la scienza (ALECSO) e l&#39;unione delle unive
 rsit&agrave; arabe organizza la <strong>&quot;Quarta conferenza internazion
 ale della lingua araba&quot; che si terr&agrave; a Dubai dal 6 al 10 Maggio
  2015 (17-21 Rajab 1435H).</strong><br /><br />L&#39;obiettivo della confer
 enza &egrave; il coordinamento degli sforzi e la partecipazione di tutti gl
 i individui e di tutte le <strong>istituzioni, sia governative che private,
  coinvolte nella lingua araba</strong> in tutto il mondo; durante la confer
 enza sar&agrave; possibile incontrare professionisti e ricercatori, esperti
  dei media e tutti coloro interessati alla lingua araba provenienti sia da 
 istituzioni governative che private, cos&igrave; da diffondere maggiormente
  la consapevolezza e la responsabilit&agrave; di ognuno di noi verso la lin
 gua araba, cos&igrave; da <strong>condividere gli ultimi sviluppi della ric
 erca linguistica.</strong><br /><br />Inoltre, la conferenza si concentra s
 ia su studi scientifici che giuridici, oltre ad utilizzare documenti di lav
 oro e ricerche personali, cos&igrave; da diffondere la lingua araba ed il s
 uo utilizzo in tutti i settori; soprattutto per quanto riguarda i settori d
 ell&#39;istruzione, del mercato del lavoro, del commercio, dell&#39;industr
 ia, della ricerca scientifica, della cultura, dei media, della tecnologia e
  di altri settori di vitale importanza.<br /><br /><strong>Partecipazione a
 lla conferenza con un elaborato</strong><br /><br />La lingua araba costitu
 isce una questione fondamentale e tutti i responsabili ed i ricercatori han
 no il compito di rapportarla alle loro specializzazioni ed ai loro ruoli.<b
 r />Questa conferenza<strong> invita tutti i ricercatori di qualunque dipar
 timento e disciplina, scuola o universit&agrave;, imprese ed istituzioni </
 strong>affinch&eacute; contribuiscano alla ricerca scientifica relativa all
 a lingua araba nelle varie discipline.<br />La partecipazione dei ricercato
 ri delle varie discipline arricchir&agrave; la ricerca scientifica nella li
 ngua araba ed aiuter&agrave; a colmare il divario tra le varie discipline e
  la lingua araba; inoltre, contribuir&agrave; a <strong>rafforzare la prese
 nza della lingua araba in tutti i campi di sviluppo del progresso scientifi
 co, tecnico ed industriale</strong>.<br />Le ricerche arricchiranno la conf
 erenza e gli studi contribuiranno alla promozione di contenuti in arabo su 
 Internet ed alla diffusione del materiale scientifico ai ricercatori ed a t
 utti gli interessati in tutte le parti del mondo.<br />La<strong> pubblicaz
 ione delle ricerche</strong> &egrave; soggetta all&#39;approvazione del Com
 itato Scientifico del Convegno. <br /><br />Le ricerche vengono stampate ne
 i libri che vengono distribuiti ai partecipanti durante la conferenza, oltr
 e ad essere pubblicate all&#39;interno di riviste scientifiche specializzat
 e.<br /><br />La conferenza sostiene<strong> l&#39;invio di elaborati, rapp
 orti, relazioni, iniziative ed esperienze di successo</strong>, provenienti
  dalle varie istituzioni governative e da privati, relative a tutte le disc
 ipline che contribuiscono alla diffusione della cultura scientifica purch&e
 acute; siano esclusive (non siano gi&agrave; state pubblicate ndt).<br /><b
 r />Tutto questo con l&#39;obiettivo di collegare la lingua araba a tutte l
 e discipline. Questo &egrave; il messaggio pi&ugrave; importante per aiutar
 e i decisori e le persone interessate ad identificarsi nei problemi e nelle
  sfide che la lingua araba sta affrontando in varie localit&agrave;, oltre 
 a fornire soluzioni nelle varie istituzioni, comunit&agrave; e nazioni.<br 
 /><br />Le relazioni saranno stampate nei libri della conferenza e nelle op
 ere della conferenza e <strong>verranno distribuite ai partecipanti </stron
 g>ed al pubblico.<br /><br /><strong>La partecipazione senza contributi</st
 rong><br /><br />La conferenza accoglie tutti coloro che sono disposti a pa
 rtecipare <strong>senza elaborati, ricerche o studi e che parteciperanno in
  sostegno ed in solidariet&agrave; con la lingua araba</strong>, da parte d
 i individui, associazioni, istituzioni governative o private ed imprese che
  si propongono di partecipare per arricchire il dibattito, il dialogo e lo 
 scambio di esperienze e per comunicare con i ricercatori e gli scienziati.<
 br /><br />Questo per elevare il livello di consapevolezza e di partecipazi
 one, affinch&eacute; possiate esprimere un parere su questioni generali e t
 ematiche, sulle ricerche e sugli studi che vengono presentati alla conferen
 za da ricercatori, scienziati e coloro che sono interessati alla lingua ara
 ba.<br /><br />Per qualunque informazione &egrave; possibile contattare i s
 eguenti<strong> recapiti</strong> (in lingua araba):<br /><br />Indirizzo e
 mail: <span id="cloak90229">Questo indirizzo email è protetto dagli spambot
 s. È necessario abilitare JavaScript per vederlo.</span><script type='text/
 javascript'>
 //<!--
 document.getElementById('cloak90229').innerHTML = '';
 
 var prefix = '&#109;a' + 'i&#108;' + '&#116;o';
 var path = 'hr' + 'ef' +
  '=';
 var addy90229 = '&#97;lm&#97;jl&#101;ss' + '&#64;';
 addy90229 = add
 y90229 + 'l&#105;v&#101;' + '&#46;' + 'c&#111;m';
 document.getElementById(
 'cloak90229').innerHTML += '<a ' + path + '\'' + prefix + ':' + addy90229 +
  '\'>' +addy90229+'<\/a>';
 //-->
 </script><br /><br />Telefono: 009611364
 611<br /><br />Fax: 009611364603<br /><br />Sito Internet: <a href="http://
 www.alarabiah.org" target="_blank">http://www.alarabiah.org</a> <br /><br /
 >Indirizzo email: <span id="cloak50565">Questo indirizzo email è protetto d
 agli spambots. È necessario abilitare JavaScript per vederlo.</span><script
  type='text/javascript'>
 //<!--
 document.getElementById('cloak50565').inn
 erHTML = '';
 var prefix = '&#109;a' + 'i&#108;' + '&#116;o';
 var path = '
 hr' + 'ef' + '=';
 var addy50565 = '&#105;nf&#111;' + '&#64;';
 addy50565 =
  addy50565 + '&#97;l&#97;r&#97;b&#105;&#97;h' + '&#46;' + '&#111;rg';
 docu
 ment.getElementById('cloak50565').innerHTML += '<a ' + path + '\'' + prefix
  + ':' + addy50565 + '\'>' +addy50565+'<\/a>';
 //-->
 </script></p><p><str
 ong>DOWNLOAD :</strong></p><p><strong>معلومات المؤتمر - انقر على الملف التا
 لي</strong><br /><a href="http://www.arabiclanguageic.org/uploads/file01_pd
 f-4-%D9%85%D8%B9%D9%84%D9%88%D9%85%D8%A7%D8%AA%20%D9%88%D9%85%D8%AD%D8%A7%D
 9%88%D8%B1%20%D8%A7%D9%84%D9%85%D8%A4%D8%AA%D9%85%D8%B1%20%D8%A7%D9%84%D8%A
 F%D9%88%D9%84%D9%8A%20%D8%A7%D9%84%D8%B1%D8%A7%D8%A8%D8%B9%20%D9%84%D9%84%D
 8%BA%D8%A9%20%D8%A7%D9%84%D8%B9%D8%B1%D8%A8%D9%8A%D8%A9.pdf" target="_blank
 ">http://www.arabiclanguageic.org/uploads/file01_pdf-4-%D9%85%D8%B9%D9%84%D
 9%88%D9%85%D8%A7%D8%AA%20%D9%88%D9%85%D8%AD%D8%A7%D9%88%D8%B1%20%D8%A7%D9%8
 4%D9%85%D8%A4%D8%AA%D9%85%D8%B1%20%D8%A7%D9%84%D8%AF%D9%88%D9%84%D9%8A%20%D
 8%A7%D9%84%D8%B1%D8%A7%D8%A8%D8%B9%20%D9%84%D9%84%D8%BA%D8%A9%20%D8%A7%D9%8
 4%D8%B9%D8%B1%D8%A8%D9%8A%D8%A9.pdf</a> <br /><br /><strong>نموذج التسجيل -
  انقر على الملف التالي.</strong><br /><a href="http://www.arabiclanguageic.
 org/uploads/file02_word-4-%D9%86%D9%85%D9%88%D8%B0%D8%AC%20%D8%AA%D8%B3%D8%
 AC%D9%8A%D9%84%20%D8%A7%D9%84%D9%85%D8%A4%D8%AA%D9%85%D8%B1%20%D8%A7%D9%84%
 D8%B1%D8%A7%D8%A8%D8%B91.docx" target="_blank">http://www.arabiclanguageic.
 org/uploads/file02_word-4-%D9%86%D9%85%D9%88%D8%B0%D8%AC%20%D8%AA%D8%B3%D8%
 AC%D9%8A%D9%84%20%D8%A7%D9%84%D9%85%D8%A4%D8%AA%D9%85%D8%B1%20%D8%A7%D9%84%
 D8%B1%D8%A7%D8%A8%D8%B91.docx </a></p><p>-------------------------------</p
 ><p><strong>Annuncio originale in lingua araba<br />المؤتمر الدولي الرابع ل
 لغة العربية</strong><br /><br />برعاية صاحب السمو الشيخ محمد بن راشد آل مكت
 وم نائب رئيس دولة الإمارات العربية المتحدة، رئيس مجلس الوزراء، حاكم دبي، ين
 ظم المجلس الدولي للغة العربية بالتعاون مع منظمة اليونسكو(UNESCO)، ومكتب الت
 ربية لدول الخليج العربية، والمنظمة العربية للتربية والثقافة والعلوم (الكسو)
 ، واتحاد الجامعات العربية &quot; المؤتمر الدولي الرابع للغة العربية، وذلك خ
 لال الفترة من 6- 10 مايو 2015 الموافق 17 - 21 رجب 1436هـ في دبي.<br /><br /
 ><br />يعمل المؤتمر على تنسيق الجهود وجمع جميع الأفراد والمؤسسات الحكومية و
 الأهلية المعنية باللغة العربية من جميع أنحاء العالم، حيث يعد باحة يلتقي فيه
 ا المسؤولون وصناع القرار ورجال وسيدات المال والأعمال والباحثون والمختصون وا
 لتقنيون والإعلاميون والمهتمون باللغة العربية من مختلف المؤسسات الحكومية وال
 أهلية والخاصة، ومن جميع الوظائف والمهن والتخصصات، بهدف نشر الوعي وتحمل المس
 ؤولية المشتركة تجاه اللغة العربية، وتبادل الخبرات والتجارب الناجحة، والإطلا
 ع على أحدث المستجدات. ويعتمد المؤتمر على البحوث والدراسات العلمية المحكمة ب
 الإضافة إلى أوراق العمل والمبادرات المبدعة والتقارير والتجارب الناجحة التي 
 تسهم في تعزيز البحث العلمي بالمعلومات والحقائق الميدانية من مصادرها الأولية
 ، بغرض نشر اللغة العربية واستخدامها في جميع المجالات، وتمكينها في مواقعها ا
 لطبيعية وخاصة في التعليم والإدارة وسوق العمل والتجارة والصناعة والبحث العلم
 ي والثقافة والإعلام والتقنية وغيرها من الميادين الحيوية.<br />&nbsp;<strong
 ><br />المشاركة في المؤتمر</strong><br />&nbsp;<br />اللغة العربية قضية أسا
 سية، والجميع مسؤولون عنها بغض النظر عن تخصصاتهم ووظائفهم، وكل مختص مهما كان
  تخصصة يجب أن يكون المبادر لربط اللغة العربية بتخصصه ومجال عمله بحكم مسؤولي
 ته ووظيفته، ومن هذا المنطلق يدعو المؤتمر جميع الباحثين من مختلف التخصصات وا
 لأقسام والكليات والجامعات والوظائف والمهن والشركات والمؤسسات الحكومية والأه
 لية للتقدم بالدراسات والبحوث الجادة التي تسهم في النمو المعرفي والعلمي وتكش
 ف عن وسائل وطرق جديدة وابتكارات حديثة تثري البحث العلمي وتعزز علاقة اللغة ا
 لعربية بمختلف التخصصات والمهن والأعمال. إن مشاركة الباحثين من مختلف التخصصا
 ت وربط أبحاثهم باللغة العربية سوف يثري البحث العلمي ويربط اللغة العربية بال
 علوم والتخصصات المختلفة ويقلص الفجوة بينها وبين اللغة العربية، ويسهم في جعل
  اللغة العربية حاضرة في جميع الميادين ومرتبطة بالتطور والتقدم العلمي والتقن
 ي والصناعي. كما أن إثراء المؤتمر بالأبحاث والدراسات يسهم في تعزيز المحتوى ا
 لعربي على الشبكة العالمية وإيصال المادة العلمية للباحثين والمهتمين في جميع 
 أنحاء العالم. وتخضع هذه البحوث للتحكيم العلمي من قبل اللجنة العلمية في المؤ
 تمر. وتتم طباعتها في كتب المؤتمر وتوزيعها على المشاركين، كما يتم نشر البحوث
  المميزة ضمن المجلات العلمية التخصصية.<br />ويرحب المؤتمر بأوراق العمل، وال
 تقارير، والمبادرات، والتجارب الناجحة، من مختلف المؤسسات الحكومية والأهلية، 
 والشركات، ومن جميع التخصصات التي تسهم في تعزيز البحث العلمي بالمعلومات والح
 قائق والخبرات الميدانية من مصادرها الأولية، بالإضافة إلى دورها في تكوين علا
 قة وثيقة بين الأفراد والمجتمات والمؤسسات الحكومية والأهلية للتعريف بالجهود 
 التي تبذل على جميع المستويات. كل ذلك من أجل ربط اللغة العربية بجميع التخصصا
 ت والمجالات والميادين الحيوية. ويعد هذا النوع من المشاركات من أهم مصادر الم
 عرفة التي تعين صناع القرار والباحثين والمهتمين وتسهم في التعرف على المشكلات
  والتحديات التي تواجه اللغة العربية في مختلف المواقع، وأيضا تسهم في&nbsp; ت
 قديم الحلول التي تتم في مختلف المؤسسات والمجتمعات والدول. وتتم طباعتها ونشر
 ها&nbsp; ضمن كتب المؤتمر وأعماله، وتوزع على المشاركين والحضور.<br /><br /><
 strong><br />&nbsp;الحضور بدون مشاركات</strong><br /><br />يرحب المؤتمر بال
 راغبين في الحضور بدون أبحاث أو دراسات أو أوراق عمل، ويعد الحضور من أكبر وسا
 ئل الدعم والتضامن مع اللغة العربية من قبل الأفراد والمجتمعات والأقسام والمؤ
 سسات الحكومية والأهلية والشركات، ويهدف الحضور إلى إثراء النقاش والحوار وتبا
 دل الخبرات والاطلاع على التجارب الناجحة، والتواصل مع المسؤولين والعلماء وال
 باحثين والمختصين والمهتمين. هذا بالإضافة إلى رفع مستوى الوعي والشراكة في تح
 مل المسؤولية، وإبداء الرأي حول مجمل القضايا والموضوعات والأبحاث والدراسات و
 أوراق العمل التي يتم عرضها في المؤتمر من قبل الباحثين والمختصين والمسؤولين 
 وصناع القرار والمهتمين باللغة العربية.<br />&nbsp;</p>
DTSTAMP:20260424T104202Z
DTSTART;TZID=Europe/Rome:20150506T000100
DTEND;TZID=Europe/Rome:20150507T000100
SEQUENCE:0
TRANSP:OPAQUE
END:VEVENT
END:VCALENDAR