BEGIN:VCALENDAR
VERSION:2.0
PRODID:-//jEvents 2.0 for Joomla//EN
CALSCALE:GREGORIAN
METHOD:PUBLISH
BEGIN:VTIMEZONE
TZID:Europe/Rome
BEGIN:STANDARD
DTSTART:20131027T020000
RDATE:20140330T030000
TZOFFSETFROM:+0200
TZOFFSETTO:+0100
TZNAME:Europe/Rome CET
END:STANDARD
BEGIN:STANDARD
DTSTART:20141026T020000
RDATE:20150329T030000
TZOFFSETFROM:+0200
TZOFFSETTO:+0100
TZNAME:Europe/Rome CET
END:STANDARD
BEGIN:STANDARD
DTSTART:20151025T020000
RDATE:20160327T030000
TZOFFSETFROM:+0200
TZOFFSETTO:+0100
TZNAME:Europe/Rome CET
END:STANDARD
BEGIN:STANDARD
DTSTART:20161030T020000
RDATE:20170326T030000
TZOFFSETFROM:+0200
TZOFFSETTO:+0100
TZNAME:Europe/Rome CET
END:STANDARD
BEGIN:STANDARD
DTSTART:20171029T020000
RDATE:20180325T030000
TZOFFSETFROM:+0200
TZOFFSETTO:+0100
TZNAME:Europe/Rome CET
END:STANDARD
BEGIN:STANDARD
DTSTART:20181028T020000
RDATE:20190331T030000
TZOFFSETFROM:+0200
TZOFFSETTO:+0100
TZNAME:Europe/Rome CET
END:STANDARD
BEGIN:STANDARD
DTSTART:20191027T020000
RDATE:20200329T030000
TZOFFSETFROM:+0200
TZOFFSETTO:+0100
TZNAME:Europe/Rome CET
END:STANDARD
BEGIN:STANDARD
DTSTART:20201025T020000
RDATE:20210328T030000
TZOFFSETFROM:+0200
TZOFFSETTO:+0100
TZNAME:Europe/Rome CET
END:STANDARD
BEGIN:STANDARD
DTSTART:20211031T020000
RDATE:20220327T030000
TZOFFSETFROM:+0200
TZOFFSETTO:+0100
TZNAME:Europe/Rome CET
END:STANDARD
BEGIN:STANDARD
DTSTART:20221030T020000
RDATE:20230326T030000
TZOFFSETFROM:+0200
TZOFFSETTO:+0100
TZNAME:Europe/Rome CET
END:STANDARD
BEGIN:STANDARD
DTSTART:20231029T020000
RDATE:20240331T030000
TZOFFSETFROM:+0200
TZOFFSETTO:+0100
TZNAME:Europe/Rome CET
END:STANDARD
BEGIN:STANDARD
DTSTART:20241027T020000
RDATE:20250330T030000
TZOFFSETFROM:+0200
TZOFFSETTO:+0100
TZNAME:Europe/Rome CET
END:STANDARD
BEGIN:STANDARD
DTSTART:20251026T020000
RDATE:20260329T030000
TZOFFSETFROM:+0200
TZOFFSETTO:+0100
TZNAME:Europe/Rome CET
END:STANDARD
BEGIN:STANDARD
DTSTART:20261025T020000
RDATE:20270328T030000
TZOFFSETFROM:+0200
TZOFFSETTO:+0100
TZNAME:Europe/Rome CET
END:STANDARD
BEGIN:STANDARD
DTSTART:20271031T020000
RDATE:20280326T030000
TZOFFSETFROM:+0200
TZOFFSETTO:+0100
TZNAME:Europe/Rome CET
END:STANDARD
BEGIN:STANDARD
DTSTART:20281029T020000
RDATE:20290325T030000
TZOFFSETFROM:+0200
TZOFFSETTO:+0100
TZNAME:Europe/Rome CET
END:STANDARD
BEGIN:STANDARD
DTSTART:20291028T020000
RDATE:20300331T030000
TZOFFSETFROM:+0200
TZOFFSETTO:+0100
TZNAME:Europe/Rome CET
END:STANDARD
BEGIN:STANDARD
DTSTART:20301027T020000
RDATE:20310330T030000
TZOFFSETFROM:+0200
TZOFFSETTO:+0100
TZNAME:Europe/Rome CET
END:STANDARD
BEGIN:STANDARD
DTSTART:20311026T020000
RDATE:20320328T030000
TZOFFSETFROM:+0200
TZOFFSETTO:+0100
TZNAME:Europe/Rome CET
END:STANDARD
BEGIN:STANDARD
DTSTART:20321031T020000
RDATE:20330327T030000
TZOFFSETFROM:+0200
TZOFFSETTO:+0100
TZNAME:Europe/Rome CET
END:STANDARD
BEGIN:STANDARD
DTSTART:20331030T020000
RDATE:20340326T030000
TZOFFSETFROM:+0200
TZOFFSETTO:+0100
TZNAME:Europe/Rome CET
END:STANDARD
BEGIN:STANDARD
DTSTART:20341029T020000
RDATE:20350325T030000
TZOFFSETFROM:+0200
TZOFFSETTO:+0100
TZNAME:Europe/Rome CET
END:STANDARD
BEGIN:STANDARD
DTSTART:20351028T020000
RDATE:20360330T030000
TZOFFSETFROM:+0200
TZOFFSETTO:+0100
TZNAME:Europe/Rome CET
END:STANDARD
BEGIN:STANDARD
DTSTART:20361026T020000
RDATE:20370329T030000
TZOFFSETFROM:+0200
TZOFFSETTO:+0100
TZNAME:Europe/Rome CET
END:STANDARD
BEGIN:STANDARD
DTSTART:20371025T020000
TZOFFSETFROM:+0200
TZOFFSETTO:+0100
TZNAME:Europe/Rome CET
END:STANDARD
BEGIN:DAYLIGHT
DTSTART:20130921T000100
RDATE:20131027T020000
TZOFFSETFROM:+0100
TZOFFSETTO:+0200
TZNAME:Europe/Rome CEST
END:DAYLIGHT
BEGIN:DAYLIGHT
DTSTART:20140330T030000
RDATE:20141026T020000
TZOFFSETFROM:+0100
TZOFFSETTO:+0200
TZNAME:Europe/Rome CEST
END:DAYLIGHT
BEGIN:DAYLIGHT
DTSTART:20150329T030000
RDATE:20151025T020000
TZOFFSETFROM:+0100
TZOFFSETTO:+0200
TZNAME:Europe/Rome CEST
END:DAYLIGHT
BEGIN:DAYLIGHT
DTSTART:20160327T030000
RDATE:20161030T020000
TZOFFSETFROM:+0100
TZOFFSETTO:+0200
TZNAME:Europe/Rome CEST
END:DAYLIGHT
BEGIN:DAYLIGHT
DTSTART:20170326T030000
RDATE:20171029T020000
TZOFFSETFROM:+0100
TZOFFSETTO:+0200
TZNAME:Europe/Rome CEST
END:DAYLIGHT
BEGIN:DAYLIGHT
DTSTART:20180325T030000
RDATE:20181028T020000
TZOFFSETFROM:+0100
TZOFFSETTO:+0200
TZNAME:Europe/Rome CEST
END:DAYLIGHT
BEGIN:DAYLIGHT
DTSTART:20190331T030000
RDATE:20191027T020000
TZOFFSETFROM:+0100
TZOFFSETTO:+0200
TZNAME:Europe/Rome CEST
END:DAYLIGHT
BEGIN:DAYLIGHT
DTSTART:20200329T030000
RDATE:20201025T020000
TZOFFSETFROM:+0100
TZOFFSETTO:+0200
TZNAME:Europe/Rome CEST
END:DAYLIGHT
BEGIN:DAYLIGHT
DTSTART:20210328T030000
RDATE:20211031T020000
TZOFFSETFROM:+0100
TZOFFSETTO:+0200
TZNAME:Europe/Rome CEST
END:DAYLIGHT
BEGIN:DAYLIGHT
DTSTART:20220327T030000
RDATE:20221030T020000
TZOFFSETFROM:+0100
TZOFFSETTO:+0200
TZNAME:Europe/Rome CEST
END:DAYLIGHT
BEGIN:DAYLIGHT
DTSTART:20230326T030000
RDATE:20231029T020000
TZOFFSETFROM:+0100
TZOFFSETTO:+0200
TZNAME:Europe/Rome CEST
END:DAYLIGHT
BEGIN:DAYLIGHT
DTSTART:20240331T030000
RDATE:20241027T020000
TZOFFSETFROM:+0100
TZOFFSETTO:+0200
TZNAME:Europe/Rome CEST
END:DAYLIGHT
BEGIN:DAYLIGHT
DTSTART:20250330T030000
RDATE:20251026T020000
TZOFFSETFROM:+0100
TZOFFSETTO:+0200
TZNAME:Europe/Rome CEST
END:DAYLIGHT
BEGIN:DAYLIGHT
DTSTART:20260329T030000
RDATE:20261025T020000
TZOFFSETFROM:+0100
TZOFFSETTO:+0200
TZNAME:Europe/Rome CEST
END:DAYLIGHT
BEGIN:DAYLIGHT
DTSTART:20270328T030000
RDATE:20271031T020000
TZOFFSETFROM:+0100
TZOFFSETTO:+0200
TZNAME:Europe/Rome CEST
END:DAYLIGHT
BEGIN:DAYLIGHT
DTSTART:20280326T030000
RDATE:20281029T020000
TZOFFSETFROM:+0100
TZOFFSETTO:+0200
TZNAME:Europe/Rome CEST
END:DAYLIGHT
BEGIN:DAYLIGHT
DTSTART:20290325T030000
RDATE:20291028T020000
TZOFFSETFROM:+0100
TZOFFSETTO:+0200
TZNAME:Europe/Rome CEST
END:DAYLIGHT
BEGIN:DAYLIGHT
DTSTART:20300331T030000
RDATE:20301027T020000
TZOFFSETFROM:+0100
TZOFFSETTO:+0200
TZNAME:Europe/Rome CEST
END:DAYLIGHT
BEGIN:DAYLIGHT
DTSTART:20310330T030000
RDATE:20311026T020000
TZOFFSETFROM:+0100
TZOFFSETTO:+0200
TZNAME:Europe/Rome CEST
END:DAYLIGHT
BEGIN:DAYLIGHT
DTSTART:20320328T030000
RDATE:20321031T020000
TZOFFSETFROM:+0100
TZOFFSETTO:+0200
TZNAME:Europe/Rome CEST
END:DAYLIGHT
BEGIN:DAYLIGHT
DTSTART:20330327T030000
RDATE:20331030T020000
TZOFFSETFROM:+0100
TZOFFSETTO:+0200
TZNAME:Europe/Rome CEST
END:DAYLIGHT
BEGIN:DAYLIGHT
DTSTART:20340326T030000
RDATE:20341029T020000
TZOFFSETFROM:+0100
TZOFFSETTO:+0200
TZNAME:Europe/Rome CEST
END:DAYLIGHT
BEGIN:DAYLIGHT
DTSTART:20350325T030000
RDATE:20351028T020000
TZOFFSETFROM:+0100
TZOFFSETTO:+0200
TZNAME:Europe/Rome CEST
END:DAYLIGHT
BEGIN:DAYLIGHT
DTSTART:20360330T030000
RDATE:20361026T020000
TZOFFSETFROM:+0100
TZOFFSETTO:+0200
TZNAME:Europe/Rome CEST
END:DAYLIGHT
BEGIN:DAYLIGHT
DTSTART:20370329T030000
RDATE:20371025T020000
TZOFFSETFROM:+0100
TZOFFSETTO:+0200
TZNAME:Europe/Rome CEST
END:DAYLIGHT
END:VTIMEZONE
BEGIN:VEVENT
UID:1429120090evt2774
CATEGORIES:.
SUMMARY:22/27- LEZIONI GRATUITE ARABO Settimana Orientamento
DESCRIPTION;ENCODING=QUOTED-PRINTABLE:22/27 Settembre 2014<br /><br /><strong>LEZIONI GRATUITE DI ARABO<br />Sett
 imana di Orientamento della Libera Accademia di Roma</strong><br /><br />In
 contro con studenti <strong>24 settembre 2014</strong>, mercoled&igrave; or
 e 17:00-19:00, Prenotazione obbligatoria in segreteria.<br /><br /><strong>
 ORIENTAMENTO DELLA LIBERA ACCADEMIA DI ROMA<br />Settimana dell&#39;Orienta
 mento 22/27-9-14</strong><br /><br />Come da molti anni, proponiamo a sette
 mbre una settimana di attivit&agrave; aperte e gratuite che si realizzano n
 elle tre sedi principali per permettere ai cittadini una partecipazione att
 iva e per sapersi ben <strong>orientare nella scelta della disciplina</stro
 ng> da praticare e frequentare.<br />Le attivit&agrave; di orientamento son
 o la particolarit&agrave; del nostro Progetto formativo, ne caratterizzano 
 l&rsquo;aspetto divulgativo e conoscitivo, quella possibilit&agrave; di fac
 ilitare l&rsquo;accesso a un &ldquo;bene comune&rdquo;, favorendo la fruibi
 lit&agrave;, la scelta consapevole e la conoscenza di tutte le attivit&agra
 ve; che promuoviamo di cultura, benessere e sport.<br /><br />Per partecipa
 re:<br />- Scegli le materie o discipline che ti piacciono<br />- Verifica 
 l&#39;ora e il giorno in cui si svolgeranno le lezioni<br />- <strong>Preno
 ta la tua lezioni gratuita telefonando in segreteria o invia un email</stro
 ng><br />Telefoni: +39 06 37716304-363<br /><span id="cloak85544">Questo in
 dirizzo email è protetto dagli spambots. È necessario abilitare JavaScript 
 per vederlo.</span><script type='text/javascript'>
 //<!--
 document.getEle
 mentById('cloak85544').innerHTML = '';
 var prefix = '&#109;a' + 'i&#108;' 
 + '&#116;o';
 var path = 'hr' + 'ef' + '=';
 var addy85544 = '&#105;nf&#111
 ;' + '&#64;';
 addy85544 = addy85544 + '&#97;cc&#97;d&#101;m&#105;&#97;l&#9
 7;r' + '&#46;' + '&#105;t';
 document.getElementById('cloak85544').innerHTM
 L += '<a ' + path + '\'' + prefix + ':' + addy85544 + '\'>' +addy85544+'<\/
 a>';
 //-->
 </script> - <span id="cloak79731">Questo indirizzo email è pro
 tetto dagli spambots. È necessario abilitare JavaScript per vederlo.</span>
 <script type='text/javascript'>
 //<!--
 document.getElementById('cloak7973
 1').innerHTML = '';
 var prefix = '&#109;a' + 'i&#108;' + '&#116;o';
 var p
 ath = 'hr' + 'ef' + '=';
 var addy79731 = '&#105;nf&#111;' + '&#64;';
 addy
 79731 = addy79731 + '&#117;n&#105;v&#101;rs&#105;t&#97;p&#111;p&#111;l&#97;
 r&#101;d&#101;ll&#111;sp&#111;rt' + '&#46;' + '&#105;t';
 document.getEleme
 ntById('cloak79731').innerHTML += '<a ' + path + '\'' + prefix + ':' + addy
 79731 + '\'>' +addy79731+'<\/a>';
 //-->
 </script><br /><br /><br />Nella 
 settimana dal 22 al 27 settembre 2014,<strong> le nostre sedi principali sa
 ranno aperte a tutti i cittadini che vorranno accedere alle lezioni</strong
 >, organizzate secondo il programma dei corsi che si avvieranno da ottobre.
  In queste giornate<strong> i docenti presenteranno i loro programmi</stron
 g>, saranno disponibili per incontri di orientamento alle loro specifiche a
 ttivit&agrave;, condurranno lezioni teorico e pratiche di diverse disciplin
 e. Lo scopo &egrave; permettere a coloro che gi&agrave; sono nostri associa
 ti e a chi vuole avvicinarsi alle nostre associazioni di <strong>conoscere 
 l&rsquo;ampia proposta didattica</strong>, di poter <strong>scegliere in ma
 ggiore consapevolezza quale corso </strong>pi&ugrave; corrisponde alle pers
 onali esigenze formative, di incontrare le persone che organizzano e promuo
 vono la vita associativa di questo sistema e incontrarsi con altri cittadin
 i.<br />Quale finalit&agrave; pi&ugrave; specifica per una associazione pu&
 ograve; essere quella che promuove la socializzazione, la fruibilit&agrave;
  di informazioni e conoscenze, quella azione che permette di tessere reti d
 i relazioni e scambio di competenze, per migliorare e favorire la diffusion
 e del sapere!<br />Per la partecipazione alle attivit&agrave; aperte e grat
 uite di questa settimana &egrave; necessaria la prenotazione, per le attivi
 t&agrave; corporee &egrave; suggerito un abbigliamento comodo.<br /><br /><
 strong>Partecipazione libera a tutti previa prenotazione presso la segreter
 ia di V.le Giulio Cesare (<span id="cloak28078">Questo indirizzo email è pr
 otetto dagli spambots. È necessario abilitare JavaScript per vederlo.</span
 ><script type='text/javascript'>
 //<!--
 document.getElementById('cloak280
 78').innerHTML = '';
 var prefix = '&#109;a' + 'i&#108;' + '&#116;o';
 var 
 path = 'hr' + 'ef' + '=';
 var addy28078 = '&#105;nf&#111;' + '&#64;';
 add
 y28078 = addy28078 + '&#97;cc&#97;d&#101;m&#105;&#97;l&#97;r' + '&#46;' + '
 &#105;t';
 document.getElementById('cloak28078').innerHTML += '<a ' + path 
 + '\'' + prefix + ':' + addy28078 + '\'>' +addy28078+'<\/a>';
 //-->
 </scr
 ipt> / tel 06/37716304).<br /></strong><br />Se invece desideri conoscere p
 ersonalmente un docente per un consiglio sulla tua materia preferita scrivi
 ci e ti metteremo in contatto con lui.<br /><br /><br /><strong>CALENDARIO 
 DELLA SETTIMANA D&#39;ORIENTAMENTO</strong><br />Calendario lezioni aperte 
 di Attivit&agrave; Culturali<br /><a href="http://www.accademialar.it/Orien
 tamento-La-settimana-della-Cultura-Benessere-e-Sport.html" target="_blank">
 http://www.accademialar.it/Orientamento-La-settimana-della-Cultura-Benesser
 e-e-Sport.html</a> <br /><br /><strong>Programma LINGUA E CULTURA ARABA AA 
 2014-2015</strong><br /><a href="index.php?option=com_events&amp;task=view_
 detail&amp;agid=2720&amp;year=2014&amp;month=10&amp;day=1&amp;Itemid=41" ta
 rget="_blank">http://sguardosulmedioriente.it/portal/index.php?option=com_e
 vents&amp;task=view_detail&amp;agid=2720&amp;year=2014&amp;month=10&amp;day
 =1&amp;Itemid=41</a> 
DTSTAMP:20260422T081429Z
DTSTART;TZID=Europe/Rome:20140922T000100
DTEND;TZID=Europe/Rome:20140923T000100
SEQUENCE:0
TRANSP:OPAQUE
END:VEVENT
END:VCALENDAR