BEGIN:VCALENDAR
VERSION:2.0
PRODID:-//jEvents 2.0 for Joomla//EN
CALSCALE:GREGORIAN
METHOD:PUBLISH
BEGIN:VTIMEZONE
TZID:Europe/Rome
BEGIN:STANDARD
DTSTART:20131027T020000
RDATE:20140330T030000
TZOFFSETFROM:+0200
TZOFFSETTO:+0100
TZNAME:Europe/Rome CET
END:STANDARD
BEGIN:STANDARD
DTSTART:20141026T020000
RDATE:20150329T030000
TZOFFSETFROM:+0200
TZOFFSETTO:+0100
TZNAME:Europe/Rome CET
END:STANDARD
BEGIN:STANDARD
DTSTART:20151025T020000
RDATE:20160327T030000
TZOFFSETFROM:+0200
TZOFFSETTO:+0100
TZNAME:Europe/Rome CET
END:STANDARD
BEGIN:STANDARD
DTSTART:20161030T020000
RDATE:20170326T030000
TZOFFSETFROM:+0200
TZOFFSETTO:+0100
TZNAME:Europe/Rome CET
END:STANDARD
BEGIN:STANDARD
DTSTART:20171029T020000
RDATE:20180325T030000
TZOFFSETFROM:+0200
TZOFFSETTO:+0100
TZNAME:Europe/Rome CET
END:STANDARD
BEGIN:STANDARD
DTSTART:20181028T020000
RDATE:20190331T030000
TZOFFSETFROM:+0200
TZOFFSETTO:+0100
TZNAME:Europe/Rome CET
END:STANDARD
BEGIN:STANDARD
DTSTART:20191027T020000
RDATE:20200329T030000
TZOFFSETFROM:+0200
TZOFFSETTO:+0100
TZNAME:Europe/Rome CET
END:STANDARD
BEGIN:STANDARD
DTSTART:20201025T020000
RDATE:20210328T030000
TZOFFSETFROM:+0200
TZOFFSETTO:+0100
TZNAME:Europe/Rome CET
END:STANDARD
BEGIN:STANDARD
DTSTART:20211031T020000
RDATE:20220327T030000
TZOFFSETFROM:+0200
TZOFFSETTO:+0100
TZNAME:Europe/Rome CET
END:STANDARD
BEGIN:STANDARD
DTSTART:20221030T020000
RDATE:20230326T030000
TZOFFSETFROM:+0200
TZOFFSETTO:+0100
TZNAME:Europe/Rome CET
END:STANDARD
BEGIN:STANDARD
DTSTART:20231029T020000
RDATE:20240331T030000
TZOFFSETFROM:+0200
TZOFFSETTO:+0100
TZNAME:Europe/Rome CET
END:STANDARD
BEGIN:STANDARD
DTSTART:20241027T020000
RDATE:20250330T030000
TZOFFSETFROM:+0200
TZOFFSETTO:+0100
TZNAME:Europe/Rome CET
END:STANDARD
BEGIN:STANDARD
DTSTART:20251026T020000
RDATE:20260329T030000
TZOFFSETFROM:+0200
TZOFFSETTO:+0100
TZNAME:Europe/Rome CET
END:STANDARD
BEGIN:STANDARD
DTSTART:20261025T020000
RDATE:20270328T030000
TZOFFSETFROM:+0200
TZOFFSETTO:+0100
TZNAME:Europe/Rome CET
END:STANDARD
BEGIN:STANDARD
DTSTART:20271031T020000
RDATE:20280326T030000
TZOFFSETFROM:+0200
TZOFFSETTO:+0100
TZNAME:Europe/Rome CET
END:STANDARD
BEGIN:STANDARD
DTSTART:20281029T020000
RDATE:20290325T030000
TZOFFSETFROM:+0200
TZOFFSETTO:+0100
TZNAME:Europe/Rome CET
END:STANDARD
BEGIN:STANDARD
DTSTART:20291028T020000
RDATE:20300331T030000
TZOFFSETFROM:+0200
TZOFFSETTO:+0100
TZNAME:Europe/Rome CET
END:STANDARD
BEGIN:STANDARD
DTSTART:20301027T020000
RDATE:20310330T030000
TZOFFSETFROM:+0200
TZOFFSETTO:+0100
TZNAME:Europe/Rome CET
END:STANDARD
BEGIN:STANDARD
DTSTART:20311026T020000
RDATE:20320328T030000
TZOFFSETFROM:+0200
TZOFFSETTO:+0100
TZNAME:Europe/Rome CET
END:STANDARD
BEGIN:STANDARD
DTSTART:20321031T020000
RDATE:20330327T030000
TZOFFSETFROM:+0200
TZOFFSETTO:+0100
TZNAME:Europe/Rome CET
END:STANDARD
BEGIN:STANDARD
DTSTART:20331030T020000
RDATE:20340326T030000
TZOFFSETFROM:+0200
TZOFFSETTO:+0100
TZNAME:Europe/Rome CET
END:STANDARD
BEGIN:STANDARD
DTSTART:20341029T020000
RDATE:20350325T030000
TZOFFSETFROM:+0200
TZOFFSETTO:+0100
TZNAME:Europe/Rome CET
END:STANDARD
BEGIN:STANDARD
DTSTART:20351028T020000
RDATE:20360330T030000
TZOFFSETFROM:+0200
TZOFFSETTO:+0100
TZNAME:Europe/Rome CET
END:STANDARD
BEGIN:STANDARD
DTSTART:20361026T020000
RDATE:20370329T030000
TZOFFSETFROM:+0200
TZOFFSETTO:+0100
TZNAME:Europe/Rome CET
END:STANDARD
BEGIN:STANDARD
DTSTART:20371025T020000
TZOFFSETFROM:+0200
TZOFFSETTO:+0100
TZNAME:Europe/Rome CET
END:STANDARD
BEGIN:DAYLIGHT
DTSTART:20130619T000100
RDATE:20131027T020000
TZOFFSETFROM:+0100
TZOFFSETTO:+0200
TZNAME:Europe/Rome CEST
END:DAYLIGHT
BEGIN:DAYLIGHT
DTSTART:20140330T030000
RDATE:20141026T020000
TZOFFSETFROM:+0100
TZOFFSETTO:+0200
TZNAME:Europe/Rome CEST
END:DAYLIGHT
BEGIN:DAYLIGHT
DTSTART:20150329T030000
RDATE:20151025T020000
TZOFFSETFROM:+0100
TZOFFSETTO:+0200
TZNAME:Europe/Rome CEST
END:DAYLIGHT
BEGIN:DAYLIGHT
DTSTART:20160327T030000
RDATE:20161030T020000
TZOFFSETFROM:+0100
TZOFFSETTO:+0200
TZNAME:Europe/Rome CEST
END:DAYLIGHT
BEGIN:DAYLIGHT
DTSTART:20170326T030000
RDATE:20171029T020000
TZOFFSETFROM:+0100
TZOFFSETTO:+0200
TZNAME:Europe/Rome CEST
END:DAYLIGHT
BEGIN:DAYLIGHT
DTSTART:20180325T030000
RDATE:20181028T020000
TZOFFSETFROM:+0100
TZOFFSETTO:+0200
TZNAME:Europe/Rome CEST
END:DAYLIGHT
BEGIN:DAYLIGHT
DTSTART:20190331T030000
RDATE:20191027T020000
TZOFFSETFROM:+0100
TZOFFSETTO:+0200
TZNAME:Europe/Rome CEST
END:DAYLIGHT
BEGIN:DAYLIGHT
DTSTART:20200329T030000
RDATE:20201025T020000
TZOFFSETFROM:+0100
TZOFFSETTO:+0200
TZNAME:Europe/Rome CEST
END:DAYLIGHT
BEGIN:DAYLIGHT
DTSTART:20210328T030000
RDATE:20211031T020000
TZOFFSETFROM:+0100
TZOFFSETTO:+0200
TZNAME:Europe/Rome CEST
END:DAYLIGHT
BEGIN:DAYLIGHT
DTSTART:20220327T030000
RDATE:20221030T020000
TZOFFSETFROM:+0100
TZOFFSETTO:+0200
TZNAME:Europe/Rome CEST
END:DAYLIGHT
BEGIN:DAYLIGHT
DTSTART:20230326T030000
RDATE:20231029T020000
TZOFFSETFROM:+0100
TZOFFSETTO:+0200
TZNAME:Europe/Rome CEST
END:DAYLIGHT
BEGIN:DAYLIGHT
DTSTART:20240331T030000
RDATE:20241027T020000
TZOFFSETFROM:+0100
TZOFFSETTO:+0200
TZNAME:Europe/Rome CEST
END:DAYLIGHT
BEGIN:DAYLIGHT
DTSTART:20250330T030000
RDATE:20251026T020000
TZOFFSETFROM:+0100
TZOFFSETTO:+0200
TZNAME:Europe/Rome CEST
END:DAYLIGHT
BEGIN:DAYLIGHT
DTSTART:20260329T030000
RDATE:20261025T020000
TZOFFSETFROM:+0100
TZOFFSETTO:+0200
TZNAME:Europe/Rome CEST
END:DAYLIGHT
BEGIN:DAYLIGHT
DTSTART:20270328T030000
RDATE:20271031T020000
TZOFFSETFROM:+0100
TZOFFSETTO:+0200
TZNAME:Europe/Rome CEST
END:DAYLIGHT
BEGIN:DAYLIGHT
DTSTART:20280326T030000
RDATE:20281029T020000
TZOFFSETFROM:+0100
TZOFFSETTO:+0200
TZNAME:Europe/Rome CEST
END:DAYLIGHT
BEGIN:DAYLIGHT
DTSTART:20290325T030000
RDATE:20291028T020000
TZOFFSETFROM:+0100
TZOFFSETTO:+0200
TZNAME:Europe/Rome CEST
END:DAYLIGHT
BEGIN:DAYLIGHT
DTSTART:20300331T030000
RDATE:20301027T020000
TZOFFSETFROM:+0100
TZOFFSETTO:+0200
TZNAME:Europe/Rome CEST
END:DAYLIGHT
BEGIN:DAYLIGHT
DTSTART:20310330T030000
RDATE:20311026T020000
TZOFFSETFROM:+0100
TZOFFSETTO:+0200
TZNAME:Europe/Rome CEST
END:DAYLIGHT
BEGIN:DAYLIGHT
DTSTART:20320328T030000
RDATE:20321031T020000
TZOFFSETFROM:+0100
TZOFFSETTO:+0200
TZNAME:Europe/Rome CEST
END:DAYLIGHT
BEGIN:DAYLIGHT
DTSTART:20330327T030000
RDATE:20331030T020000
TZOFFSETFROM:+0100
TZOFFSETTO:+0200
TZNAME:Europe/Rome CEST
END:DAYLIGHT
BEGIN:DAYLIGHT
DTSTART:20340326T030000
RDATE:20341029T020000
TZOFFSETFROM:+0100
TZOFFSETTO:+0200
TZNAME:Europe/Rome CEST
END:DAYLIGHT
BEGIN:DAYLIGHT
DTSTART:20350325T030000
RDATE:20351028T020000
TZOFFSETFROM:+0100
TZOFFSETTO:+0200
TZNAME:Europe/Rome CEST
END:DAYLIGHT
BEGIN:DAYLIGHT
DTSTART:20360330T030000
RDATE:20361026T020000
TZOFFSETFROM:+0100
TZOFFSETTO:+0200
TZNAME:Europe/Rome CEST
END:DAYLIGHT
BEGIN:DAYLIGHT
DTSTART:20370329T030000
RDATE:20371025T020000
TZOFFSETFROM:+0100
TZOFFSETTO:+0200
TZNAME:Europe/Rome CEST
END:DAYLIGHT
END:VTIMEZONE
BEGIN:VEVENT
UID:1429120088evt2754
CATEGORIES:.
SUMMARY:20/30- [Ramallah] Ashtar Theatre Festival
DESCRIPTION;ENCODING=QUOTED-PRINTABLE:Call for Participation: ASHTAR THEATRE International Youth Festival &ldquo;
 ATiYF&rdquo;, Palestine<br /><br />Palestinian Territories<br /><br /><stro
 ng>Call for Participation: <br />ASHTAR THEATRE International Youth Festiva
 l &ldquo;ATiYF&rdquo;, Palestine</strong><br /><strong><br />June 20 &ndash
 ; 30, 2014 <br /><br />Ramallah &ndash; Palestine <br /></strong><br />ASHT
 AR Theatre would like to invite you to its upcoming International Camp-Fest
  &ldquo;ATIYF&rdquo; - second edition, June the 20 In July 2012, ASHTAR The
 atre had its first international youth festival in Ramallah; with 50 intern
 ational and local theatre students, trainers and artists attending this Cam
 p-Fest. For 10 days, the participants gathered in a guesthouse in Ramallah,
  where they took different theater based workshops with international theat
 er trainers, visited different Palestinian cities to perform and to watch t
 heater performances. At the end of the ten days Camp Fest, the participants
  have performed a joined performance in front of a huge public audience, wh
 ich included acting, dancing and singing. <br /><br />This year, ATIYF Camp
 -Fest will be presenting after 5 days of workshops a collective open air pr
 esentation in Ramallah city on the 25th throughout the West Bank. <br /><br
  />Therefore, if you are interested in joining us in our 2nd send it back t
 o us before the March 30th<br /><br />Please note that the festival covers 
 the participants stay and accommodation throughout the whole Camp-Fest peri
 od, while the participants have to cover their international airfare.<br />
 <br />ASHTAR Theatre International Youth Festival <br /><br />ATiYF 2nd 20t
 h Edition 2014&nbsp; -30th&nbsp; edition in 2012. This biannual Camp-Fest <
 br /><br />June&nbsp; edition is a result of the success of its 1st continu
 ation of the achievement of &ldquo;The Gaza Monologues&rdquo; project and i
 ts global contacts and ongoing accomplishments. <br /><br />For more inform
 ation you can visit the Gaza Monologues website via this <br /><a href="htt
 p://www.thegazamonologues.com/ " target="_blank">http://www.thegazamonologu
 es.com/ </a> <br /><br />ATiYF aims at creating a forum for exchange of exp
 eriences&nbsp; between local and international young theatre students and e
 merging professionals aged (18 - 26 yrs). <br /><br />ATiYF Camp-Fest is an
  artistic celebration, a human sharing and an eye-opening experience for pa
 rticipants. It involves&nbsp; Palestinian and international youth in a way 
 that will break isolation of young artists; permitting a creative dialogue 
 between them and their professional mentors, for the development of future 
 work and the enhancement of future leaders.&nbsp; The Camp-Fest will be imp
 lemented from 20-30 June 2014, and will reach various West Bank <br /><br /
 >Cities: East Jerusalem, Hebron, Bethlehem, Ramallah, Nablus and Jenin. It 
 will include several performances, 4 workshops, a Location Theatre performa
 nce, a local touring, social gatherings &amp; cultural events. <br /><br />
 To who is interested in joining the upcoming festival; please fill the part
 icipation form and send it to the following email : <span id="cloak54503">Q
 uesto indirizzo email è protetto dagli spambots. È necessario abilitare Jav
 aScript per vederlo.</span><script type='text/javascript'>
 //<!--
 documen
 t.getElementById('cloak54503').innerHTML = '';
 var prefix = '&#109;a' + 'i
 &#108;' + '&#116;o';
 var path = 'hr' + 'ef' + '=';
 var addy54503 = '&#105
 ;nf&#111;' + '&#64;';
 addy54503 = addy54503 + '&#97;sht&#97;r-th&#101;&#97
 ;tr&#101;' + '&#46;' + '&#111;rg&#97;nd';
 document.getElementById('cloak54
 503').innerHTML += '<a ' + path + '\'' + prefix + ':' + addy54503 + '\'>' +
 addy54503+'<\/a>';
 //-->
 </script> <span id="cloak61824">Questo indirizzo
  email è protetto dagli spambots. È necessario abilitare JavaScript per ved
 erlo.</span><script type='text/javascript'>
 //<!--
 document.getElementByI
 d('cloak61824').innerHTML = '';
 var prefix = '&#109;a' + 'i&#108;' + '&#11
 6;o';
 var path = 'hr' + 'ef' + '=';
 var addy61824 = '&#101;m&#105;l&#101;
 s&#97;b&#97;97' + '&#64;';
 addy61824 = addy61824 + 'gm&#97;&#105;l' + '&#4
 6;' + 'c&#111;m';
 document.getElementById('cloak61824').innerHTML += '<a '
  + path + '\'' + prefix + ':' + addy61824 + '\'>' +addy61824+'<\/a>';
 //--
 >
 </script> <br /><br />Note: The Festival will cover your accommodation, 
 meals and local transportation throughout the 10 days Camp Fest. <br /><br 
 /><br />ASHTAR Theatre Website<br /><a href="http://www.ashtar-theatre.org/
 ?page_id=186" target="_blank">http://www.ashtar-theatre.org/?page_id=186</a
 > <br /><br />Facebook Page<br /><a href="https://www.facebook.com/ashtarth
 eatre?ref=hl" target="_blank">https://www.facebook.com/ashtartheatre?ref=hl
 </a> <br />
DTSTAMP:20260422T081431Z
DTSTART;TZID=Europe/Rome:20140620T000100
DTEND;TZID=Europe/Rome:20140621T000100
SEQUENCE:0
TRANSP:OPAQUE
END:VEVENT
END:VCALENDAR