BEGIN:VCALENDAR
VERSION:2.0
PRODID:-//jEvents 2.0 for Joomla//EN
CALSCALE:GREGORIAN
METHOD:PUBLISH
BEGIN:VTIMEZONE
TZID:Europe/Rome
BEGIN:STANDARD
DTSTART:20121028T020000
RDATE:20130331T030000
TZOFFSETFROM:+0200
TZOFFSETTO:+0100
TZNAME:Europe/Rome CET
END:STANDARD
BEGIN:STANDARD
DTSTART:20131027T020000
RDATE:20140330T030000
TZOFFSETFROM:+0200
TZOFFSETTO:+0100
TZNAME:Europe/Rome CET
END:STANDARD
BEGIN:STANDARD
DTSTART:20141026T020000
RDATE:20150329T030000
TZOFFSETFROM:+0200
TZOFFSETTO:+0100
TZNAME:Europe/Rome CET
END:STANDARD
BEGIN:STANDARD
DTSTART:20151025T020000
RDATE:20160327T030000
TZOFFSETFROM:+0200
TZOFFSETTO:+0100
TZNAME:Europe/Rome CET
END:STANDARD
BEGIN:STANDARD
DTSTART:20161030T020000
RDATE:20170326T030000
TZOFFSETFROM:+0200
TZOFFSETTO:+0100
TZNAME:Europe/Rome CET
END:STANDARD
BEGIN:STANDARD
DTSTART:20171029T020000
RDATE:20180325T030000
TZOFFSETFROM:+0200
TZOFFSETTO:+0100
TZNAME:Europe/Rome CET
END:STANDARD
BEGIN:STANDARD
DTSTART:20181028T020000
RDATE:20190331T030000
TZOFFSETFROM:+0200
TZOFFSETTO:+0100
TZNAME:Europe/Rome CET
END:STANDARD
BEGIN:STANDARD
DTSTART:20191027T020000
RDATE:20200329T030000
TZOFFSETFROM:+0200
TZOFFSETTO:+0100
TZNAME:Europe/Rome CET
END:STANDARD
BEGIN:STANDARD
DTSTART:20201025T020000
RDATE:20210328T030000
TZOFFSETFROM:+0200
TZOFFSETTO:+0100
TZNAME:Europe/Rome CET
END:STANDARD
BEGIN:STANDARD
DTSTART:20211031T020000
RDATE:20220327T030000
TZOFFSETFROM:+0200
TZOFFSETTO:+0100
TZNAME:Europe/Rome CET
END:STANDARD
BEGIN:STANDARD
DTSTART:20221030T020000
RDATE:20230326T030000
TZOFFSETFROM:+0200
TZOFFSETTO:+0100
TZNAME:Europe/Rome CET
END:STANDARD
BEGIN:STANDARD
DTSTART:20231029T020000
RDATE:20240331T030000
TZOFFSETFROM:+0200
TZOFFSETTO:+0100
TZNAME:Europe/Rome CET
END:STANDARD
BEGIN:STANDARD
DTSTART:20241027T020000
RDATE:20250330T030000
TZOFFSETFROM:+0200
TZOFFSETTO:+0100
TZNAME:Europe/Rome CET
END:STANDARD
BEGIN:STANDARD
DTSTART:20251026T020000
RDATE:20260329T030000
TZOFFSETFROM:+0200
TZOFFSETTO:+0100
TZNAME:Europe/Rome CET
END:STANDARD
BEGIN:STANDARD
DTSTART:20261025T020000
RDATE:20270328T030000
TZOFFSETFROM:+0200
TZOFFSETTO:+0100
TZNAME:Europe/Rome CET
END:STANDARD
BEGIN:STANDARD
DTSTART:20271031T020000
RDATE:20280326T030000
TZOFFSETFROM:+0200
TZOFFSETTO:+0100
TZNAME:Europe/Rome CET
END:STANDARD
BEGIN:STANDARD
DTSTART:20281029T020000
RDATE:20290325T030000
TZOFFSETFROM:+0200
TZOFFSETTO:+0100
TZNAME:Europe/Rome CET
END:STANDARD
BEGIN:STANDARD
DTSTART:20291028T020000
RDATE:20300331T030000
TZOFFSETFROM:+0200
TZOFFSETTO:+0100
TZNAME:Europe/Rome CET
END:STANDARD
BEGIN:STANDARD
DTSTART:20301027T020000
RDATE:20310330T030000
TZOFFSETFROM:+0200
TZOFFSETTO:+0100
TZNAME:Europe/Rome CET
END:STANDARD
BEGIN:STANDARD
DTSTART:20311026T020000
RDATE:20320328T030000
TZOFFSETFROM:+0200
TZOFFSETTO:+0100
TZNAME:Europe/Rome CET
END:STANDARD
BEGIN:STANDARD
DTSTART:20321031T020000
RDATE:20330327T030000
TZOFFSETFROM:+0200
TZOFFSETTO:+0100
TZNAME:Europe/Rome CET
END:STANDARD
BEGIN:STANDARD
DTSTART:20331030T020000
RDATE:20340326T030000
TZOFFSETFROM:+0200
TZOFFSETTO:+0100
TZNAME:Europe/Rome CET
END:STANDARD
BEGIN:STANDARD
DTSTART:20341029T020000
RDATE:20350325T030000
TZOFFSETFROM:+0200
TZOFFSETTO:+0100
TZNAME:Europe/Rome CET
END:STANDARD
BEGIN:STANDARD
DTSTART:20351028T020000
RDATE:20360330T030000
TZOFFSETFROM:+0200
TZOFFSETTO:+0100
TZNAME:Europe/Rome CET
END:STANDARD
BEGIN:STANDARD
DTSTART:20361026T020000
RDATE:20370329T030000
TZOFFSETFROM:+0200
TZOFFSETTO:+0100
TZNAME:Europe/Rome CET
END:STANDARD
BEGIN:STANDARD
DTSTART:20371025T020000
TZOFFSETFROM:+0200
TZOFFSETTO:+0100
TZNAME:Europe/Rome CET
END:STANDARD
BEGIN:DAYLIGHT
DTSTART:20121002T000100
RDATE:20121028T020000
TZOFFSETFROM:+0100
TZOFFSETTO:+0200
TZNAME:Europe/Rome CEST
END:DAYLIGHT
BEGIN:DAYLIGHT
DTSTART:20130331T030000
RDATE:20131027T020000
TZOFFSETFROM:+0100
TZOFFSETTO:+0200
TZNAME:Europe/Rome CEST
END:DAYLIGHT
BEGIN:DAYLIGHT
DTSTART:20140330T030000
RDATE:20141026T020000
TZOFFSETFROM:+0100
TZOFFSETTO:+0200
TZNAME:Europe/Rome CEST
END:DAYLIGHT
BEGIN:DAYLIGHT
DTSTART:20150329T030000
RDATE:20151025T020000
TZOFFSETFROM:+0100
TZOFFSETTO:+0200
TZNAME:Europe/Rome CEST
END:DAYLIGHT
BEGIN:DAYLIGHT
DTSTART:20160327T030000
RDATE:20161030T020000
TZOFFSETFROM:+0100
TZOFFSETTO:+0200
TZNAME:Europe/Rome CEST
END:DAYLIGHT
BEGIN:DAYLIGHT
DTSTART:20170326T030000
RDATE:20171029T020000
TZOFFSETFROM:+0100
TZOFFSETTO:+0200
TZNAME:Europe/Rome CEST
END:DAYLIGHT
BEGIN:DAYLIGHT
DTSTART:20180325T030000
RDATE:20181028T020000
TZOFFSETFROM:+0100
TZOFFSETTO:+0200
TZNAME:Europe/Rome CEST
END:DAYLIGHT
BEGIN:DAYLIGHT
DTSTART:20190331T030000
RDATE:20191027T020000
TZOFFSETFROM:+0100
TZOFFSETTO:+0200
TZNAME:Europe/Rome CEST
END:DAYLIGHT
BEGIN:DAYLIGHT
DTSTART:20200329T030000
RDATE:20201025T020000
TZOFFSETFROM:+0100
TZOFFSETTO:+0200
TZNAME:Europe/Rome CEST
END:DAYLIGHT
BEGIN:DAYLIGHT
DTSTART:20210328T030000
RDATE:20211031T020000
TZOFFSETFROM:+0100
TZOFFSETTO:+0200
TZNAME:Europe/Rome CEST
END:DAYLIGHT
BEGIN:DAYLIGHT
DTSTART:20220327T030000
RDATE:20221030T020000
TZOFFSETFROM:+0100
TZOFFSETTO:+0200
TZNAME:Europe/Rome CEST
END:DAYLIGHT
BEGIN:DAYLIGHT
DTSTART:20230326T030000
RDATE:20231029T020000
TZOFFSETFROM:+0100
TZOFFSETTO:+0200
TZNAME:Europe/Rome CEST
END:DAYLIGHT
BEGIN:DAYLIGHT
DTSTART:20240331T030000
RDATE:20241027T020000
TZOFFSETFROM:+0100
TZOFFSETTO:+0200
TZNAME:Europe/Rome CEST
END:DAYLIGHT
BEGIN:DAYLIGHT
DTSTART:20250330T030000
RDATE:20251026T020000
TZOFFSETFROM:+0100
TZOFFSETTO:+0200
TZNAME:Europe/Rome CEST
END:DAYLIGHT
BEGIN:DAYLIGHT
DTSTART:20260329T030000
RDATE:20261025T020000
TZOFFSETFROM:+0100
TZOFFSETTO:+0200
TZNAME:Europe/Rome CEST
END:DAYLIGHT
BEGIN:DAYLIGHT
DTSTART:20270328T030000
RDATE:20271031T020000
TZOFFSETFROM:+0100
TZOFFSETTO:+0200
TZNAME:Europe/Rome CEST
END:DAYLIGHT
BEGIN:DAYLIGHT
DTSTART:20280326T030000
RDATE:20281029T020000
TZOFFSETFROM:+0100
TZOFFSETTO:+0200
TZNAME:Europe/Rome CEST
END:DAYLIGHT
BEGIN:DAYLIGHT
DTSTART:20290325T030000
RDATE:20291028T020000
TZOFFSETFROM:+0100
TZOFFSETTO:+0200
TZNAME:Europe/Rome CEST
END:DAYLIGHT
BEGIN:DAYLIGHT
DTSTART:20300331T030000
RDATE:20301027T020000
TZOFFSETFROM:+0100
TZOFFSETTO:+0200
TZNAME:Europe/Rome CEST
END:DAYLIGHT
BEGIN:DAYLIGHT
DTSTART:20310330T030000
RDATE:20311026T020000
TZOFFSETFROM:+0100
TZOFFSETTO:+0200
TZNAME:Europe/Rome CEST
END:DAYLIGHT
BEGIN:DAYLIGHT
DTSTART:20320328T030000
RDATE:20321031T020000
TZOFFSETFROM:+0100
TZOFFSETTO:+0200
TZNAME:Europe/Rome CEST
END:DAYLIGHT
BEGIN:DAYLIGHT
DTSTART:20330327T030000
RDATE:20331030T020000
TZOFFSETFROM:+0100
TZOFFSETTO:+0200
TZNAME:Europe/Rome CEST
END:DAYLIGHT
BEGIN:DAYLIGHT
DTSTART:20340326T030000
RDATE:20341029T020000
TZOFFSETFROM:+0100
TZOFFSETTO:+0200
TZNAME:Europe/Rome CEST
END:DAYLIGHT
BEGIN:DAYLIGHT
DTSTART:20350325T030000
RDATE:20351028T020000
TZOFFSETFROM:+0100
TZOFFSETTO:+0200
TZNAME:Europe/Rome CEST
END:DAYLIGHT
BEGIN:DAYLIGHT
DTSTART:20360330T030000
RDATE:20361026T020000
TZOFFSETFROM:+0100
TZOFFSETTO:+0200
TZNAME:Europe/Rome CEST
END:DAYLIGHT
BEGIN:DAYLIGHT
DTSTART:20370329T030000
RDATE:20371025T020000
TZOFFSETFROM:+0100
TZOFFSETTO:+0200
TZNAME:Europe/Rome CEST
END:DAYLIGHT
END:VTIMEZONE
BEGIN:VEVENT
UID:1429120055evt2433
CATEGORIES:.
SUMMARY: 03- Tall el-Zaatar (film)
DESCRIPTION;ENCODING=QUOTED-PRINTABLE:<p>Fondazione Archivio Audiovisivo del Movimento Operaio e Democratico<br /
 ><br />Rete Romana di Solidariet&agrave; con il Popolo Palestinese<br /><br
  />presentano<br /><strong><br />Tall el-Zaatar</strong><br />di Mustafa Ab
 u Ali, Jean Chamoun, Pino Adriano<br />(Palestina/Italia, 1977, 75&#39;)<br
  /><strong><br />Giovedi&#39; 03 ottobre 2013<br />ore 19:00<br />&quot;Sal
 a zavattini&quot; Fondazione AAMOD</strong><br /><br />Il <strong>film docu
 mentario </strong>ricostruisce la storia dell&#39;assedio del campo-quartie
 re di tall el-Zaatar e della sua resistenza, nel <strong>contesto della gue
 rra civile libanese</strong>, raccontata da i protagonisti: uomini, donne e
  bambini palestinesi e libanesi abitanti nel campo e sopravvissuti alla str
 age. Insieme alle testimonianze, le immagini drammatiche della guerra girat
 e dagli operatori dell&#39;Istituto di Cinema Palestinese.<br /><br />Il fi
 lm sar&agrave; introdotto dalla presentazione del progetto ARCHIVIO VIVO re
 lativo al recupero e digitalizzazione del materiale non montato del film co
 nservato dall&#39;AAMOD.<br /><strong><br />INFO:</strong><br />AAMOD +39 0
 6 57305447 . <span id="cloak1228">Questo indirizzo email è protetto dagli s
 pambots. È necessario abilitare JavaScript per vederlo.</span><script type=
 'text/javascript'>
 //<!--
 document.getElementById('cloak1228').innerHTML 
 = '';
 var prefix = '&#109;a' + 'i&#108;' + '&#116;o';
 var path = 'hr' + '
 ef' + '=';
 var addy1228 = '&#105;nf&#111;' + '&#64;';
 addy1228 = addy1228
  + '&#97;&#97;m&#111;d' + '&#46;' + '&#105;t';
 document.getElementById('cl
 oak1228').innerHTML += '<a ' + path + '\'' + prefix + ':' + addy1228 + '\'>
 ' +addy1228+'<\/a>';
 //-->
 </script><br />RETE ROMANA PALESTINA <span id=
 "cloak47269">Questo indirizzo email è protetto dagli spambots. È necessario
  abilitare JavaScript per vederlo.</span><script type='text/javascript'>
 /
 /<!--
 document.getElementById('cloak47269').innerHTML = '';
 var prefix = 
 '&#109;a' + 'i&#108;' + '&#116;o';
 var path = 'hr' + 'ef' + '=';
 var addy
 47269 = 'r&#101;t&#101;r&#111;m&#97;n&#97;p&#97;l&#101;st&#105;n&#97;' + '&
 #64;';
 addy47269 = addy47269 + 'g&#111;&#111;gl&#101;gr&#111;&#117;ps' + '
 &#46;' + 'c&#111;m';
 document.getElementById('cloak47269').innerHTML += '<
 a ' + path + '\'' + prefix + ':' + addy47269 + '\'>' +addy47269+'<\/a>';
 /
 /-->
 </script><br /><br />------------------------<br /><br />Il film rico
 struisce la storia del&#39;assedio del campo di Tall El Zataar, compiuto da
 lle forze della destra libanese cristiana, appoggiata dalle truppe siriane 
 di Hafez Al Assad, e con la presenza di consiglieri israeliani. Sotto un ra
 cconto di Mariano Mingarelli <br />link: 12 agosto 1976: strage di Tall el 
 Zaatar (تل الزعتر ) <br /><a href="http://anpimirano.it/2013/12-agosto-1976
 -strage-di-tall-el-zaatar-%D8%AA%D9%84-%D8%A7%D9%84%D8%B2%D8%B9%D8%AA%D8%B1
 /" target="_blank">http://anpimirano.it/2013/12-agosto-1976-strage-di-tall-
 el-zaatar-%D8%AA%D9%84-%D8%A7%D9%84%D8%B2%D8%B9%D8%AA%D8%B1/</a> <br /><br 
 />E&#39; un film da vedere assolutamente perch&egrave; non &egrave; proiett
 ato nei normali circuiti audiovisivi.<br />------------------------<br /><b
 r /><strong>12 agosto 1976: strage di Tall el Zaatar (تل الزعتر )</strong><
 br /><br />AGOSTO 11, 2013<br /><br />In origine Tall El Zaatar (la collina
  del timo) era una bidonville alla periferia est di Beirut in Libano. giunt
 i i palestinesi, si trasform&ograve; a poco a poco: sorsero i palazzi, nacq
 uero le fabbriche. Alla vigilia della guerra, la citt&agrave; aveva 50.000 
 abitanti. Poi la guerra scoppi&ograve; e la parte orientale di Beirut cadde
  in mano ai cristiani. Tutta, tranne la &ldquo;collina del timo&rdquo;.<br 
 />Il 22 giugno 1976 i cristiani piazzarono intorno alla &ldquo;citt&agrave;
  dei palestinesi&rdquo; cannoni, razzi, mortai e seimila uomini. Cominci&og
 rave; l&rsquo;assedio. I palestinesi non potevano arrendersi, perch&egrave;
  la resa avrebbe significato morte sicura. Resistettero, ma era una resiste
 nza senza speranza: i siriani vigilavano che nessun aiuto fosse portato ai 
 trentamila assediati, i cristiani avevano provveduto a interrompere le forn
 iture d&rsquo;acqua.<br />Dentro Tall El Zaatar la gente prese a morire di 
 sete, di fame e per le ferite. Le ferite si sarebbero potuto curare ma i cr
 istiani non permettevano l&rsquo;invio di soccorsi. Il 17 luglio due medici
  e un infermiera svedesi lanciarono un appello alla Croce Rossa perch&egrav
 e; fossero evaquati quattromila feriti gravi. Giunsero le ambulanze ma i cr
 istiani le mitragliarono. Il 25 luglio croll&ograve; un palazzo e 500 civil
 i restarono sotto le macerie. Morirono tutti soffocati, perch&egrave; i cri
 stiani si esercitarono al tiro a segno sui soccorritori. Dal 3 al 6 agosto 
 la Croce Rossa riusc&igrave; ad evacuare 407 civili. Ma il 7 l&rsquo;organi
 zzazione dovette desistere a causa del fuoco ininterrotto degli assedianti.
  All&rsquo;alba del 12 agosto 1976, i miliziani fascisti della Falange, del
 le Tigri del Libano e i kataebisti cristiano-maroniti, penetrati a Tall El 
 Zaatar trucidano senza misericordia gli scampati all&rsquo;assedio che sono
  usciti dai rifugi per organizzare il trasporto dei feriti. Nelle stradine 
 di terra c&rsquo;&egrave; una caccia all&rsquo;uomo feroce, anche con i col
 telli. Gli uomini del campo dai 15 ai 40 anni sono tutti eliminati a freddo
 . Lo stesso destino capita a donne e ai loro bambini. Vengono assassinati 6
 0 infermieri. Pi&ugrave; tardi, in due riprese, il convoglio della Croce Ro
 ssa raccoglie direttamente dalle mani delle milizie cristiane alcune miglia
 ia di persone. Sono contro il muro, un&rsquo;immagine di vergogna. Un testi
 mone afferma che l&rsquo;entrata nord del campo, a Dekuaneh, &egrave; una v
 isione terribile, di orrore. Per muoversi tra le stradine, dove regna l&rsq
 uo;odore del putrido, dove decine e decine di cadaveri giacciono al suolo t
 anto che &egrave; impossibile contarli, bisogna usare la maschera. C&rsquo;
 &egrave; chi alla resa preferisce la morte combattendo. Chi, fatto prigioni
 ero, &egrave; ferocemente torturato prima di essere eliminato. Alla fine i 
 morti saranno circa 3000.<br />[da &ldquo;La diaspora palestinese in Libano
  e i tempi della guerra civile&rdquo;, di Mariano Mingarelli]</p><p>-------
 ------------</p><p><strong>LOCANDINA:</strong><br /><a href="http://www.aam
 od.it/archivio-file-e-notizie-recenti/cineforum-palestina-1" target="_blank
 ">http://www.aamod.it/archivio-file-e-notizie-recenti/cineforum-palestina-1
 </a> <br /><br /><strong>FONDAZIONE ARCHIVIO AUDIOVISIVO DEL MOVIMENTO OPER
 AIO E DEMOCRATICO</strong><br /><strong>Via Ostiense, 106 </strong>- 00154 
 Roma - Italia<br />tel.(39) 06/57289551 - 06/5742872 - 06/57305447 - fax (3
 9) 06/5758051 - e-mail: <span id="cloak12093">Questo indirizzo email è prot
 etto dagli spambots. È necessario abilitare JavaScript per vederlo.</span><
 script type='text/javascript'>
 //<!--
 document.getElementById('cloak12093
 ').innerHTML = '';
 var prefix = '&#109;a' + 'i&#108;' + '&#116;o';
 var pa
 th = 'hr' + 'ef' + '=';
 var addy12093 = '&#105;nf&#111;' + '&#64;';
 addy1
 2093 = addy12093 + '&#97;&#97;m&#111;d' + '&#46;' + '&#105;t';
 document.ge
 tElementById('cloak12093').innerHTML += '<a ' + path + '\'' + prefix + ':' 
 + addy12093 + '\'>' +addy12093+'<\/a>';
 //-->
 </script> - sito: www.aamod
 .it<br />&nbsp;</p>
DTSTAMP:20260422T063936Z
DTSTART;TZID=Europe/Rome:20131003T000100
DTEND;TZID=Europe/Rome:20131004T000100
SEQUENCE:0
TRANSP:OPAQUE
END:VEVENT
END:VCALENDAR