BEGIN:VCALENDAR
VERSION:2.0
PRODID:-//jEvents 2.0 for Joomla//EN
CALSCALE:GREGORIAN
METHOD:PUBLISH
BEGIN:VTIMEZONE
TZID:Europe/Rome
BEGIN:STANDARD
DTSTART:20121028T020000
RDATE:20130331T030000
TZOFFSETFROM:+0200
TZOFFSETTO:+0100
TZNAME:Europe/Rome CET
END:STANDARD
BEGIN:STANDARD
DTSTART:20131027T020000
RDATE:20140330T030000
TZOFFSETFROM:+0200
TZOFFSETTO:+0100
TZNAME:Europe/Rome CET
END:STANDARD
BEGIN:STANDARD
DTSTART:20141026T020000
RDATE:20150329T030000
TZOFFSETFROM:+0200
TZOFFSETTO:+0100
TZNAME:Europe/Rome CET
END:STANDARD
BEGIN:STANDARD
DTSTART:20151025T020000
RDATE:20160327T030000
TZOFFSETFROM:+0200
TZOFFSETTO:+0100
TZNAME:Europe/Rome CET
END:STANDARD
BEGIN:STANDARD
DTSTART:20161030T020000
RDATE:20170326T030000
TZOFFSETFROM:+0200
TZOFFSETTO:+0100
TZNAME:Europe/Rome CET
END:STANDARD
BEGIN:STANDARD
DTSTART:20171029T020000
RDATE:20180325T030000
TZOFFSETFROM:+0200
TZOFFSETTO:+0100
TZNAME:Europe/Rome CET
END:STANDARD
BEGIN:STANDARD
DTSTART:20181028T020000
RDATE:20190331T030000
TZOFFSETFROM:+0200
TZOFFSETTO:+0100
TZNAME:Europe/Rome CET
END:STANDARD
BEGIN:STANDARD
DTSTART:20191027T020000
RDATE:20200329T030000
TZOFFSETFROM:+0200
TZOFFSETTO:+0100
TZNAME:Europe/Rome CET
END:STANDARD
BEGIN:STANDARD
DTSTART:20201025T020000
RDATE:20210328T030000
TZOFFSETFROM:+0200
TZOFFSETTO:+0100
TZNAME:Europe/Rome CET
END:STANDARD
BEGIN:STANDARD
DTSTART:20211031T020000
RDATE:20220327T030000
TZOFFSETFROM:+0200
TZOFFSETTO:+0100
TZNAME:Europe/Rome CET
END:STANDARD
BEGIN:STANDARD
DTSTART:20221030T020000
RDATE:20230326T030000
TZOFFSETFROM:+0200
TZOFFSETTO:+0100
TZNAME:Europe/Rome CET
END:STANDARD
BEGIN:STANDARD
DTSTART:20231029T020000
RDATE:20240331T030000
TZOFFSETFROM:+0200
TZOFFSETTO:+0100
TZNAME:Europe/Rome CET
END:STANDARD
BEGIN:STANDARD
DTSTART:20241027T020000
RDATE:20250330T030000
TZOFFSETFROM:+0200
TZOFFSETTO:+0100
TZNAME:Europe/Rome CET
END:STANDARD
BEGIN:STANDARD
DTSTART:20251026T020000
RDATE:20260329T030000
TZOFFSETFROM:+0200
TZOFFSETTO:+0100
TZNAME:Europe/Rome CET
END:STANDARD
BEGIN:STANDARD
DTSTART:20261025T020000
RDATE:20270328T030000
TZOFFSETFROM:+0200
TZOFFSETTO:+0100
TZNAME:Europe/Rome CET
END:STANDARD
BEGIN:STANDARD
DTSTART:20271031T020000
RDATE:20280326T030000
TZOFFSETFROM:+0200
TZOFFSETTO:+0100
TZNAME:Europe/Rome CET
END:STANDARD
BEGIN:STANDARD
DTSTART:20281029T020000
RDATE:20290325T030000
TZOFFSETFROM:+0200
TZOFFSETTO:+0100
TZNAME:Europe/Rome CET
END:STANDARD
BEGIN:STANDARD
DTSTART:20291028T020000
RDATE:20300331T030000
TZOFFSETFROM:+0200
TZOFFSETTO:+0100
TZNAME:Europe/Rome CET
END:STANDARD
BEGIN:STANDARD
DTSTART:20301027T020000
RDATE:20310330T030000
TZOFFSETFROM:+0200
TZOFFSETTO:+0100
TZNAME:Europe/Rome CET
END:STANDARD
BEGIN:STANDARD
DTSTART:20311026T020000
RDATE:20320328T030000
TZOFFSETFROM:+0200
TZOFFSETTO:+0100
TZNAME:Europe/Rome CET
END:STANDARD
BEGIN:STANDARD
DTSTART:20321031T020000
RDATE:20330327T030000
TZOFFSETFROM:+0200
TZOFFSETTO:+0100
TZNAME:Europe/Rome CET
END:STANDARD
BEGIN:STANDARD
DTSTART:20331030T020000
RDATE:20340326T030000
TZOFFSETFROM:+0200
TZOFFSETTO:+0100
TZNAME:Europe/Rome CET
END:STANDARD
BEGIN:STANDARD
DTSTART:20341029T020000
RDATE:20350325T030000
TZOFFSETFROM:+0200
TZOFFSETTO:+0100
TZNAME:Europe/Rome CET
END:STANDARD
BEGIN:STANDARD
DTSTART:20351028T020000
RDATE:20360330T030000
TZOFFSETFROM:+0200
TZOFFSETTO:+0100
TZNAME:Europe/Rome CET
END:STANDARD
BEGIN:STANDARD
DTSTART:20361026T020000
RDATE:20370329T030000
TZOFFSETFROM:+0200
TZOFFSETTO:+0100
TZNAME:Europe/Rome CET
END:STANDARD
BEGIN:STANDARD
DTSTART:20371025T020000
TZOFFSETFROM:+0200
TZOFFSETTO:+0100
TZNAME:Europe/Rome CET
END:STANDARD
BEGIN:DAYLIGHT
DTSTART:20120913T000100
RDATE:20121028T020000
TZOFFSETFROM:+0100
TZOFFSETTO:+0200
TZNAME:Europe/Rome CEST
END:DAYLIGHT
BEGIN:DAYLIGHT
DTSTART:20130331T030000
RDATE:20131027T020000
TZOFFSETFROM:+0100
TZOFFSETTO:+0200
TZNAME:Europe/Rome CEST
END:DAYLIGHT
BEGIN:DAYLIGHT
DTSTART:20140330T030000
RDATE:20141026T020000
TZOFFSETFROM:+0100
TZOFFSETTO:+0200
TZNAME:Europe/Rome CEST
END:DAYLIGHT
BEGIN:DAYLIGHT
DTSTART:20150329T030000
RDATE:20151025T020000
TZOFFSETFROM:+0100
TZOFFSETTO:+0200
TZNAME:Europe/Rome CEST
END:DAYLIGHT
BEGIN:DAYLIGHT
DTSTART:20160327T030000
RDATE:20161030T020000
TZOFFSETFROM:+0100
TZOFFSETTO:+0200
TZNAME:Europe/Rome CEST
END:DAYLIGHT
BEGIN:DAYLIGHT
DTSTART:20170326T030000
RDATE:20171029T020000
TZOFFSETFROM:+0100
TZOFFSETTO:+0200
TZNAME:Europe/Rome CEST
END:DAYLIGHT
BEGIN:DAYLIGHT
DTSTART:20180325T030000
RDATE:20181028T020000
TZOFFSETFROM:+0100
TZOFFSETTO:+0200
TZNAME:Europe/Rome CEST
END:DAYLIGHT
BEGIN:DAYLIGHT
DTSTART:20190331T030000
RDATE:20191027T020000
TZOFFSETFROM:+0100
TZOFFSETTO:+0200
TZNAME:Europe/Rome CEST
END:DAYLIGHT
BEGIN:DAYLIGHT
DTSTART:20200329T030000
RDATE:20201025T020000
TZOFFSETFROM:+0100
TZOFFSETTO:+0200
TZNAME:Europe/Rome CEST
END:DAYLIGHT
BEGIN:DAYLIGHT
DTSTART:20210328T030000
RDATE:20211031T020000
TZOFFSETFROM:+0100
TZOFFSETTO:+0200
TZNAME:Europe/Rome CEST
END:DAYLIGHT
BEGIN:DAYLIGHT
DTSTART:20220327T030000
RDATE:20221030T020000
TZOFFSETFROM:+0100
TZOFFSETTO:+0200
TZNAME:Europe/Rome CEST
END:DAYLIGHT
BEGIN:DAYLIGHT
DTSTART:20230326T030000
RDATE:20231029T020000
TZOFFSETFROM:+0100
TZOFFSETTO:+0200
TZNAME:Europe/Rome CEST
END:DAYLIGHT
BEGIN:DAYLIGHT
DTSTART:20240331T030000
RDATE:20241027T020000
TZOFFSETFROM:+0100
TZOFFSETTO:+0200
TZNAME:Europe/Rome CEST
END:DAYLIGHT
BEGIN:DAYLIGHT
DTSTART:20250330T030000
RDATE:20251026T020000
TZOFFSETFROM:+0100
TZOFFSETTO:+0200
TZNAME:Europe/Rome CEST
END:DAYLIGHT
BEGIN:DAYLIGHT
DTSTART:20260329T030000
RDATE:20261025T020000
TZOFFSETFROM:+0100
TZOFFSETTO:+0200
TZNAME:Europe/Rome CEST
END:DAYLIGHT
BEGIN:DAYLIGHT
DTSTART:20270328T030000
RDATE:20271031T020000
TZOFFSETFROM:+0100
TZOFFSETTO:+0200
TZNAME:Europe/Rome CEST
END:DAYLIGHT
BEGIN:DAYLIGHT
DTSTART:20280326T030000
RDATE:20281029T020000
TZOFFSETFROM:+0100
TZOFFSETTO:+0200
TZNAME:Europe/Rome CEST
END:DAYLIGHT
BEGIN:DAYLIGHT
DTSTART:20290325T030000
RDATE:20291028T020000
TZOFFSETFROM:+0100
TZOFFSETTO:+0200
TZNAME:Europe/Rome CEST
END:DAYLIGHT
BEGIN:DAYLIGHT
DTSTART:20300331T030000
RDATE:20301027T020000
TZOFFSETFROM:+0100
TZOFFSETTO:+0200
TZNAME:Europe/Rome CEST
END:DAYLIGHT
BEGIN:DAYLIGHT
DTSTART:20310330T030000
RDATE:20311026T020000
TZOFFSETFROM:+0100
TZOFFSETTO:+0200
TZNAME:Europe/Rome CEST
END:DAYLIGHT
BEGIN:DAYLIGHT
DTSTART:20320328T030000
RDATE:20321031T020000
TZOFFSETFROM:+0100
TZOFFSETTO:+0200
TZNAME:Europe/Rome CEST
END:DAYLIGHT
BEGIN:DAYLIGHT
DTSTART:20330327T030000
RDATE:20331030T020000
TZOFFSETFROM:+0100
TZOFFSETTO:+0200
TZNAME:Europe/Rome CEST
END:DAYLIGHT
BEGIN:DAYLIGHT
DTSTART:20340326T030000
RDATE:20341029T020000
TZOFFSETFROM:+0100
TZOFFSETTO:+0200
TZNAME:Europe/Rome CEST
END:DAYLIGHT
BEGIN:DAYLIGHT
DTSTART:20350325T030000
RDATE:20351028T020000
TZOFFSETFROM:+0100
TZOFFSETTO:+0200
TZNAME:Europe/Rome CEST
END:DAYLIGHT
BEGIN:DAYLIGHT
DTSTART:20360330T030000
RDATE:20361026T020000
TZOFFSETFROM:+0100
TZOFFSETTO:+0200
TZNAME:Europe/Rome CEST
END:DAYLIGHT
BEGIN:DAYLIGHT
DTSTART:20370329T030000
RDATE:20371025T020000
TZOFFSETFROM:+0100
TZOFFSETTO:+0200
TZNAME:Europe/Rome CEST
END:DAYLIGHT
END:VTIMEZONE
BEGIN:VEVENT
UID:1429120053evt2417
CATEGORIES:.
SUMMARY:14- Bethlehem (film)
DESCRIPTION;ENCODING=QUOTED-PRINTABLE:14.09.2013<br /><strong>al Farnese <br />alle 20.30 per la rassegna &quot;V
 enezia a Roma&quot; </strong><br />sara&#39; proiettato <br /><strong>&quot
 ;Bethlehem&quot; Un film di Yuval Adler</strong><br /><br />------------<br
  /><br /><strong>Selezione Ufficiale<br />BETHLEHEM<br />di Yuval Adler<br 
 />Prima mondiale, Opera prima<br />Israele, Belgio, Germania, 2013, 99&#39;
 , Arri Raw, colore</strong><br /><br />sceneggiatura Yuval Adler, Ali Waked
 <br />fotografia Yaron Scharf<br />montaggio Ron Omer<br />musica Ishai Ada
 r<br />suono Francois Dumont<br />scenografia Yoav Sinai<br />costumi Lee A
 lembik<br />interpreti Shadi Mar&#39;i (Sanfur), Tsahi Halevy (Razi)<br />H
 itham Omari (Badawi), Tarek Copti (Abu Ibrahim)<br />Michal Shtemler (Einat
 ), Hisham Suliman (Ibrahim)<br />George Iskandar (Nasser), Yossi Eini (Levi
 ), Efrat Shnap (Maya)<br />Karem Shakur (Abu Mussa), Ibrahim Sakala (Tyson)
 <br /><br />produttori Talia Kleinhendler, Osnat Handelsman-keren<br />Dian
 a Elbaum, Sebastian Delloye, Steve Hudson, Sonja Ewers<br />produzioni Pie 
 Films, Entre Chien et Loup, Gringo Films<br />produttore esecutivo Ephraim 
 Gildor<br /><br />vendite internazionali WestEnd Films<br />5-7 Hillgate St
 reet, London, W8 7SP<br />Tel. +44 207 494 8300 - Fax +44 207 494 8301<br /
 ><span id="cloak47986">Questo indirizzo email è protetto dagli spambots. È 
 necessario abilitare JavaScript per vederlo.</span><script type='text/javas
 cript'>
 //<!--
 document.getElementById('cloak47986').innerHTML = '';
 var
  prefix = '&#109;a' + 'i&#108;' + '&#116;o';
 var path = 'hr' + 'ef' + '=';
 
 var addy47986 = '&#105;nf&#111;' + '&#64;';
 addy47986 = addy47986 + 'w&#
 101;st&#101;ndf&#105;lms' + '&#46;' + 'c&#111;m';
 document.getElementById(
 'cloak47986').innerHTML += '<a ' + path + '\'' + prefix + ':' + addy47986 +
  '\'>' +addy47986+'<\/a>';
 //-->
 </script> - <a href="http://www.westendf
 ilms.com" target="_blank">www.westendfilms.com</a> <br /><br />ufficio stam
 pa Premier<br />Annabel Hutton<br />Tel. +44 207 292 7349<br />Mobile +44 7
 710 199 324<br /><span id="cloak9624">Questo indirizzo email è protetto dag
 li spambots. È necessario abilitare JavaScript per vederlo.</span><script t
 ype='text/javascript'>
 //<!--
 document.getElementById('cloak9624').innerH
 TML = '';
 var prefix = '&#109;a' + 'i&#108;' + '&#116;o';
 var path = 'hr'
  + 'ef' + '=';
 var addy9624 = '&#97;nn&#97;b&#101;l.h&#117;tt&#111;n' + '&
 #64;';
 addy9624 = addy9624 + 'pr&#101;m&#105;&#101;rc&#111;mms' + '&#46;' 
 + 'c&#111;m';
 document.getElementById('cloak9624').innerHTML += '<a ' + pa
 th + '\'' + prefix + ':' + addy9624 + '\'>' +addy9624+'<\/a>';
 //-->
 </sc
 ript><br /><a href="http://www.premiercomms.com" target="_blank">www.premie
 rcomms.com</a> <br /><br />Sanfur &egrave; il fratello minore di Ibrahim, u
 n combattente palestinese ricercato. Razi, determinato a catturare o ad ass
 assinare Ibrahim, &egrave; un agente del servizio segreto israeliano che ha
  reclutato Sanfur quando aveva appena quindici anni, investendo tutte le su
 e energie nel ragazzo e sviluppando una relazione intima con lui, quasi pat
 erna. Sanfur, che &egrave; sempre vissuto all&#39;ombra del fratello, si se
 nte lusingato dalle attenzioni di Razi. Ora, a diciassette anni, cercando d
 i destreggiarsi tra le richieste di Razi e la lealt&agrave; verso il fratel
 lo, Sanfur vive una doppia vita mentendo a entrambi. Quando i servizi segre
 ti israeliani scoprono quanto il ragazzo sia profondamente coinvolto nelle 
 attivit&agrave; del fratello maggiore, accusano Razi di aver anteposto i su
 oi sentimenti personali ai doveri professionali, e gli ordinano di sacrific
 are Sanfur per uccidere Ibrahim. Mentre i preparativi per l&#39;attentato s
 ono in corso, Razi e Sanfur prenderanno delle decisioni che cambieranno la 
 loro vita in maniera irreversibile.<br /><br />&laquo;Un agente dei servizi
  segreti israeliani una volta mi ha detto: &quot;la chiave per il reclutame
 nto e la gestione degli informatori &egrave; nello sviluppare una relazione
  intima con loro, sul piano personale. Non &egrave; solo l&#39;informatore 
 a sentirsi confuso sulla sua propria identit&agrave; e lealt&agrave;, anche
  l&#39;agente finisce col non distinguere pi&ugrave; con chiarezza il limit
 e&quot;. Bethlehem si muove tra la societ&agrave; palestinese e quella isra
 eliana. Passa da scene pi&ugrave; intime, come quelle in cui vengono raccol
 te le informazioni, a quelle esplosive delle operazioni militari su larga s
 cala. Ho tentato di non evitare, e anzi di accentuare i contrasti. I person
 aggi del film sono compromessi, estremi, e non sempre &egrave; facile prova
 re empatia per loro. Ho cercato di rappresentare i loro diversi e contraddi
 ttori punti di vista in un insieme, senza prendere posizione e senza giudic
 arli&raquo;. [Yuval Adler]<br /><br />Yuval Adler studia matematica all&#39
 ;Universit&agrave; di Tel Aviv, e si &egrave; poi trasferisce a New York do
 ve consegue un dottorato in filosofia alla Columbia University. Alla Columb
 ia studia anche scultura e fotografia. Nel periodo trascorso a New York par
 tecipa a diverse mostre d&#39;arte prima di dedicarsi a tempo pieno alla sc
 eneggiatura e alla regia cinematografica. Bethlehem, scritto con Ali Waked,
  &egrave; il suo primo lungometraggio.<br /><br />2013 Bethlehem<br /><br /
 ><strong>Fonte: </strong><br /><a href="http://www.venice-days.com/film.asp
 ?id=9&amp;id_dettaglio=229&amp;lang=" target="_blank">http://www.venice-day
 s.com/film.asp?id=9&amp;id_dettaglio=229&amp;lang=</a> <br /><br />--------
 ----<br /><br /><br /><strong>Bethlehem. Un film di Yuval Adler. 70. Mostra
  Internazionale d&rsquo;Arte Cinematografica di Venezia. Giornate degli aut
 ori</strong><br /><br />&nbsp;di Maurizio G. De Bonis<br /><br />Riguardo i
 l conflitto israelo-palestinese, specie in Europa, tutti si sentono in grad
 o di emettere giudizi precisi, prendere posizioni incrollabili, interpretar
 e la situazione grazie a certezze granitiche, o peggio ideologiche. La real
 t&agrave; &egrave; invece molto complessa, difficile da decodificare nei su
 oi molteplici dettagli, densa di elementi di cui in Occidente mai si parla.
  Il quadro che emerge dagli organi di comunicazione &egrave; poi decisament
 e sconfortante: spesso tragicamente superficiale e approssimativo, quando n
 on contraddistinto da errori di informazione, in alcuni casi molto gravi e 
 dettati dal pregiudizio.<br />Anche il cinema ha purtroppo contribuito in p
 assato a generare ulteriore confusione grazie a opere che hanno fornito una
  visione parziale di accadimenti politici, storici e sociali.<br />Ci&ograv
 e; non accade per&ograve; nel film intitolato Bethlehem, del regista esordi
 ente Yuval Adler.<br /><br />E&rsquo; un&rsquo;opera di rara intelligenza e
  lucidit&agrave; che non intende dare spiegazioni e neanche indicare sempli
 cistiche soluzioni. Oltretutto, si tratta di un&rsquo;operazione artistico/
 produttiva che vede israeliani a palestinesi lavorare fianco a fianco. Scen
 eggiatori della pellicola sono lo stesso Adler e il palestinese Al&igrave; 
 Waked, la produzione &egrave; internazionale israelo/tedesco/belga (con la 
 partecipazione dell&rsquo;Israel Film Fund, l&rsquo;ente pubblico israelian
 o di sostegno al cinema di qualit&agrave;) e gli interpreti principali sono
  israeliani e palestinesi, insieme.<br /><br />In una fase iniziale di anal
 isi, Bethlehem potrebbe configurarsi come la classica spy-story mediorienta
 le, con cenni di azioni militari e qualche risvolto psicologico. Si manifes
 ta, invece, come un testo audiovisivo di notevole profondit&agrave; in cui 
 si &egrave; cercato di raffigurare una realt&agrave; contorta in modo pi&ug
 rave; corretto possibile.<br />La vicenda dell&rsquo;agente dei servizi seg
 reti di Israele che costruisce un rapporto intimo e forte con il suo inform
 atore palestinese &egrave; emblematica rispetto alla condizione esistenzial
 e di persone che si trovano a operare in circostanze ardue, pericolose e, a
  volte, inquietanti. Non c&rsquo;&egrave; la classica &ldquo;connessione&rd
 quo; vittima-carnefice, anzi si assiste alla formazione di un legame nato s
 ulle basi dell&rsquo;ambiguit&agrave; e di un oggettivo squilibrio di poter
 e che si trasforma in qualcosa di pi&ugrave; solido e vero.<br />Dall&rsquo
 ;altra parte si vede la rappresentazione del mondo palestinese non come un 
 blocco monolitico che combatte il nemico ma come un caos di fazioni, una co
 ntro l&rsquo;altra armate per motivi strategici, politici e financo religio
 si. Si palesano, cos&igrave;, allo spettatore sfaccettature del conflitto i
 sraelo-palestinese sconosciute a molti, soprattutto a coloro i quali pontif
 icano su questo argomento senza mai aver avuto cognizione diretta delle cos
 e.<br /><br />Ma ci&ograve; che maggiormente colpisce di Bethlehem &egrave;
  come Yuval Adler e Al&igrave; Waked non abbiamo voluto cedere allo stereot
 ipo insopportabile della rappresentazione dei &ldquo;buoni e dei cattivi&rd
 quo; in modo netto, preferendo fare riferimento a quella zona grigia (in cu
 i &egrave; impossibile distinguere il bene dal male con assoluta certezza) 
 che caratterizza lo scontro israelo/palestinese nella sua realt&agrave; eff
 ettiva. Viene cos&igrave; fuori da questa pellicola non un giudizio politic
 o (per fortuna) e neanche una presa di posizione ideologica (finalmente) ma
  un affresco umano di cospicuo spessore che serve a illuminare il dramma ch
 e vivono entrambi i popoli.<br /><br />A livello filmico, Adler dimostra di
  saper gestire visivamente una storia dalla struttura non uniforme. Dialogh
 i intimi si alternano a scene d&rsquo;azione militare, il paesaggio deserti
 co a quello urbano, gli interni agli esterni, le case arabe e quelle israel
 iane, in un articolato mosaico espressivo che &egrave; sorprendentemente ar
 monioso.<br />Il cast &egrave; principalmente impostato su attori non profe
 ssionisti come il musicista israeliano Tsahi Halevy e il giornalista/camera
 man palestinese Hitham Omari. Ma &egrave; doveroso citare anche Shadi Mar&r
 squo;i, Tarek Copti e Yossi Eini. Tutti (ognuno in modo personale) riescono
  a fornire totale credibilit&agrave; ai loro personaggi e a comporre una co
 ntroversa sinfonia di fattori umani.<br /><br />&copy; CultFrame 08/2013<br
  /><br />&nbsp;<br /><br /><strong>TRAMA</strong><br />Sanfur &egrave; un g
 iovane palestinese che fa l&rsquo;informatore per gli israeliani. Il suo ag
 ente di riferimento &egrave; Razi. Tra i due si stabilisce un rapporto quas
 i affettivo, pur nell&rsquo;ambiguit&agrave; della situazione. Il problema 
 &egrave; che Sanfur &egrave; fratello di un terrorista che ha effettuato un
  sanguinoso attentato a Gerusalemme. La determinazione degli israeliani nel
  catturare il fratello di Sanfur fa da contro altare alle fazioni palestine
 si in lotta tra loro. In mezzo, la figura fragile di Sanfur divisa tra la v
 olont&agrave; di assicurare alla sua famiglia un po&rsquo; di tranquillit&a
 grave;, grazie alla sua azione di spionaggio, e il desiderio di non tradire
  il fratello.<br /><br /><br /><strong>CREDITI</strong><br />Titolo: Bethle
 hem / Regista: Yuval Adler / Sceneggiatura: Yuval Adler, Ali Waked / Fotogr
 afia: Yaron Scharf / Montaggio: Ron Omer / Musica: Ishai Adar / Scenografia
 : Yoav Sinai / Interpreti principali: Shadi Mar&rsquo;i, Tsahi Halevy, Hith
 am Omari, Tarek Copti, Yossi Eini / Produzione: Israel Film Fund, Pier Film
 s, Entre Chien et Loup, Gringo Films / Paese: Israele, Belgio, Germania, 20
 13 / Durata: 99&prime;<br /><br /><strong>Fonte:</strong><br /><a href="htt
 p://www.cultframe.com/2013/08/bethlehem-film-yuval-adler/" target="_blank">
 http://www.cultframe.com/2013/08/bethlehem-film-yuval-adler/</a> 
DTSTAMP:20260422T081328Z
DTSTART;TZID=Europe/Rome:20130914T000100
DTEND;TZID=Europe/Rome:20130915T000100
SEQUENCE:0
TRANSP:OPAQUE
END:VEVENT
END:VCALENDAR