BEGIN:VCALENDAR
VERSION:2.0
PRODID:-//jEvents 2.0 for Joomla//EN
CALSCALE:GREGORIAN
METHOD:PUBLISH
BEGIN:VTIMEZONE
TZID:Europe/Rome
BEGIN:STANDARD
DTSTART:20121028T020000
RDATE:20130331T030000
TZOFFSETFROM:+0200
TZOFFSETTO:+0100
TZNAME:Europe/Rome CET
END:STANDARD
BEGIN:STANDARD
DTSTART:20131027T020000
RDATE:20140330T030000
TZOFFSETFROM:+0200
TZOFFSETTO:+0100
TZNAME:Europe/Rome CET
END:STANDARD
BEGIN:STANDARD
DTSTART:20141026T020000
RDATE:20150329T030000
TZOFFSETFROM:+0200
TZOFFSETTO:+0100
TZNAME:Europe/Rome CET
END:STANDARD
BEGIN:STANDARD
DTSTART:20151025T020000
RDATE:20160327T030000
TZOFFSETFROM:+0200
TZOFFSETTO:+0100
TZNAME:Europe/Rome CET
END:STANDARD
BEGIN:STANDARD
DTSTART:20161030T020000
RDATE:20170326T030000
TZOFFSETFROM:+0200
TZOFFSETTO:+0100
TZNAME:Europe/Rome CET
END:STANDARD
BEGIN:STANDARD
DTSTART:20171029T020000
RDATE:20180325T030000
TZOFFSETFROM:+0200
TZOFFSETTO:+0100
TZNAME:Europe/Rome CET
END:STANDARD
BEGIN:STANDARD
DTSTART:20181028T020000
RDATE:20190331T030000
TZOFFSETFROM:+0200
TZOFFSETTO:+0100
TZNAME:Europe/Rome CET
END:STANDARD
BEGIN:STANDARD
DTSTART:20191027T020000
RDATE:20200329T030000
TZOFFSETFROM:+0200
TZOFFSETTO:+0100
TZNAME:Europe/Rome CET
END:STANDARD
BEGIN:STANDARD
DTSTART:20201025T020000
RDATE:20210328T030000
TZOFFSETFROM:+0200
TZOFFSETTO:+0100
TZNAME:Europe/Rome CET
END:STANDARD
BEGIN:STANDARD
DTSTART:20211031T020000
RDATE:20220327T030000
TZOFFSETFROM:+0200
TZOFFSETTO:+0100
TZNAME:Europe/Rome CET
END:STANDARD
BEGIN:STANDARD
DTSTART:20221030T020000
RDATE:20230326T030000
TZOFFSETFROM:+0200
TZOFFSETTO:+0100
TZNAME:Europe/Rome CET
END:STANDARD
BEGIN:STANDARD
DTSTART:20231029T020000
RDATE:20240331T030000
TZOFFSETFROM:+0200
TZOFFSETTO:+0100
TZNAME:Europe/Rome CET
END:STANDARD
BEGIN:STANDARD
DTSTART:20241027T020000
RDATE:20250330T030000
TZOFFSETFROM:+0200
TZOFFSETTO:+0100
TZNAME:Europe/Rome CET
END:STANDARD
BEGIN:STANDARD
DTSTART:20251026T020000
RDATE:20260329T030000
TZOFFSETFROM:+0200
TZOFFSETTO:+0100
TZNAME:Europe/Rome CET
END:STANDARD
BEGIN:STANDARD
DTSTART:20261025T020000
RDATE:20270328T030000
TZOFFSETFROM:+0200
TZOFFSETTO:+0100
TZNAME:Europe/Rome CET
END:STANDARD
BEGIN:STANDARD
DTSTART:20271031T020000
RDATE:20280326T030000
TZOFFSETFROM:+0200
TZOFFSETTO:+0100
TZNAME:Europe/Rome CET
END:STANDARD
BEGIN:STANDARD
DTSTART:20281029T020000
RDATE:20290325T030000
TZOFFSETFROM:+0200
TZOFFSETTO:+0100
TZNAME:Europe/Rome CET
END:STANDARD
BEGIN:STANDARD
DTSTART:20291028T020000
RDATE:20300331T030000
TZOFFSETFROM:+0200
TZOFFSETTO:+0100
TZNAME:Europe/Rome CET
END:STANDARD
BEGIN:STANDARD
DTSTART:20301027T020000
RDATE:20310330T030000
TZOFFSETFROM:+0200
TZOFFSETTO:+0100
TZNAME:Europe/Rome CET
END:STANDARD
BEGIN:STANDARD
DTSTART:20311026T020000
RDATE:20320328T030000
TZOFFSETFROM:+0200
TZOFFSETTO:+0100
TZNAME:Europe/Rome CET
END:STANDARD
BEGIN:STANDARD
DTSTART:20321031T020000
RDATE:20330327T030000
TZOFFSETFROM:+0200
TZOFFSETTO:+0100
TZNAME:Europe/Rome CET
END:STANDARD
BEGIN:STANDARD
DTSTART:20331030T020000
RDATE:20340326T030000
TZOFFSETFROM:+0200
TZOFFSETTO:+0100
TZNAME:Europe/Rome CET
END:STANDARD
BEGIN:STANDARD
DTSTART:20341029T020000
RDATE:20350325T030000
TZOFFSETFROM:+0200
TZOFFSETTO:+0100
TZNAME:Europe/Rome CET
END:STANDARD
BEGIN:STANDARD
DTSTART:20351028T020000
RDATE:20360330T030000
TZOFFSETFROM:+0200
TZOFFSETTO:+0100
TZNAME:Europe/Rome CET
END:STANDARD
BEGIN:STANDARD
DTSTART:20361026T020000
RDATE:20370329T030000
TZOFFSETFROM:+0200
TZOFFSETTO:+0100
TZNAME:Europe/Rome CET
END:STANDARD
BEGIN:STANDARD
DTSTART:20371025T020000
TZOFFSETFROM:+0200
TZOFFSETTO:+0100
TZNAME:Europe/Rome CET
END:STANDARD
BEGIN:DAYLIGHT
DTSTART:20120601T000100
RDATE:20121028T020000
TZOFFSETFROM:+0100
TZOFFSETTO:+0200
TZNAME:Europe/Rome CEST
END:DAYLIGHT
BEGIN:DAYLIGHT
DTSTART:20130331T030000
RDATE:20131027T020000
TZOFFSETFROM:+0100
TZOFFSETTO:+0200
TZNAME:Europe/Rome CEST
END:DAYLIGHT
BEGIN:DAYLIGHT
DTSTART:20140330T030000
RDATE:20141026T020000
TZOFFSETFROM:+0100
TZOFFSETTO:+0200
TZNAME:Europe/Rome CEST
END:DAYLIGHT
BEGIN:DAYLIGHT
DTSTART:20150329T030000
RDATE:20151025T020000
TZOFFSETFROM:+0100
TZOFFSETTO:+0200
TZNAME:Europe/Rome CEST
END:DAYLIGHT
BEGIN:DAYLIGHT
DTSTART:20160327T030000
RDATE:20161030T020000
TZOFFSETFROM:+0100
TZOFFSETTO:+0200
TZNAME:Europe/Rome CEST
END:DAYLIGHT
BEGIN:DAYLIGHT
DTSTART:20170326T030000
RDATE:20171029T020000
TZOFFSETFROM:+0100
TZOFFSETTO:+0200
TZNAME:Europe/Rome CEST
END:DAYLIGHT
BEGIN:DAYLIGHT
DTSTART:20180325T030000
RDATE:20181028T020000
TZOFFSETFROM:+0100
TZOFFSETTO:+0200
TZNAME:Europe/Rome CEST
END:DAYLIGHT
BEGIN:DAYLIGHT
DTSTART:20190331T030000
RDATE:20191027T020000
TZOFFSETFROM:+0100
TZOFFSETTO:+0200
TZNAME:Europe/Rome CEST
END:DAYLIGHT
BEGIN:DAYLIGHT
DTSTART:20200329T030000
RDATE:20201025T020000
TZOFFSETFROM:+0100
TZOFFSETTO:+0200
TZNAME:Europe/Rome CEST
END:DAYLIGHT
BEGIN:DAYLIGHT
DTSTART:20210328T030000
RDATE:20211031T020000
TZOFFSETFROM:+0100
TZOFFSETTO:+0200
TZNAME:Europe/Rome CEST
END:DAYLIGHT
BEGIN:DAYLIGHT
DTSTART:20220327T030000
RDATE:20221030T020000
TZOFFSETFROM:+0100
TZOFFSETTO:+0200
TZNAME:Europe/Rome CEST
END:DAYLIGHT
BEGIN:DAYLIGHT
DTSTART:20230326T030000
RDATE:20231029T020000
TZOFFSETFROM:+0100
TZOFFSETTO:+0200
TZNAME:Europe/Rome CEST
END:DAYLIGHT
BEGIN:DAYLIGHT
DTSTART:20240331T030000
RDATE:20241027T020000
TZOFFSETFROM:+0100
TZOFFSETTO:+0200
TZNAME:Europe/Rome CEST
END:DAYLIGHT
BEGIN:DAYLIGHT
DTSTART:20250330T030000
RDATE:20251026T020000
TZOFFSETFROM:+0100
TZOFFSETTO:+0200
TZNAME:Europe/Rome CEST
END:DAYLIGHT
BEGIN:DAYLIGHT
DTSTART:20260329T030000
RDATE:20261025T020000
TZOFFSETFROM:+0100
TZOFFSETTO:+0200
TZNAME:Europe/Rome CEST
END:DAYLIGHT
BEGIN:DAYLIGHT
DTSTART:20270328T030000
RDATE:20271031T020000
TZOFFSETFROM:+0100
TZOFFSETTO:+0200
TZNAME:Europe/Rome CEST
END:DAYLIGHT
BEGIN:DAYLIGHT
DTSTART:20280326T030000
RDATE:20281029T020000
TZOFFSETFROM:+0100
TZOFFSETTO:+0200
TZNAME:Europe/Rome CEST
END:DAYLIGHT
BEGIN:DAYLIGHT
DTSTART:20290325T030000
RDATE:20291028T020000
TZOFFSETFROM:+0100
TZOFFSETTO:+0200
TZNAME:Europe/Rome CEST
END:DAYLIGHT
BEGIN:DAYLIGHT
DTSTART:20300331T030000
RDATE:20301027T020000
TZOFFSETFROM:+0100
TZOFFSETTO:+0200
TZNAME:Europe/Rome CEST
END:DAYLIGHT
BEGIN:DAYLIGHT
DTSTART:20310330T030000
RDATE:20311026T020000
TZOFFSETFROM:+0100
TZOFFSETTO:+0200
TZNAME:Europe/Rome CEST
END:DAYLIGHT
BEGIN:DAYLIGHT
DTSTART:20320328T030000
RDATE:20321031T020000
TZOFFSETFROM:+0100
TZOFFSETTO:+0200
TZNAME:Europe/Rome CEST
END:DAYLIGHT
BEGIN:DAYLIGHT
DTSTART:20330327T030000
RDATE:20331030T020000
TZOFFSETFROM:+0100
TZOFFSETTO:+0200
TZNAME:Europe/Rome CEST
END:DAYLIGHT
BEGIN:DAYLIGHT
DTSTART:20340326T030000
RDATE:20341029T020000
TZOFFSETFROM:+0100
TZOFFSETTO:+0200
TZNAME:Europe/Rome CEST
END:DAYLIGHT
BEGIN:DAYLIGHT
DTSTART:20350325T030000
RDATE:20351028T020000
TZOFFSETFROM:+0100
TZOFFSETTO:+0200
TZNAME:Europe/Rome CEST
END:DAYLIGHT
BEGIN:DAYLIGHT
DTSTART:20360330T030000
RDATE:20361026T020000
TZOFFSETFROM:+0100
TZOFFSETTO:+0200
TZNAME:Europe/Rome CEST
END:DAYLIGHT
BEGIN:DAYLIGHT
DTSTART:20370329T030000
RDATE:20371025T020000
TZOFFSETFROM:+0100
TZOFFSETTO:+0200
TZNAME:Europe/Rome CEST
END:DAYLIGHT
END:VTIMEZONE
BEGIN:VEVENT
UID:1429120042evt2315
CATEGORIES:.
SUMMARY:01/22- [Firenze] Le Vie delle Lettere (mostra)
DESCRIPTION;ENCODING=QUOTED-PRINTABLE:<p><strong>Titolo:</strong> Le Vie delle Lettere. La Tipografia Medicea tra
  Roma e l&#39;Oriente</p> <p><strong>Ente promotore: </strong>Biblioteca Me
 dicea Laurenziana</p> <p><strong>Sede espositiva:</strong> Biblioteca Medic
 ea Laurenziana, Piazza San Lorenzo 9, Firenze</p> <p><strong>Durata mostra:
 </strong> 26 ottobre 2012-22 giugno 2013</p> <p><strong>Orario mostra:</str
 ong> luned&igrave; &ndash; sabato  ore 9,30-13,30; chiuso domenica e festiv
 i <strong>(Aperto il 25 aprile.)</strong></p> <p><strong>Biglietti:</strong
 > &euro; 3 &ndash; &euro; 2.50 se acquistato unitamente al biglietto della 
 Basilica di San Lorenzo</p> <p><strong>Informazioni:</strong> tel. 055 2107
 60 <a href="mailto:<span id="cloak6487">Questo indirizzo email è protetto d
 agli spambots. È necessario abilitare JavaScript per vederlo.</span><script
  type='text/javascript'>
 //<!--
 document.getElementById('cloak6487').inne
 rHTML = '';
 var prefix = '&#109;a' + 'i&#108;' + '&#116;o';
 var path = 'h
 r' + 'ef' + '=';
 var addy6487 = 'b-m&#101;l&#97;.m&#111;str&#101;' + '&#64
 ;';
 addy6487 = addy6487 + 'b&#101;n&#105;c&#117;lt&#117;r&#97;l&#105;' + '
 &#46;' + '&#105;t';
 document.getElementById('cloak6487').innerHTML += '<a 
 ' + path + '\'' + prefix + ':' + addy6487 + '\'>' +addy6487+'<\/a>';
 //-->
 
 </script>"><em><span id="cloak1097">Questo indirizzo email è protetto dag
 li spambots. È necessario abilitare JavaScript per vederlo.</span><script t
 ype='text/javascript'>
 //<!--
 document.getElementById('cloak1097').innerH
 TML = '';
 var prefix = '&#109;a' + 'i&#108;' + '&#116;o';
 var path = 'hr'
  + 'ef' + '=';
 var addy1097 = 'b-m&#101;l&#97;.m&#111;str&#101;' + '&#64;'
 ;
 addy1097 = addy1097 + 'b&#101;n&#105;c&#117;lt&#117;r&#97;l&#105;' + '&#
 46;' + '&#105;t';
 document.getElementById('cloak1097').innerHTML += '<a ' 
 + path + '\'' + prefix + ':' + addy1097 + '\'>' +addy1097+'<\/a>';
 //-->
 
 </script></em></a></p> <p><strong>Visite guidate : </strong>tel. 055290184 
 o  <a href="mailto:<span id="cloak81687">Questo indirizzo email è protetto 
 dagli spambots. È necessario abilitare JavaScript per vederlo.</span><scrip
 t type='text/javascript'>
 //<!--
 document.getElementById('cloak81687').in
 nerHTML = '';
 var prefix = '&#109;a' + 'i&#108;' + '&#116;o';
 var path = 
 'hr' + 'ef' + '=';
 var addy81687 = 'd&#105;d&#97;tt&#105;c&#97;' + '&#64;'
 ;
 addy81687 = addy81687 + '&#111;p&#101;r&#97;d&#97;rt&#101;' + '&#46;' + 
 'n&#101;t';
 document.getElementById('cloak81687').innerHTML += '<a ' + pat
 h + '\'' + prefix + ':' + addy81687 + '\'>' +addy81687+'<\/a>';
 //-->
 </s
 cript>"><em><span id="cloak50630">Questo indirizzo email è protetto dagli s
 pambots. È necessario abilitare JavaScript per vederlo.</span><script type=
 'text/javascript'>
 //<!--
 document.getElementById('cloak50630').innerHTML
  = '';
 var prefix = '&#109;a' + 'i&#108;' + '&#116;o';
 var path = 'hr' + 
 'ef' + '=';
 var addy50630 = 'd&#105;d&#97;tt&#105;c&#97;' + '&#64;';
 addy
 50630 = addy50630 + '&#111;p&#101;r&#97;d&#97;rt&#101;' + '&#46;' + 'n&#101
 ;t';
 document.getElementById('cloak50630').innerHTML += '<a ' + path + '\'
 ' + prefix + ':' + addy50630 + '\'>' +addy50630+'<\/a>';
 //-->
 </script><
 /em></a></p> <p><strong>Catalogo:</strong> Le Vie delle Lettere. La Tipogra
 fia  Medicea tra Roma e l&#39;Oriente a cura di Margherita Farina, Sara Fan
 i.  Firenze, Mandragora, 2012. Testi di Pier Giorgio Borbone, Sara Fani,  M
 argherita Farina, Neil Harris, Giorgio Strano, Vera Valitutto</p> <p><stron
 g>Progetto espositivo:</strong> Fabrizio Monaci e Roberta Paganucci archite
 tti</p> <p><strong>Presentazione multimediale:</strong> Biblioteca Medicea 
 Laurenziana: Claudio Finocchi, IFNET s.r.l., Bottegacinema s.r.l.</p>  <p><
 strong>Ufficio stampa:</strong> <br />   Anna Rita Fantoni Claudio Finocchi
 , Biblioteca Medicea Laurenziana, tel. 210760 <br />   <a href="mailto:<spa
 n id="cloak67784">Questo indirizzo email è protetto dagli spambots. È neces
 sario abilitare JavaScript per vederlo.</span><script type='text/javascript
 '>
 //<!--
 document.getElementById('cloak67784').innerHTML = '';
 var pref
 ix = '&#109;a' + 'i&#108;' + '&#116;o';
 var path = 'hr' + 'ef' + '=';
 var
  addy67784 = 'b-m&#101;l&#97;.m&#111;str&#101;' + '&#64;';
 addy67784 = add
 y67784 + 'b&#101;n&#105;c&#117;lt&#117;r&#97;l&#105;' + '&#46;' + '&#105;t'
 ;
 document.getElementById('cloak67784').innerHTML += '<a ' + path + '\'' +
  prefix + ':' + addy67784 + '\'>' +addy67784+'<\/a>';
 //-->
 </script>"><e
 m><span id="cloak74609">Questo indirizzo email è protetto dagli spambots. È
  necessario abilitare JavaScript per vederlo.</span><script type='text/java
 script'>
 //<!--
 document.getElementById('cloak74609').innerHTML = '';
 va
 r prefix = '&#109;a' + 'i&#108;' + '&#116;o';
 var path = 'hr' + 'ef' + '='
 ;
 var addy74609 = 'b-m&#101;l&#97;.m&#111;str&#101;' + '&#64;';
 addy74609
  = addy74609 + 'b&#101;n&#105;c&#117;lt&#117;r&#97;l&#105;' + '&#46;' + '&#
 105;t';
 document.getElementById('cloak74609').innerHTML += '<a ' + path + 
 '\'' + prefix + ':' + addy74609 + '\'>' +addy74609+'<\/a>';
 //-->
 </scrip
 t></em></a></p><p> Sig. Claudio Finocchi Settore Esposizioni e Iniziative c
 ulturali, risorse informatiche, pagina web<br />   Biblioteca Medicea Laure
 nziana<br />   <a href="mailto:<span id="cloak90928">Questo indirizzo email
  è protetto dagli spambots. È necessario abilitare JavaScript per vederlo.<
 /span><script type='text/javascript'>
 //<!--
 document.getElementById('clo
 ak90928').innerHTML = '';
 var prefix = '&#109;a' + 'i&#108;' + '&#116;o';

  var path = 'hr' + 'ef' + '=';
 var addy90928 = 'b-m&#101;l&#97;.w&#101;b' 
 + '&#64;';
 addy90928 = addy90928 + 'b&#101;n&#105;c&#117;lt&#117;r&#97;l&#
 105;' + '&#46;' + '&#105;t';
 document.getElementById('cloak90928').innerHT
 ML += '<a ' + path + '\'' + prefix + ':' + addy90928 + '\'>' +addy90928+'<\
 /a>';
 //-->
 </script>"><em><span id="cloak62297">Questo indirizzo email è
  protetto dagli spambots. È necessario abilitare JavaScript per vederlo.</s
 pan><script type='text/javascript'>
 //<!--
 document.getElementById('cloak
 62297').innerHTML = '';
 var prefix = '&#109;a' + 'i&#108;' + '&#116;o';
 v
 ar path = 'hr' + 'ef' + '=';
 var addy62297 = 'b-m&#101;l&#97;.w&#101;b' + 
 '&#64;';
 addy62297 = addy62297 + 'b&#101;n&#105;c&#117;lt&#117;r&#97;l&#10
 5;' + '&#46;' + '&#105;t';
 document.getElementById('cloak62297').innerHTML
  += '<a ' + path + '\'' + prefix + ':' + addy62297 + '\'>' +addy62297+'<\/a
 >';
 //-->
 </script></em></a></p><p>INFO: <a href="http://www.bml.firenze.
 sbn.it/it/comunicato_stampa_le_vie_delle_lettere.htm" target="_blank">http:
 //www.bml.firenze.sbn.it/it/comunicato_stampa_le_vie_delle_lettere.htm </a>
  </p>
DTSTAMP:20260424T142052Z
DTSTART;TZID=Europe/Rome:20130602T000100
DTEND;TZID=Europe/Rome:20130603T000100
SEQUENCE:0
TRANSP:OPAQUE
END:VEVENT
END:VCALENDAR