BEGIN:VCALENDAR
VERSION:2.0
PRODID:-//jEvents 2.0 for Joomla//EN
CALSCALE:GREGORIAN
METHOD:PUBLISH
BEGIN:VTIMEZONE
TZID:Europe/Rome
BEGIN:STANDARD
DTSTART:20121028T020000
RDATE:20130331T030000
TZOFFSETFROM:+0200
TZOFFSETTO:+0100
TZNAME:Europe/Rome CET
END:STANDARD
BEGIN:STANDARD
DTSTART:20131027T020000
RDATE:20140330T030000
TZOFFSETFROM:+0200
TZOFFSETTO:+0100
TZNAME:Europe/Rome CET
END:STANDARD
BEGIN:STANDARD
DTSTART:20141026T020000
RDATE:20150329T030000
TZOFFSETFROM:+0200
TZOFFSETTO:+0100
TZNAME:Europe/Rome CET
END:STANDARD
BEGIN:STANDARD
DTSTART:20151025T020000
RDATE:20160327T030000
TZOFFSETFROM:+0200
TZOFFSETTO:+0100
TZNAME:Europe/Rome CET
END:STANDARD
BEGIN:STANDARD
DTSTART:20161030T020000
RDATE:20170326T030000
TZOFFSETFROM:+0200
TZOFFSETTO:+0100
TZNAME:Europe/Rome CET
END:STANDARD
BEGIN:STANDARD
DTSTART:20171029T020000
RDATE:20180325T030000
TZOFFSETFROM:+0200
TZOFFSETTO:+0100
TZNAME:Europe/Rome CET
END:STANDARD
BEGIN:STANDARD
DTSTART:20181028T020000
RDATE:20190331T030000
TZOFFSETFROM:+0200
TZOFFSETTO:+0100
TZNAME:Europe/Rome CET
END:STANDARD
BEGIN:STANDARD
DTSTART:20191027T020000
RDATE:20200329T030000
TZOFFSETFROM:+0200
TZOFFSETTO:+0100
TZNAME:Europe/Rome CET
END:STANDARD
BEGIN:STANDARD
DTSTART:20201025T020000
RDATE:20210328T030000
TZOFFSETFROM:+0200
TZOFFSETTO:+0100
TZNAME:Europe/Rome CET
END:STANDARD
BEGIN:STANDARD
DTSTART:20211031T020000
RDATE:20220327T030000
TZOFFSETFROM:+0200
TZOFFSETTO:+0100
TZNAME:Europe/Rome CET
END:STANDARD
BEGIN:STANDARD
DTSTART:20221030T020000
RDATE:20230326T030000
TZOFFSETFROM:+0200
TZOFFSETTO:+0100
TZNAME:Europe/Rome CET
END:STANDARD
BEGIN:STANDARD
DTSTART:20231029T020000
RDATE:20240331T030000
TZOFFSETFROM:+0200
TZOFFSETTO:+0100
TZNAME:Europe/Rome CET
END:STANDARD
BEGIN:STANDARD
DTSTART:20241027T020000
RDATE:20250330T030000
TZOFFSETFROM:+0200
TZOFFSETTO:+0100
TZNAME:Europe/Rome CET
END:STANDARD
BEGIN:STANDARD
DTSTART:20251026T020000
RDATE:20260329T030000
TZOFFSETFROM:+0200
TZOFFSETTO:+0100
TZNAME:Europe/Rome CET
END:STANDARD
BEGIN:STANDARD
DTSTART:20261025T020000
RDATE:20270328T030000
TZOFFSETFROM:+0200
TZOFFSETTO:+0100
TZNAME:Europe/Rome CET
END:STANDARD
BEGIN:STANDARD
DTSTART:20271031T020000
RDATE:20280326T030000
TZOFFSETFROM:+0200
TZOFFSETTO:+0100
TZNAME:Europe/Rome CET
END:STANDARD
BEGIN:STANDARD
DTSTART:20281029T020000
RDATE:20290325T030000
TZOFFSETFROM:+0200
TZOFFSETTO:+0100
TZNAME:Europe/Rome CET
END:STANDARD
BEGIN:STANDARD
DTSTART:20291028T020000
RDATE:20300331T030000
TZOFFSETFROM:+0200
TZOFFSETTO:+0100
TZNAME:Europe/Rome CET
END:STANDARD
BEGIN:STANDARD
DTSTART:20301027T020000
RDATE:20310330T030000
TZOFFSETFROM:+0200
TZOFFSETTO:+0100
TZNAME:Europe/Rome CET
END:STANDARD
BEGIN:STANDARD
DTSTART:20311026T020000
RDATE:20320328T030000
TZOFFSETFROM:+0200
TZOFFSETTO:+0100
TZNAME:Europe/Rome CET
END:STANDARD
BEGIN:STANDARD
DTSTART:20321031T020000
RDATE:20330327T030000
TZOFFSETFROM:+0200
TZOFFSETTO:+0100
TZNAME:Europe/Rome CET
END:STANDARD
BEGIN:STANDARD
DTSTART:20331030T020000
RDATE:20340326T030000
TZOFFSETFROM:+0200
TZOFFSETTO:+0100
TZNAME:Europe/Rome CET
END:STANDARD
BEGIN:STANDARD
DTSTART:20341029T020000
RDATE:20350325T030000
TZOFFSETFROM:+0200
TZOFFSETTO:+0100
TZNAME:Europe/Rome CET
END:STANDARD
BEGIN:STANDARD
DTSTART:20351028T020000
RDATE:20360330T030000
TZOFFSETFROM:+0200
TZOFFSETTO:+0100
TZNAME:Europe/Rome CET
END:STANDARD
BEGIN:STANDARD
DTSTART:20361026T020000
RDATE:20370329T030000
TZOFFSETFROM:+0200
TZOFFSETTO:+0100
TZNAME:Europe/Rome CET
END:STANDARD
BEGIN:STANDARD
DTSTART:20371025T020000
TZOFFSETFROM:+0200
TZOFFSETTO:+0100
TZNAME:Europe/Rome CET
END:STANDARD
BEGIN:DAYLIGHT
DTSTART:20120331T000100
RDATE:20121028T020000
TZOFFSETFROM:+0100
TZOFFSETTO:+0200
TZNAME:Europe/Rome CEST
END:DAYLIGHT
BEGIN:DAYLIGHT
DTSTART:20130331T030000
RDATE:20131027T020000
TZOFFSETFROM:+0100
TZOFFSETTO:+0200
TZNAME:Europe/Rome CEST
END:DAYLIGHT
BEGIN:DAYLIGHT
DTSTART:20140330T030000
RDATE:20141026T020000
TZOFFSETFROM:+0100
TZOFFSETTO:+0200
TZNAME:Europe/Rome CEST
END:DAYLIGHT
BEGIN:DAYLIGHT
DTSTART:20150329T030000
RDATE:20151025T020000
TZOFFSETFROM:+0100
TZOFFSETTO:+0200
TZNAME:Europe/Rome CEST
END:DAYLIGHT
BEGIN:DAYLIGHT
DTSTART:20160327T030000
RDATE:20161030T020000
TZOFFSETFROM:+0100
TZOFFSETTO:+0200
TZNAME:Europe/Rome CEST
END:DAYLIGHT
BEGIN:DAYLIGHT
DTSTART:20170326T030000
RDATE:20171029T020000
TZOFFSETFROM:+0100
TZOFFSETTO:+0200
TZNAME:Europe/Rome CEST
END:DAYLIGHT
BEGIN:DAYLIGHT
DTSTART:20180325T030000
RDATE:20181028T020000
TZOFFSETFROM:+0100
TZOFFSETTO:+0200
TZNAME:Europe/Rome CEST
END:DAYLIGHT
BEGIN:DAYLIGHT
DTSTART:20190331T030000
RDATE:20191027T020000
TZOFFSETFROM:+0100
TZOFFSETTO:+0200
TZNAME:Europe/Rome CEST
END:DAYLIGHT
BEGIN:DAYLIGHT
DTSTART:20200329T030000
RDATE:20201025T020000
TZOFFSETFROM:+0100
TZOFFSETTO:+0200
TZNAME:Europe/Rome CEST
END:DAYLIGHT
BEGIN:DAYLIGHT
DTSTART:20210328T030000
RDATE:20211031T020000
TZOFFSETFROM:+0100
TZOFFSETTO:+0200
TZNAME:Europe/Rome CEST
END:DAYLIGHT
BEGIN:DAYLIGHT
DTSTART:20220327T030000
RDATE:20221030T020000
TZOFFSETFROM:+0100
TZOFFSETTO:+0200
TZNAME:Europe/Rome CEST
END:DAYLIGHT
BEGIN:DAYLIGHT
DTSTART:20230326T030000
RDATE:20231029T020000
TZOFFSETFROM:+0100
TZOFFSETTO:+0200
TZNAME:Europe/Rome CEST
END:DAYLIGHT
BEGIN:DAYLIGHT
DTSTART:20240331T030000
RDATE:20241027T020000
TZOFFSETFROM:+0100
TZOFFSETTO:+0200
TZNAME:Europe/Rome CEST
END:DAYLIGHT
BEGIN:DAYLIGHT
DTSTART:20250330T030000
RDATE:20251026T020000
TZOFFSETFROM:+0100
TZOFFSETTO:+0200
TZNAME:Europe/Rome CEST
END:DAYLIGHT
BEGIN:DAYLIGHT
DTSTART:20260329T030000
RDATE:20261025T020000
TZOFFSETFROM:+0100
TZOFFSETTO:+0200
TZNAME:Europe/Rome CEST
END:DAYLIGHT
BEGIN:DAYLIGHT
DTSTART:20270328T030000
RDATE:20271031T020000
TZOFFSETFROM:+0100
TZOFFSETTO:+0200
TZNAME:Europe/Rome CEST
END:DAYLIGHT
BEGIN:DAYLIGHT
DTSTART:20280326T030000
RDATE:20281029T020000
TZOFFSETFROM:+0100
TZOFFSETTO:+0200
TZNAME:Europe/Rome CEST
END:DAYLIGHT
BEGIN:DAYLIGHT
DTSTART:20290325T030000
RDATE:20291028T020000
TZOFFSETFROM:+0100
TZOFFSETTO:+0200
TZNAME:Europe/Rome CEST
END:DAYLIGHT
BEGIN:DAYLIGHT
DTSTART:20300331T030000
RDATE:20301027T020000
TZOFFSETFROM:+0100
TZOFFSETTO:+0200
TZNAME:Europe/Rome CEST
END:DAYLIGHT
BEGIN:DAYLIGHT
DTSTART:20310330T030000
RDATE:20311026T020000
TZOFFSETFROM:+0100
TZOFFSETTO:+0200
TZNAME:Europe/Rome CEST
END:DAYLIGHT
BEGIN:DAYLIGHT
DTSTART:20320328T030000
RDATE:20321031T020000
TZOFFSETFROM:+0100
TZOFFSETTO:+0200
TZNAME:Europe/Rome CEST
END:DAYLIGHT
BEGIN:DAYLIGHT
DTSTART:20330327T030000
RDATE:20331030T020000
TZOFFSETFROM:+0100
TZOFFSETTO:+0200
TZNAME:Europe/Rome CEST
END:DAYLIGHT
BEGIN:DAYLIGHT
DTSTART:20340326T030000
RDATE:20341029T020000
TZOFFSETFROM:+0100
TZOFFSETTO:+0200
TZNAME:Europe/Rome CEST
END:DAYLIGHT
BEGIN:DAYLIGHT
DTSTART:20350325T030000
RDATE:20351028T020000
TZOFFSETFROM:+0100
TZOFFSETTO:+0200
TZNAME:Europe/Rome CEST
END:DAYLIGHT
BEGIN:DAYLIGHT
DTSTART:20360330T030000
RDATE:20361026T020000
TZOFFSETFROM:+0100
TZOFFSETTO:+0200
TZNAME:Europe/Rome CEST
END:DAYLIGHT
BEGIN:DAYLIGHT
DTSTART:20370329T030000
RDATE:20371025T020000
TZOFFSETFROM:+0100
TZOFFSETTO:+0200
TZNAME:Europe/Rome CEST
END:DAYLIGHT
END:VTIMEZONE
BEGIN:VEVENT
UID:1429120037evt2266
CATEGORIES:.
SUMMARY:Programma Accademia d'Egitto aprile 2013
DESCRIPTION;ENCODING=QUOTED-PRINTABLE:<strong>ACCADEMIA D&#39;EGITTO<br />PROGRAMMA APRILE 2013</strong><br /><br
  />Info: tel. 06 320 18 96 (lun.-ven. dalle 9.00 alle 15.00) - Via Omero 4 
 - <span id="cloak18469">Questo indirizzo email è protetto dagli spambots. È
  necessario abilitare JavaScript per vederlo.</span><script type='text/java
 script'>
 //<!--
 document.getElementById('cloak18469').innerHTML = '';
 va
 r prefix = '&#109;a' + 'i&#108;' + '&#116;o';
 var path = 'hr' + 'ef' + '='
 ;
 var addy18469 = '&#105;nf&#111;' + '&#64;';
 addy18469 = addy18469 + '&#
 97;cc&#97;d&#101;m&#105;&#97;&#101;g&#105;tt&#111;' + '&#46;' + '&#105;t-';
 
 document.getElementById('cloak18469').innerHTML += '<a ' + path + '\'' + 
 prefix + ':' + addy18469 + '\'>' +addy18469+'<\/a>';
 //-->
 </script> www.
 accademiaegitto.org<br /><br /><strong>2 MARTEDI</strong><br />Sala confere
 nze<br />16.00-18.00<br />LEZIONE DI APERTURA DEL CORSO<br />a cura del pro
 f. Alessandro Roccati<br />&ldquo;L&rsquo;Egittologia al principio del III 
 Millennio&rdquo;<br /><br /><strong>3 MERCOLEDI</strong><br />Sala conferen
 ze<br />17.00-18.00<br />8 Settimane di Egittologia<br />Lezione a cura del
  Prof. Maged Gayed<br />&ldquo;Terminologia tecnico-artistica&rdquo;<br /><
 br /><strong>4 GIOVEDI</strong><br />RASSEGNA CINEMATOGRAFICA<br />EGITTO, 
 LAHOLLYWOOD D&rsquo;ORIENTE<br /><br />Galleria<br />18.30-19.00<br />Inaug
 urazione<br />della mostra fotografica<br />&ldquo;I favolosi anni del Cine
 ma<br />Egiziano&rdquo; dell&rsquo;artista,<br />fotografo MOHAMED BAKR<br 
 /><br />GLI OMAGGI SPECIALI<br />YOUSSEF CHAHINE<br /><br />Sala Conferenze
 <br />19.00-21.15<br />Apertura della rassegna<br />cinematografica con la<
 br />proiezione del film<br />&ldquo;Il Destino&rdquo;<br />di Youssef Chah
 ine<br />(Egitto 1997. In lingua italiana)<br /><br /><strong>5 VENERDI</st
 rong><br />Amici del Museo<br />10.00-11.00<br />Passeggiata tra dei e temp
 li<br /><br />Amici della<br />Biblioteca<br />11.00-12.00<br />La scrittur
 a antica e lo scriba<br /><br />RASSEGNA CINEMATOGRAFICA<br />EGITTO, LA HO
 LLYWOOD D&rsquo;ORIENTE<br /><br />Salotto culturale<br />19.00-20.00<br />
 Conferenza<br />&ldquo;L&rsquo;Egitto sullo schermo<br />cinematografico&rd
 quo;<br />del dott. HUSSEIN BAKR<br />(Istituto Superiore del Cinema<br />a
 l Cairo).<br />Ospite d&rsquo;onore il fotografo<br />MOHAMED BAKR. Introdu
 ce il<br />Presidente del MedFilm Festival, GINELLAVOCCA.<br /><br /><stron
 g>6 SABATO</strong><br />Amici del Museo<br />10.00-11.00<br />Il lungo res
 piro dell&rsquo;Egitto: tra storia e tradizioni<br /><br />RASSEGNA CINEMAT
 OGRAFICA<br />EGITTO, LAHOLLYWOOD D&rsquo;ORIENTE<br /><br />Sala Conferenz
 e<br />19.00-20.45<br />Proiezione del film<br />&ldquo;Adieu Bonaparte&rdq
 uo;<br />di Youssef Chahine<br />(Egitto 1985. In lingua araba<br />con sot
 totitoli in francese)<br /><br /><strong>8 LUNEDI</strong><br />RASSEGNA CI
 NEMATOGRAFICA<br />EGITTO, LAHOLLYWOOD D&rsquo;ORIENTE<br /><br />Sala Conf
 erenze<br />19.00-20.45<br />Proiezione del film<br />&ldquo;Alexandrie&hel
 lip; New York&rdquo;<br />di Youssef Chahine<br />(Egitto 2004. In lingua a
 raba<br />con sottotitoli in francese).<br />Introduzione a cura del<br />g
 iornalista cinematografico<br />Roberto Silvestri<br /><br /><strong>9 MART
 EDI</strong><br />Amici del Museo<br />10.00-11.00<br />Lungo la strada che
  porta all&rsquo;Egitto<br /><br />Amici della Biblioteca<br />11.00-12.00<
 br />Lo scriba ed i suoi strumenti<br /><br />Sala conferenze<br />18.00-19
 .00<br />8 Settimane di Egittologia<br />Lezione a cura della Prof.ssa Lore
 dana Sist<br />&ldquo;L&rsquo;Architettura dell&rsquo;Antico Egitto:<br />l
 &rsquo;et&agrave; delle piramidi&rdquo;<br /><br /><strong>10 MERCOLEDI</st
 rong><br />Sala conferenze<br />17.00-18.00<br />8 Settimane di Egittologia
 <br />Lezione a cura del Prof. Maged Gayed<br />&ldquo;Terminologia tecnico
 - artistica&rdquo;<br /><br />RASSEGNA CINEMATOGRAFICA<br />EGITTO, LA HOLL
 YWOOD D&rsquo;ORIENTE<br /><br />Sala Conferenze<br />19.00-20.45<br />Proi
 ezione del film<br />&ldquo;Alexandrie ancore<br />et toujours&rdquo;<br />
 di Youssef Chahine<br />(Egitto 1990.<br />In lingua araba con<br />sottoti
 toli in francese).<br /><strong><br />11 GIOVEDI</strong><br />Sala Confere
 nze<br />18.00-19.30<br />Conferenza<br />&ldquo;Il culto di Iside a Pompei
 &rdquo;<br />del Prof. Stefano De Caro,<br />Direttore Generale ICCROM<br /
 ><br />19.30-20.00<br />Cocktail di Iside, dal cuore di Pompei<br /><br /><
 strong>13 SABATO</strong><br />Amici del Museo<br />10.00-11.00<br />Passag
 gi e testimonianze da Oriente e Occidente<br /><br /><strong>16 MARTEDI</st
 rong><br />Amici del Museo<br />10.00-11.00<br />Percorsi nella storia egiz
 iana<br /><br />Amici della Biblioteca<br />11.00-12.00<br />Marzuk, raccon
 taci una storia!<br /><br /><strong>17 MERCOLEDI</strong><br />Sala confere
 nze<br />17.00-18.00<br />8 Settimane<br />di Egittologia<br />Lezione a cu
 ra<br />del Prof. Maged Gayed<br />&ldquo;Terminologia tecnico-artistica&rd
 quo;<br /><br /><strong>18 GIOVEDI</strong><br />Sala conferenze<br />17.00
 -19.00<br />8 Settimane di Egittologia<br />Lezione a cura della Prof.ssa L
 uisa Bongrani<br />&ldquo;Testi delle Piramidi:<br />entrando nella piramid
 e di Unis&rdquo;<br /><br /><strong>19 VENERDI</strong><br />Amici del Muse
 o<br />10.00-11.30<br />Uomini, faraoni, dei.<br />Incontro con<br />l&rsqu
 o;antico Egitto<br /><br />Amici della Biblioteca<br />11.30-13.00<br />Scr
 ittura creativa:<br />impariamo l&rsquo;arabo!<br /><br /><strong>20 SABATO
 </strong><br />Amici del Museo<br />10.00-11.00<br />Dal libro dei morti al
  Corano:<br />percorso di storia egiziana<br /><br /><strong>23 MARTEDI</st
 rong><br />Amici del Museo<br />10.00-11.00<br />Lungo la strada dei mister
 i egiziani<br /><br />GIORNATA MONDIALE DEL LIBRO<br />Amici della Bibliote
 ca<br />11.00-12.00<br />Costruisci il tuo finale<br /><br />Sala conferenz
 e<br />18.00-19.30<br />8 Settimane di Egittologia<br />Lezione a cura del 
 dott. Simone Lanna &ldquo;L&rsquo;Egitto<br />prima e dopo Narmer: l&rsquo;
 invenzione dello stato<br />faraonico raccontata dalle fonti di epoca<br />
 predinastica e Tinita&rdquo;<br /><br /><strong>24 MERCOLEDI</strong><br />
 Sala conferenze<br />17.00-18.00<br />8 Settimane di Egittologia<br />Lezio
 ne a cura del Prof. Maged Gayed<br />&ldquo;Terminologia tecnico- artistica
 &rdquo;<br /><br /><strong>30 MARTEDI</strong><br />Sala conferenze<br />16
 .30-18.30<br />8 Settimane di Egittologia<br />Lezione a cura della Prof.ss
 a Edda Bresciani<br />&ldquo;La creazione del parco archeologico di Medinet
 <br />Madi nel Fayyum: Un esempio di cooperazione<br />italo-egiziana&rdquo
 ;
DTSTAMP:20260422T063938Z
DTSTART;TZID=Europe/Rome:20130401T000100
DTEND;TZID=Europe/Rome:20130402T000100
SEQUENCE:0
TRANSP:OPAQUE
END:VEVENT
END:VCALENDAR