BEGIN:VCALENDAR
VERSION:2.0
PRODID:-//jEvents 2.0 for Joomla//EN
CALSCALE:GREGORIAN
METHOD:PUBLISH
BEGIN:VTIMEZONE
TZID:Europe/Rome
BEGIN:STANDARD
DTSTART:20111123T000100
RDATE:20120325T030000
TZOFFSETFROM:+0200
TZOFFSETTO:+0100
TZNAME:Europe/Rome CET
END:STANDARD
BEGIN:STANDARD
DTSTART:20121028T020000
RDATE:20130331T030000
TZOFFSETFROM:+0200
TZOFFSETTO:+0100
TZNAME:Europe/Rome CET
END:STANDARD
BEGIN:STANDARD
DTSTART:20131027T020000
RDATE:20140330T030000
TZOFFSETFROM:+0200
TZOFFSETTO:+0100
TZNAME:Europe/Rome CET
END:STANDARD
BEGIN:STANDARD
DTSTART:20141026T020000
RDATE:20150329T030000
TZOFFSETFROM:+0200
TZOFFSETTO:+0100
TZNAME:Europe/Rome CET
END:STANDARD
BEGIN:STANDARD
DTSTART:20151025T020000
RDATE:20160327T030000
TZOFFSETFROM:+0200
TZOFFSETTO:+0100
TZNAME:Europe/Rome CET
END:STANDARD
BEGIN:STANDARD
DTSTART:20161030T020000
RDATE:20170326T030000
TZOFFSETFROM:+0200
TZOFFSETTO:+0100
TZNAME:Europe/Rome CET
END:STANDARD
BEGIN:STANDARD
DTSTART:20171029T020000
RDATE:20180325T030000
TZOFFSETFROM:+0200
TZOFFSETTO:+0100
TZNAME:Europe/Rome CET
END:STANDARD
BEGIN:STANDARD
DTSTART:20181028T020000
RDATE:20190331T030000
TZOFFSETFROM:+0200
TZOFFSETTO:+0100
TZNAME:Europe/Rome CET
END:STANDARD
BEGIN:STANDARD
DTSTART:20191027T020000
RDATE:20200329T030000
TZOFFSETFROM:+0200
TZOFFSETTO:+0100
TZNAME:Europe/Rome CET
END:STANDARD
BEGIN:STANDARD
DTSTART:20201025T020000
RDATE:20210328T030000
TZOFFSETFROM:+0200
TZOFFSETTO:+0100
TZNAME:Europe/Rome CET
END:STANDARD
BEGIN:STANDARD
DTSTART:20211031T020000
RDATE:20220327T030000
TZOFFSETFROM:+0200
TZOFFSETTO:+0100
TZNAME:Europe/Rome CET
END:STANDARD
BEGIN:STANDARD
DTSTART:20221030T020000
RDATE:20230326T030000
TZOFFSETFROM:+0200
TZOFFSETTO:+0100
TZNAME:Europe/Rome CET
END:STANDARD
BEGIN:STANDARD
DTSTART:20231029T020000
RDATE:20240331T030000
TZOFFSETFROM:+0200
TZOFFSETTO:+0100
TZNAME:Europe/Rome CET
END:STANDARD
BEGIN:STANDARD
DTSTART:20241027T020000
RDATE:20250330T030000
TZOFFSETFROM:+0200
TZOFFSETTO:+0100
TZNAME:Europe/Rome CET
END:STANDARD
BEGIN:STANDARD
DTSTART:20251026T020000
RDATE:20260329T030000
TZOFFSETFROM:+0200
TZOFFSETTO:+0100
TZNAME:Europe/Rome CET
END:STANDARD
BEGIN:STANDARD
DTSTART:20261025T020000
RDATE:20270328T030000
TZOFFSETFROM:+0200
TZOFFSETTO:+0100
TZNAME:Europe/Rome CET
END:STANDARD
BEGIN:STANDARD
DTSTART:20271031T020000
RDATE:20280326T030000
TZOFFSETFROM:+0200
TZOFFSETTO:+0100
TZNAME:Europe/Rome CET
END:STANDARD
BEGIN:STANDARD
DTSTART:20281029T020000
RDATE:20290325T030000
TZOFFSETFROM:+0200
TZOFFSETTO:+0100
TZNAME:Europe/Rome CET
END:STANDARD
BEGIN:STANDARD
DTSTART:20291028T020000
RDATE:20300331T030000
TZOFFSETFROM:+0200
TZOFFSETTO:+0100
TZNAME:Europe/Rome CET
END:STANDARD
BEGIN:STANDARD
DTSTART:20301027T020000
RDATE:20310330T030000
TZOFFSETFROM:+0200
TZOFFSETTO:+0100
TZNAME:Europe/Rome CET
END:STANDARD
BEGIN:STANDARD
DTSTART:20311026T020000
RDATE:20320328T030000
TZOFFSETFROM:+0200
TZOFFSETTO:+0100
TZNAME:Europe/Rome CET
END:STANDARD
BEGIN:STANDARD
DTSTART:20321031T020000
RDATE:20330327T030000
TZOFFSETFROM:+0200
TZOFFSETTO:+0100
TZNAME:Europe/Rome CET
END:STANDARD
BEGIN:STANDARD
DTSTART:20331030T020000
RDATE:20340326T030000
TZOFFSETFROM:+0200
TZOFFSETTO:+0100
TZNAME:Europe/Rome CET
END:STANDARD
BEGIN:STANDARD
DTSTART:20341029T020000
RDATE:20350325T030000
TZOFFSETFROM:+0200
TZOFFSETTO:+0100
TZNAME:Europe/Rome CET
END:STANDARD
BEGIN:STANDARD
DTSTART:20351028T020000
RDATE:20360330T030000
TZOFFSETFROM:+0200
TZOFFSETTO:+0100
TZNAME:Europe/Rome CET
END:STANDARD
BEGIN:STANDARD
DTSTART:20361026T020000
RDATE:20370329T030000
TZOFFSETFROM:+0200
TZOFFSETTO:+0100
TZNAME:Europe/Rome CET
END:STANDARD
BEGIN:STANDARD
DTSTART:20371025T020000
TZOFFSETFROM:+0200
TZOFFSETTO:+0100
TZNAME:Europe/Rome CET
END:STANDARD
BEGIN:DAYLIGHT
DTSTART:20120325T030000
RDATE:20121028T020000
TZOFFSETFROM:+0100
TZOFFSETTO:+0200
TZNAME:Europe/Rome CEST
END:DAYLIGHT
BEGIN:DAYLIGHT
DTSTART:20130331T030000
RDATE:20131027T020000
TZOFFSETFROM:+0100
TZOFFSETTO:+0200
TZNAME:Europe/Rome CEST
END:DAYLIGHT
BEGIN:DAYLIGHT
DTSTART:20140330T030000
RDATE:20141026T020000
TZOFFSETFROM:+0100
TZOFFSETTO:+0200
TZNAME:Europe/Rome CEST
END:DAYLIGHT
BEGIN:DAYLIGHT
DTSTART:20150329T030000
RDATE:20151025T020000
TZOFFSETFROM:+0100
TZOFFSETTO:+0200
TZNAME:Europe/Rome CEST
END:DAYLIGHT
BEGIN:DAYLIGHT
DTSTART:20160327T030000
RDATE:20161030T020000
TZOFFSETFROM:+0100
TZOFFSETTO:+0200
TZNAME:Europe/Rome CEST
END:DAYLIGHT
BEGIN:DAYLIGHT
DTSTART:20170326T030000
RDATE:20171029T020000
TZOFFSETFROM:+0100
TZOFFSETTO:+0200
TZNAME:Europe/Rome CEST
END:DAYLIGHT
BEGIN:DAYLIGHT
DTSTART:20180325T030000
RDATE:20181028T020000
TZOFFSETFROM:+0100
TZOFFSETTO:+0200
TZNAME:Europe/Rome CEST
END:DAYLIGHT
BEGIN:DAYLIGHT
DTSTART:20190331T030000
RDATE:20191027T020000
TZOFFSETFROM:+0100
TZOFFSETTO:+0200
TZNAME:Europe/Rome CEST
END:DAYLIGHT
BEGIN:DAYLIGHT
DTSTART:20200329T030000
RDATE:20201025T020000
TZOFFSETFROM:+0100
TZOFFSETTO:+0200
TZNAME:Europe/Rome CEST
END:DAYLIGHT
BEGIN:DAYLIGHT
DTSTART:20210328T030000
RDATE:20211031T020000
TZOFFSETFROM:+0100
TZOFFSETTO:+0200
TZNAME:Europe/Rome CEST
END:DAYLIGHT
BEGIN:DAYLIGHT
DTSTART:20220327T030000
RDATE:20221030T020000
TZOFFSETFROM:+0100
TZOFFSETTO:+0200
TZNAME:Europe/Rome CEST
END:DAYLIGHT
BEGIN:DAYLIGHT
DTSTART:20230326T030000
RDATE:20231029T020000
TZOFFSETFROM:+0100
TZOFFSETTO:+0200
TZNAME:Europe/Rome CEST
END:DAYLIGHT
BEGIN:DAYLIGHT
DTSTART:20240331T030000
RDATE:20241027T020000
TZOFFSETFROM:+0100
TZOFFSETTO:+0200
TZNAME:Europe/Rome CEST
END:DAYLIGHT
BEGIN:DAYLIGHT
DTSTART:20250330T030000
RDATE:20251026T020000
TZOFFSETFROM:+0100
TZOFFSETTO:+0200
TZNAME:Europe/Rome CEST
END:DAYLIGHT
BEGIN:DAYLIGHT
DTSTART:20260329T030000
RDATE:20261025T020000
TZOFFSETFROM:+0100
TZOFFSETTO:+0200
TZNAME:Europe/Rome CEST
END:DAYLIGHT
BEGIN:DAYLIGHT
DTSTART:20270328T030000
RDATE:20271031T020000
TZOFFSETFROM:+0100
TZOFFSETTO:+0200
TZNAME:Europe/Rome CEST
END:DAYLIGHT
BEGIN:DAYLIGHT
DTSTART:20280326T030000
RDATE:20281029T020000
TZOFFSETFROM:+0100
TZOFFSETTO:+0200
TZNAME:Europe/Rome CEST
END:DAYLIGHT
BEGIN:DAYLIGHT
DTSTART:20290325T030000
RDATE:20291028T020000
TZOFFSETFROM:+0100
TZOFFSETTO:+0200
TZNAME:Europe/Rome CEST
END:DAYLIGHT
BEGIN:DAYLIGHT
DTSTART:20300331T030000
RDATE:20301027T020000
TZOFFSETFROM:+0100
TZOFFSETTO:+0200
TZNAME:Europe/Rome CEST
END:DAYLIGHT
BEGIN:DAYLIGHT
DTSTART:20310330T030000
RDATE:20311026T020000
TZOFFSETFROM:+0100
TZOFFSETTO:+0200
TZNAME:Europe/Rome CEST
END:DAYLIGHT
BEGIN:DAYLIGHT
DTSTART:20320328T030000
RDATE:20321031T020000
TZOFFSETFROM:+0100
TZOFFSETTO:+0200
TZNAME:Europe/Rome CEST
END:DAYLIGHT
BEGIN:DAYLIGHT
DTSTART:20330327T030000
RDATE:20331030T020000
TZOFFSETFROM:+0100
TZOFFSETTO:+0200
TZNAME:Europe/Rome CEST
END:DAYLIGHT
BEGIN:DAYLIGHT
DTSTART:20340326T030000
RDATE:20341029T020000
TZOFFSETFROM:+0100
TZOFFSETTO:+0200
TZNAME:Europe/Rome CEST
END:DAYLIGHT
BEGIN:DAYLIGHT
DTSTART:20350325T030000
RDATE:20351028T020000
TZOFFSETFROM:+0100
TZOFFSETTO:+0200
TZNAME:Europe/Rome CEST
END:DAYLIGHT
BEGIN:DAYLIGHT
DTSTART:20360330T030000
RDATE:20361026T020000
TZOFFSETFROM:+0100
TZOFFSETTO:+0200
TZNAME:Europe/Rome CEST
END:DAYLIGHT
BEGIN:DAYLIGHT
DTSTART:20370329T030000
RDATE:20371025T020000
TZOFFSETFROM:+0100
TZOFFSETTO:+0200
TZNAME:Europe/Rome CEST
END:DAYLIGHT
END:VTIMEZONE
BEGIN:VEVENT
UID:1429120008evt1972
CATEGORIES:.
SUMMARY:23- Cena per fotovoltaico a Gaza 
DESCRIPTION;ENCODING=QUOTED-PRINTABLE:<p>Basta all&#39;assedio di Gaza,<br />per il diritto di pesca,<br />il dir
 itto di vivere,<br />il diritto alla libert&agrave;</p><p>Il gruppo &ldquo;
 PER NON DIMENTICARE GAZA&rdquo;<br />&egrave; lieto di invitarti ad una ser
 ata conviviale<br />in solidariet&agrave; con i pescatori di Gaza</p><p><st
 rong>Venerd&igrave; 23 Novembre 2012<br />presso la sala della CdB S. Paolo
 -Roma<br />via Ostiense, 152/B</strong></p><p>ore 18,30<br />Incontro con<b
 r />MARCO RAMAZZOTTI<br />sulla sua esperienza a bordo della nave Estelle</
 p><p>ore 20,00<br />Cena Solidale italo-palestinese<br />Partecipazione<br 
 />&euro;.15,00</p><p>I PROVENTI DELLA SERATA<br />SONO DESTINATI AL FINANZI
 AMENTO<br />DEL PROGETTO DI ILLUMINAZIONE DEL PORTO DI GAZA</p><p>Per preno
 tazioni:<br /><span id="cloak90161">Questo indirizzo email è protetto dagli
  spambots. È necessario abilitare JavaScript per vederlo.</span><script typ
 e='text/javascript'>
 //<!--
 document.getElementById('cloak90161').innerHT
 ML = '';
 var prefix = '&#109;a' + 'i&#108;' + '&#116;o';
 var path = 'hr' 
 + 'ef' + '=';
 var addy90161 = 'p&#97;nd&#111;lf&#105;&#97;nt&#111;n&#105;&
 #97;' + '&#64;';
 addy90161 = addy90161 + 't&#105;sc&#97;l&#105;' + '&#46;'
  + '&#105;t';
 var addy_text90161 = 'p&#97;nd&#111;lf&#105;&#97;nt&#111;n&#
 105;&#97;' + '&#64;' + 't&#105;sc&#97;l&#105;' + '&#46;' + '&#105;t';
 docu
 ment.getElementById('cloak90161').innerHTML += '<a ' + path + '\'' + prefix
  + ':' + addy90161 + '\'>'+addy_text90161+'<\/a>';
 //-->
 </script> 328-61
 12361 o <span id="cloak57650">Questo indirizzo email è protetto dagli spamb
 ots. È necessario abilitare JavaScript per vederlo.</span><script type='tex
 t/javascript'>
 //<!--
 document.getElementById('cloak57650').innerHTML = '
 ';
 var prefix = '&#109;a' + 'i&#108;' + '&#116;o';
 var path = 'hr' + 'ef'
  + '=';
 var addy57650 = '&#97;n&#105;ss&#97;m&#97;nc&#97;' + '&#64;';
 add
 y57650 = addy57650 + 'gm&#97;&#105;l' + '&#46;' + 'c&#111;m';
 var addy_tex
 t57650 = '&#97;n&#105;ss&#97;m&#97;nc&#97;' + '&#64;' + 'gm&#97;&#105;l' + 
 '&#46;' + 'c&#111;m';
 document.getElementById('cloak57650').innerHTML += '
 <a ' + path + '\'' + prefix + ':' + addy57650 + '\'>'+addy_text57650+'<\/a>
 ';
 //-->
 </script> 338-4156333</p><p><strong>--------------&nbsp;</strong
 ></p><p><strong>Progetto di illuminazione del Porto di Gaza con energia fot
 ovoltaica.</strong></p><p>Il gruppo &ldquo;Per non dimenticare Gaza&rdquo;,
  costituitosi all&rsquo;interno della Comunit&agrave; Cristiana di Base di 
 S. Paolo di Roma - durante l&rsquo;attacco israeliano a Gaza (27 Dic.2008-1
 8 Genn.2009), denominato &ldquo;Piombo fuso &ndash; e che fa parte della Re
 te Romana di Solidariet&agrave; col Popolo palestinese, ha deciso di rispon
 dere all&rsquo;appello dell&rsquo;Associazione dei pescatori di Gaza, finan
 ziando il loro progetto di illuminazione del porto, per facilitare l&rsquo;
 attracco in sicurezza delle barche dei pescatori.<br />contesto in cui si r
 ealizza il progetto</p><p>La crisi energetica, presente in tutti i territor
 i palestinesi, militarmente occupati da&nbsp; decenni da Israele, colpisce 
 in modo particolare la Striscia di Gaza, sotto assedio dal 2006. Nessuna so
 luzione &egrave; stata ancora trovata per garantire, ad una&nbsp; popolazio
 ne di oltre un milione e mezzo di abitanti, un flusso sufficiente di fonti 
 energetiche (gasolio e benzina). Da testimonianze dirette sappiamo che in c
 asa si vive con le candele, i trasporti sono quasi fermi, gli ospedali in e
 mergenza ecc. E&rsquo; in atto una vera crisi socio-economica in aggiunta a
  quella ambientale per effetto degli scarichi inquinanti provenienti da Isr
 aele e dei residui bellici di cui la terra &egrave; contaminata.</p><p>L&rs
 quo;elettricit&agrave; viene distribuita a intermittenza, con turni di poch
 e ore e lunghi blackout, specie da quando la crisi energetica si fa sentire
  anche in Egitto dal quale Gaza riceve gran parte del carburante. Manca la 
 benzina e soprattutto il gasolio, sia quello per i trasporti che quello di 
 tipo industriale, necessario per far funzionare tanto la centrale elettrica
 , che ricopre il 60% del fabbisogno, quanto&nbsp; i generatori autonomi di 
 energia. </p><p>A questa situazione di per se gi&agrave; drammatica si aggi
 unge l&rsquo;esiguit&agrave; delle risorse idriche e la mancanza di acqua p
 otabile in tutto il territorio, rendendo la vita delle popolazioni molto pr
 ecaria. Israele, infatti,&nbsp; vieta oltre l&rsquo;entrata a Gaza di gener
 i di prima necessit&agrave;, di medicinali ecc., anche l&rsquo;importazione
  di filtri per la purificazione dell&rsquo;acqua. Come se non bastasse, la 
 vita dei lavoratori e quella delle loro famiglie - basata sopratutto sulla 
 pesca data la scarsit&agrave; dei prodotti agricoli - &egrave; a rischio di
  sopravivenza, ostacolati nelle loro attivit&agrave;, dalla presenza armata
  di Israele ai confini e nelle acque circostanti il porto di Gaza. I pescat
 ori che osano avventurarsi oltre le tre miglia dalla costa, corrono il peri
 colo di essere uccisi. La disoccupazione &egrave; di conseguenza altissima 
 anche per la chiusura delle frontiere con Israele e l&rsquo;Egitto, dove pr
 ima si trovavano opportunit&agrave; di lavoro. La gran parte delle famiglie
  vive perci&ograve; di assistenza pubblica o grazie ad interventi di volont
 ariato locale o dall&rsquo;estero.</p><p>Come &egrave; nato il progetto</p>
 <p>Stante questa situazione generale, scopo del progetto &egrave; quello di
  dare assistenza ai pescatori di Gaza. Due giovani palestinesi, attivisti p
 er i diritti umani, in visita alla nostra Comunit&agrave; (CdB S.Paolo di R
 oma), in un incontro con Giovanni Franzoni e alcuni del gruppo &ldquo;Per n
 on dimenticare Gaza&rdquo; lanciarono un appello per la sicurezza dei pesca
 tori di Gaza. Una delle priorit&agrave; &egrave; risultata essere&nbsp; l&r
 squo;illuminazione del porto per facilitare l&rsquo;attracco notturno delle
  loro barche, spesso bersaglio dell&rsquo;artiglieria israeliana. Volontari
  del Movimento di Solidariet&agrave; Internazionale (ISM), infatti, accompa
 gnano questi lavoratori, durante la pesca,&nbsp; documentando le illegalit&
 agrave; che commette Israele: ferimenti quando non uccisioni e arresti dei 
 palestinesi e/o degli stessi internazionali. </p><p>Per rispondere all&rsqu
 o;appello abbiamo preso contatti con la Palestinian Society for the Fishing
  and Marine Sports di Gaza, impegnandoci a finanziare un&nbsp; progetto per
  l&rsquo;illuminazione e la messa in funzione di un impianto ad energia fot
 ovoltaica, costituito da 16 lampioni stradali ad elementi LED, per un valor
 e complessivo di 65.000 $ USA. La fornitura del materiale e i lavori di ins
 tallazione dei lampioni sono stati affidati, mediante gara di appalto, alla
  Home Engineering Unltd di Gaza. </p><p>L&rsquo;impianto solare &egrave; di
  standard europeo, adatto per ambienti portuali marini. I pali di illuminaz
 ione e tutti gli accessori sono in materiale anti corrosivo, garantiti per 
 3 anni contro il malfunzionamento e/o eventuali difetti. <br />Il contratto
  prevede anche 3 anni di manutenzione gratis e include tutte le spese di st
 udio, progettazione, documentazione tecnica, autorizzazioni, importazione d
 el materiale, installazione, messa in funzione e collaudo. Il tutto eseguit
 o secondo le relative norme locali e internazionali e in conformit&agrave; 
 alle istruzioni&nbsp; ingegneristiche.<br />Il contratto tra la Ditta costr
 uttrice e l&rsquo;Associazione dei pescatori &egrave; stato firmato il 26 s
 ettembre 2012. Un acconto di 10.000 $ USA &egrave; stato gi&agrave; inviato
  per l&rsquo;inizio dei lavori che si prevede possano concludersi entro il 
 primo semestre del 2013.</p><p>A sostegno del progetto &egrave;&nbsp; in co
 rso una raccolta fondi<br />con&nbsp; iniziative socio-culturali e donazion
 i che possono essere versate</p><p>sul conto corrente postale N. 1008402081
 <br />intestato a Livio Lucarini&nbsp; e Chiara Germondari</p><p>o con&nbsp
 ; bonifico sullo stesso conto - IBAN: IT54Z0760103200001008402081<br />Con 
 causale:&nbsp; progetto Illuminazione Porto di Gaza</p><p>(Per l&rsquo;este
 ro BIC/SWIFT: BPPIITRRXXX )</p>
DTSTAMP:20260422T083237Z
DTSTART;TZID=Europe/Rome:20121123T000100
DTEND;TZID=Europe/Rome:20121124T000100
SEQUENCE:0
TRANSP:OPAQUE
END:VEVENT
END:VCALENDAR