BEGIN:VCALENDAR
VERSION:2.0
PRODID:-//jEvents 2.0 for Joomla//EN
CALSCALE:GREGORIAN
METHOD:PUBLISH
BEGIN:VTIMEZONE
TZID:Europe/Rome
BEGIN:STANDARD
DTSTART:20111030T020000
RDATE:20120325T030000
TZOFFSETFROM:+0200
TZOFFSETTO:+0100
TZNAME:Europe/Rome CET
END:STANDARD
BEGIN:STANDARD
DTSTART:20121028T020000
RDATE:20130331T030000
TZOFFSETFROM:+0200
TZOFFSETTO:+0100
TZNAME:Europe/Rome CET
END:STANDARD
BEGIN:STANDARD
DTSTART:20131027T020000
RDATE:20140330T030000
TZOFFSETFROM:+0200
TZOFFSETTO:+0100
TZNAME:Europe/Rome CET
END:STANDARD
BEGIN:STANDARD
DTSTART:20141026T020000
RDATE:20150329T030000
TZOFFSETFROM:+0200
TZOFFSETTO:+0100
TZNAME:Europe/Rome CET
END:STANDARD
BEGIN:STANDARD
DTSTART:20151025T020000
RDATE:20160327T030000
TZOFFSETFROM:+0200
TZOFFSETTO:+0100
TZNAME:Europe/Rome CET
END:STANDARD
BEGIN:STANDARD
DTSTART:20161030T020000
RDATE:20170326T030000
TZOFFSETFROM:+0200
TZOFFSETTO:+0100
TZNAME:Europe/Rome CET
END:STANDARD
BEGIN:STANDARD
DTSTART:20171029T020000
RDATE:20180325T030000
TZOFFSETFROM:+0200
TZOFFSETTO:+0100
TZNAME:Europe/Rome CET
END:STANDARD
BEGIN:STANDARD
DTSTART:20181028T020000
RDATE:20190331T030000
TZOFFSETFROM:+0200
TZOFFSETTO:+0100
TZNAME:Europe/Rome CET
END:STANDARD
BEGIN:STANDARD
DTSTART:20191027T020000
RDATE:20200329T030000
TZOFFSETFROM:+0200
TZOFFSETTO:+0100
TZNAME:Europe/Rome CET
END:STANDARD
BEGIN:STANDARD
DTSTART:20201025T020000
RDATE:20210328T030000
TZOFFSETFROM:+0200
TZOFFSETTO:+0100
TZNAME:Europe/Rome CET
END:STANDARD
BEGIN:STANDARD
DTSTART:20211031T020000
RDATE:20220327T030000
TZOFFSETFROM:+0200
TZOFFSETTO:+0100
TZNAME:Europe/Rome CET
END:STANDARD
BEGIN:STANDARD
DTSTART:20221030T020000
RDATE:20230326T030000
TZOFFSETFROM:+0200
TZOFFSETTO:+0100
TZNAME:Europe/Rome CET
END:STANDARD
BEGIN:STANDARD
DTSTART:20231029T020000
RDATE:20240331T030000
TZOFFSETFROM:+0200
TZOFFSETTO:+0100
TZNAME:Europe/Rome CET
END:STANDARD
BEGIN:STANDARD
DTSTART:20241027T020000
RDATE:20250330T030000
TZOFFSETFROM:+0200
TZOFFSETTO:+0100
TZNAME:Europe/Rome CET
END:STANDARD
BEGIN:STANDARD
DTSTART:20251026T020000
RDATE:20260329T030000
TZOFFSETFROM:+0200
TZOFFSETTO:+0100
TZNAME:Europe/Rome CET
END:STANDARD
BEGIN:STANDARD
DTSTART:20261025T020000
RDATE:20270328T030000
TZOFFSETFROM:+0200
TZOFFSETTO:+0100
TZNAME:Europe/Rome CET
END:STANDARD
BEGIN:STANDARD
DTSTART:20271031T020000
RDATE:20280326T030000
TZOFFSETFROM:+0200
TZOFFSETTO:+0100
TZNAME:Europe/Rome CET
END:STANDARD
BEGIN:STANDARD
DTSTART:20281029T020000
RDATE:20290325T030000
TZOFFSETFROM:+0200
TZOFFSETTO:+0100
TZNAME:Europe/Rome CET
END:STANDARD
BEGIN:STANDARD
DTSTART:20291028T020000
RDATE:20300331T030000
TZOFFSETFROM:+0200
TZOFFSETTO:+0100
TZNAME:Europe/Rome CET
END:STANDARD
BEGIN:STANDARD
DTSTART:20301027T020000
RDATE:20310330T030000
TZOFFSETFROM:+0200
TZOFFSETTO:+0100
TZNAME:Europe/Rome CET
END:STANDARD
BEGIN:STANDARD
DTSTART:20311026T020000
RDATE:20320328T030000
TZOFFSETFROM:+0200
TZOFFSETTO:+0100
TZNAME:Europe/Rome CET
END:STANDARD
BEGIN:STANDARD
DTSTART:20321031T020000
RDATE:20330327T030000
TZOFFSETFROM:+0200
TZOFFSETTO:+0100
TZNAME:Europe/Rome CET
END:STANDARD
BEGIN:STANDARD
DTSTART:20331030T020000
RDATE:20340326T030000
TZOFFSETFROM:+0200
TZOFFSETTO:+0100
TZNAME:Europe/Rome CET
END:STANDARD
BEGIN:STANDARD
DTSTART:20341029T020000
RDATE:20350325T030000
TZOFFSETFROM:+0200
TZOFFSETTO:+0100
TZNAME:Europe/Rome CET
END:STANDARD
BEGIN:STANDARD
DTSTART:20351028T020000
RDATE:20360330T030000
TZOFFSETFROM:+0200
TZOFFSETTO:+0100
TZNAME:Europe/Rome CET
END:STANDARD
BEGIN:STANDARD
DTSTART:20361026T020000
RDATE:20370329T030000
TZOFFSETFROM:+0200
TZOFFSETTO:+0100
TZNAME:Europe/Rome CET
END:STANDARD
BEGIN:STANDARD
DTSTART:20371025T020000
TZOFFSETFROM:+0200
TZOFFSETTO:+0100
TZNAME:Europe/Rome CET
END:STANDARD
BEGIN:DAYLIGHT
DTSTART:20110330T000100
RDATE:20111030T020000
TZOFFSETFROM:+0100
TZOFFSETTO:+0200
TZNAME:Europe/Rome CEST
END:DAYLIGHT
BEGIN:DAYLIGHT
DTSTART:20120325T030000
RDATE:20121028T020000
TZOFFSETFROM:+0100
TZOFFSETTO:+0200
TZNAME:Europe/Rome CEST
END:DAYLIGHT
BEGIN:DAYLIGHT
DTSTART:20130331T030000
RDATE:20131027T020000
TZOFFSETFROM:+0100
TZOFFSETTO:+0200
TZNAME:Europe/Rome CEST
END:DAYLIGHT
BEGIN:DAYLIGHT
DTSTART:20140330T030000
RDATE:20141026T020000
TZOFFSETFROM:+0100
TZOFFSETTO:+0200
TZNAME:Europe/Rome CEST
END:DAYLIGHT
BEGIN:DAYLIGHT
DTSTART:20150329T030000
RDATE:20151025T020000
TZOFFSETFROM:+0100
TZOFFSETTO:+0200
TZNAME:Europe/Rome CEST
END:DAYLIGHT
BEGIN:DAYLIGHT
DTSTART:20160327T030000
RDATE:20161030T020000
TZOFFSETFROM:+0100
TZOFFSETTO:+0200
TZNAME:Europe/Rome CEST
END:DAYLIGHT
BEGIN:DAYLIGHT
DTSTART:20170326T030000
RDATE:20171029T020000
TZOFFSETFROM:+0100
TZOFFSETTO:+0200
TZNAME:Europe/Rome CEST
END:DAYLIGHT
BEGIN:DAYLIGHT
DTSTART:20180325T030000
RDATE:20181028T020000
TZOFFSETFROM:+0100
TZOFFSETTO:+0200
TZNAME:Europe/Rome CEST
END:DAYLIGHT
BEGIN:DAYLIGHT
DTSTART:20190331T030000
RDATE:20191027T020000
TZOFFSETFROM:+0100
TZOFFSETTO:+0200
TZNAME:Europe/Rome CEST
END:DAYLIGHT
BEGIN:DAYLIGHT
DTSTART:20200329T030000
RDATE:20201025T020000
TZOFFSETFROM:+0100
TZOFFSETTO:+0200
TZNAME:Europe/Rome CEST
END:DAYLIGHT
BEGIN:DAYLIGHT
DTSTART:20210328T030000
RDATE:20211031T020000
TZOFFSETFROM:+0100
TZOFFSETTO:+0200
TZNAME:Europe/Rome CEST
END:DAYLIGHT
BEGIN:DAYLIGHT
DTSTART:20220327T030000
RDATE:20221030T020000
TZOFFSETFROM:+0100
TZOFFSETTO:+0200
TZNAME:Europe/Rome CEST
END:DAYLIGHT
BEGIN:DAYLIGHT
DTSTART:20230326T030000
RDATE:20231029T020000
TZOFFSETFROM:+0100
TZOFFSETTO:+0200
TZNAME:Europe/Rome CEST
END:DAYLIGHT
BEGIN:DAYLIGHT
DTSTART:20240331T030000
RDATE:20241027T020000
TZOFFSETFROM:+0100
TZOFFSETTO:+0200
TZNAME:Europe/Rome CEST
END:DAYLIGHT
BEGIN:DAYLIGHT
DTSTART:20250330T030000
RDATE:20251026T020000
TZOFFSETFROM:+0100
TZOFFSETTO:+0200
TZNAME:Europe/Rome CEST
END:DAYLIGHT
BEGIN:DAYLIGHT
DTSTART:20260329T030000
RDATE:20261025T020000
TZOFFSETFROM:+0100
TZOFFSETTO:+0200
TZNAME:Europe/Rome CEST
END:DAYLIGHT
BEGIN:DAYLIGHT
DTSTART:20270328T030000
RDATE:20271031T020000
TZOFFSETFROM:+0100
TZOFFSETTO:+0200
TZNAME:Europe/Rome CEST
END:DAYLIGHT
BEGIN:DAYLIGHT
DTSTART:20280326T030000
RDATE:20281029T020000
TZOFFSETFROM:+0100
TZOFFSETTO:+0200
TZNAME:Europe/Rome CEST
END:DAYLIGHT
BEGIN:DAYLIGHT
DTSTART:20290325T030000
RDATE:20291028T020000
TZOFFSETFROM:+0100
TZOFFSETTO:+0200
TZNAME:Europe/Rome CEST
END:DAYLIGHT
BEGIN:DAYLIGHT
DTSTART:20300331T030000
RDATE:20301027T020000
TZOFFSETFROM:+0100
TZOFFSETTO:+0200
TZNAME:Europe/Rome CEST
END:DAYLIGHT
BEGIN:DAYLIGHT
DTSTART:20310330T030000
RDATE:20311026T020000
TZOFFSETFROM:+0100
TZOFFSETTO:+0200
TZNAME:Europe/Rome CEST
END:DAYLIGHT
BEGIN:DAYLIGHT
DTSTART:20320328T030000
RDATE:20321031T020000
TZOFFSETFROM:+0100
TZOFFSETTO:+0200
TZNAME:Europe/Rome CEST
END:DAYLIGHT
BEGIN:DAYLIGHT
DTSTART:20330327T030000
RDATE:20331030T020000
TZOFFSETFROM:+0100
TZOFFSETTO:+0200
TZNAME:Europe/Rome CEST
END:DAYLIGHT
BEGIN:DAYLIGHT
DTSTART:20340326T030000
RDATE:20341029T020000
TZOFFSETFROM:+0100
TZOFFSETTO:+0200
TZNAME:Europe/Rome CEST
END:DAYLIGHT
BEGIN:DAYLIGHT
DTSTART:20350325T030000
RDATE:20351028T020000
TZOFFSETFROM:+0100
TZOFFSETTO:+0200
TZNAME:Europe/Rome CEST
END:DAYLIGHT
BEGIN:DAYLIGHT
DTSTART:20360330T030000
RDATE:20361026T020000
TZOFFSETFROM:+0100
TZOFFSETTO:+0200
TZNAME:Europe/Rome CEST
END:DAYLIGHT
BEGIN:DAYLIGHT
DTSTART:20370329T030000
RDATE:20371025T020000
TZOFFSETFROM:+0100
TZOFFSETTO:+0200
TZNAME:Europe/Rome CEST
END:DAYLIGHT
END:VTIMEZONE
BEGIN:VEVENT
UID:1429119966evt1604
CATEGORIES:.
SUMMARY:30- Sit in per Gaza (manifestazione)
DESCRIPTION;ENCODING=QUOTED-PRINTABLE:<p>&nbsp;<strong>الجالية الفلسطينية في روما واللاتسيو</strong><br /><br />C
 omunit&agrave; Palestinese di Roma e&nbsp; del Lazio<br /><br />&nbsp;La Co
 munit&agrave; Palestinese di Roma e del Lazio invita tutti i Palestinesi e 
 gli amici ; partiti politici ,organizzazioni,associazioni e tutti le realt&
 agrave; di Solidariet&agrave; con la Palestina, organizzati o meno di Roma,
 &nbsp; in occasione della &quot; Giornata della Terra&quot; e della&quot; M
 arcia di Gerusalemme&quot;, a partecipare in tanti al <strong>SIT-IN</stron
 g> che si terr&agrave;&nbsp;<strong> il 30 marzo dalle ore 17 alle 19, di f
 ronte all&#39;Ambasciata Israeliana&nbsp; in via Mercati, angolo via Aldrov
 andi, a Roma</strong>, in segno di protesta contro le demolizioni delle cas
 e, la confisca dei terreni, l&#39;uccisione della nostra gente in Palestina
 .<br />Facciamo un tam tam e tutto il possibile x radunarci in tanti in que
 sta iniziativa importante e unitaria di protesta contro il terrorismo di st
 ato Israeliano, e in segno di solidariet&agrave; ai partecipanti&nbsp; alla
  Marcia di Gerusalemme nei paesi confinanti con Israele e ai partecipanti a
 lla prossima missione internazionale Benvenuti in Palestina 2012 .<br /><br
  />Consiglio direttivo<br />Comunit&agrave; Palestinese<br />di Roma e del 
 Lazio</p><p><strong>الجالية الفلسطينية في روما واللاتسيو <br /></strong><br
  /><br />&nbsp;&nbsp;&nbsp; يدعو المجلس الاداري للجالية الفلسطينية في روما 
 واللاتسيو ، كافة الأخوة والأخوات الفلسطينيين والعرب ، للمشاركة في الاعتصام 
 قبالة السفارة الاسرائيلية في روما ، تلبية لنداء شعبنا الفلسطيني في دول الطو
 ق&nbsp; ، في &lsquo;&lsquo; مسيرة القدس &lsquo;&lsquo; صوت فلسطين ، في يوم 
 الأرض المجيد 30/مارس/2012 في تمام الساعة 16:00 ، روما / فيا ميركادانتي<br /
 ><br />وتهيب الجالية بكافة الأخوة والأخوات للمشاركة ودعوة كافة العرب والايط
 اليين والأجانب للمشاركة في هذا الاعتصام <br /><br />ودمتم للنضال <br />وانه
 ا لثورة حتى النصر <br /><br />المجلس الاداري<br />&nbsp;&nbsp;&nbsp;&nbsp;&
 nbsp;&nbsp;&nbsp;&nbsp;&nbsp; </p><p>----------------------------------- </
 p><p>Roma, Ambasciata israeliana.<br />30/03/12 dalle 18.00 alle 20.30<br /
 >informazioni: <span id="cloak70556">Questo indirizzo email è protetto dagl
 i spambots. È necessario abilitare JavaScript per vederlo.</span><script ty
 pe='text/javascript'>
 //<!--
 document.getElementById('cloak70556').innerH
 TML = '';
 var prefix = '&#109;a' + 'i&#108;' + '&#116;o';
 var path = 'hr'
  + 'ef' + '=';
 var addy70556 = 'j&#97;sm&#105;n&#101;r&#101;v&#111;l&#117;
 t&#105;&#111;n&#105;t&#97;l&#105;&#97;' + '&#64;';
 addy70556 = addy70556 +
  'gm&#97;&#105;l' + '&#46;' + 'c&#111;m';
 document.getElementById('cloak70
 556').innerHTML += '<a ' + path + '\'' + prefix + ':' + addy70556 + '\'>' +
 addy70556+'<\/a>';
 //-->
 </script> <br /><br /><br />GAZA CHIAMA A RACCOL
 TA DONNE E UOMINI DI BUONA VOLONTA&#39;<br />E JASMINE REVOLUTION CHIEDE A 
 TUTTI I GRUPPI E COLLETTIVI PRO-PALESTINA DI ABBATTERE I MURI E LE DEVISION
 I...<br />IL 30 MARZO CI UNIREMO... SENZA FIRME E CON UNA SOLA BANDIERA: QU
 ELLA PALESTINESE<br />...<br />L&#39;8 marzo 2012 viene assassinato Zakarya
  Abu Iram, un ragazzo palestinese di 15 anni. Cos&igrave; Israele ha inaugu
 rato la nuova serie di attacchi missilistici sulla striscia di Gaza ucciden
 do ormai 25 persone. Noi ci opponiamo al silenzio della comunit&agrave; int
 ernazionale asservita al potere sionista, con la complicit&agrave; dei mezz
 i di informazione che non comunicano, e se lo fanno sconvolgono drasticamen
 te la realt&agrave; dei fatti con metodi degni dei peggiori regimi.<br />Qu
 ello che sta succedendo a Gaza in questi ultimi due giorni non &egrave; sol
 o un attacco: &egrave; la perpetrazione del genocidio contro bambini e civi
 li, un nuovo crimine commesso dallo stato di apartheid di &quot;Israele&quo
 t;.<br />Noi non resteremo in silenzio ancora una volta.<br />Non saremo co
 mplici di questo vile massacro.<br />Non saremo complici del silenzio omert
 oso dei media e dell&#39;intera comunit&agrave; internazionale, poich&eacut
 e; crediamo fermamente che il silenzio uccide pi&ugrave; di Israele.<br />P
 er questo chiediamo ai singoli, alle madri, ai giovani, ai bambini, agli st
 udenti, ai mariti, ai padri, ai credenti, agli atei, agli agnostici, a tutt
 i di occupare silenziosamente e pacificamente le strade e le piazze per esp
 rimere il nostro dissenso alla politica sionista e la nostra solidariet&agr
 ave; al Popolo Palestinese.<br /><br />for contact: <span id="cloak5469">Qu
 esto indirizzo email è protetto dagli spambots. È necessario abilitare Java
 Script per vederlo.</span><script type='text/javascript'>
 //<!--
 document
 .getElementById('cloak5469').innerHTML = '';
 var prefix = '&#109;a' + 'i&#
 108;' + '&#116;o';
 var path = 'hr' + 'ef' + '=';
 var addy5469 = 'j&#97;sm
 &#105;n&#101;r&#101;v&#111;l&#117;t&#105;&#111;n&#105;t&#97;l&#105;&#97;' +
  '&#64;';
 addy5469 = addy5469 + 'gm&#97;&#105;l' + '&#46;' + 'c&#111;m';
 
 document.getElementById('cloak5469').innerHTML += '<a ' + path + '\'' + pre
 fix + ':' + addy5469 + '\'>' +addy5469+'<\/a>';
 //-->
 </script><br /><br 
 />___________________________<br /><br /><br />GAZA IS CALLING TO GATHER WO
 MEN AND MEN OF GOOD WILL<br />AND JASMINE REVOLUTION ASKS ALL THE PRO-PALES
 TINE GROUPS TO TEAR DOWN WALLS AND DIVISIONS&hellip;<br />ON MARCH 30, LET 
 US UNITE FOR GAZA WITH NO LABELS AND JUST ONE FLAG: THE PALESTINIAN FLAG<br
  /><br />On the 8th of March 2012 Abu Zakarya Iram, a Palestinian boy of 15
  years was assassinated. So Israel launched a new series of missile attacks
  on Gaza, killing 17 people. The attack is still ongoing. We oppose the sil
 ence of the international community subservient to Zionist power, with the 
 complicity of the media that do not communicate, and if they do, they drast
 ically disrupt the facts by methods worthy of the worst dictatorships.<br /
 >What is happening in Gaza over the past two days is not only an attack: it
 &#39;s the perpetration of the genocide against children and civilians, a n
 ew crime committed by the apartheid state of &quot;Israel&quot;.<br />We wi
 ll not remain silent once again.<br />We will not be complicit in this cowa
 rdly massacre.<br />We will not be accomplices of the conspiratorial silenc
 e of the media and of the international community.<br />Because we firmly b
 elieve that silence kills more than &quot;Israel&quot;.<br />We are calling
  on individuals, mothers, young people, children, students, husbands, fathe
 rs, believers, atheists, agnostics, everyone to occupy - quietly and peacef
 ully - the area in front of the Israeli Embassy in Rome tomorrow March 11, 
 2012, starting from 6 PM. We will stay there to express our dissent to the 
 Zionist policy and our solidarity with the Palestinian People.<br /><br />f
 or contact: <span id="cloak54925">Questo indirizzo email è protetto dagli s
 pambots. È necessario abilitare JavaScript per vederlo.</span><script type=
 'text/javascript'>
 //<!--
 document.getElementById('cloak54925').innerHTML
  = '';
 var prefix = '&#109;a' + 'i&#108;' + '&#116;o';
 var path = 'hr' + 
 'ef' + '=';
 var addy54925 = 'j&#97;sm&#105;n&#101;r&#101;v&#111;l&#117;t&#
 105;&#111;n&#105;t&#97;l&#105;&#97;' + '&#64;';
 addy54925 = addy54925 + 'g
 m&#97;&#105;l' + '&#46;' + 'c&#111;m';
 document.getElementById('cloak54925
 ').innerHTML += '<a ' + path + '\'' + prefix + ':' + addy54925 + '\'>' +add
 y54925+'<\/a>';
 //-->
 </script><br /><br /><a href="http://www.facebook.c
 om/events/148848595237708/" target="_blank">http://www.facebook.com/events/
 148848595237708/ </a></p><p>----------------</p><p><strong>Video segnalati 
 da </strong><font class="swb"><strong>LUS - Libera Universit&agrave; dei Sa
 peri </strong><a href="http://www.lusroma.it/">www.lusroma.it</a>.</font></
 p><p><a href="http://www.youtube.com/watch?v=zuIOYWRCtH4&amp;feature=share"
  target="_blank">Stop the Palestinian Holocaust 2012</a> <br /><br /><a hre
 f="http://www.youtube.com/watch?v=LHYwCZEKpwk&amp;feature=player_embedded" 
 target="_blank">Long live Palestine</a> <br /><br /><a href="http://www.you
 tube.com/watch?v=iKQW11U5YxU&amp;feature=share" target="_blank">Meen erhabi
  con il testo che scorre in italiano</a></p><p><strong>-------</strong></p>
 <p><strong>REPORT EVENTO Foto del sit-in:</strong></p><p><a href="http://ww
 w.facebook.com/media/set/?set=a.202490456528455.39200.100003025061387&amp;t
 ype=3&amp;l=954bd6aca0" target="_blank">foto sit in ambasciata israele 30 m
 arzo</a> </p>
DTSTAMP:20260422T083229Z
DTSTART;TZID=Europe/Rome:20120330T000100
DTEND;TZID=Europe/Rome:20120331T000100
SEQUENCE:0
TRANSP:OPAQUE
END:VEVENT
END:VCALENDAR