BEGIN:VCALENDAR
VERSION:2.0
PRODID:-//jEvents 2.0 for Joomla//EN
CALSCALE:GREGORIAN
METHOD:PUBLISH
BEGIN:VTIMEZONE
TZID:Europe/Rome
BEGIN:STANDARD
DTSTART:20111030T020000
RDATE:20120325T030000
TZOFFSETFROM:+0200
TZOFFSETTO:+0100
TZNAME:Europe/Rome CET
END:STANDARD
BEGIN:STANDARD
DTSTART:20121028T020000
RDATE:20130331T030000
TZOFFSETFROM:+0200
TZOFFSETTO:+0100
TZNAME:Europe/Rome CET
END:STANDARD
BEGIN:STANDARD
DTSTART:20131027T020000
RDATE:20140330T030000
TZOFFSETFROM:+0200
TZOFFSETTO:+0100
TZNAME:Europe/Rome CET
END:STANDARD
BEGIN:STANDARD
DTSTART:20141026T020000
RDATE:20150329T030000
TZOFFSETFROM:+0200
TZOFFSETTO:+0100
TZNAME:Europe/Rome CET
END:STANDARD
BEGIN:STANDARD
DTSTART:20151025T020000
RDATE:20160327T030000
TZOFFSETFROM:+0200
TZOFFSETTO:+0100
TZNAME:Europe/Rome CET
END:STANDARD
BEGIN:STANDARD
DTSTART:20161030T020000
RDATE:20170326T030000
TZOFFSETFROM:+0200
TZOFFSETTO:+0100
TZNAME:Europe/Rome CET
END:STANDARD
BEGIN:STANDARD
DTSTART:20171029T020000
RDATE:20180325T030000
TZOFFSETFROM:+0200
TZOFFSETTO:+0100
TZNAME:Europe/Rome CET
END:STANDARD
BEGIN:STANDARD
DTSTART:20181028T020000
RDATE:20190331T030000
TZOFFSETFROM:+0200
TZOFFSETTO:+0100
TZNAME:Europe/Rome CET
END:STANDARD
BEGIN:STANDARD
DTSTART:20191027T020000
RDATE:20200329T030000
TZOFFSETFROM:+0200
TZOFFSETTO:+0100
TZNAME:Europe/Rome CET
END:STANDARD
BEGIN:STANDARD
DTSTART:20201025T020000
RDATE:20210328T030000
TZOFFSETFROM:+0200
TZOFFSETTO:+0100
TZNAME:Europe/Rome CET
END:STANDARD
BEGIN:STANDARD
DTSTART:20211031T020000
RDATE:20220327T030000
TZOFFSETFROM:+0200
TZOFFSETTO:+0100
TZNAME:Europe/Rome CET
END:STANDARD
BEGIN:STANDARD
DTSTART:20221030T020000
RDATE:20230326T030000
TZOFFSETFROM:+0200
TZOFFSETTO:+0100
TZNAME:Europe/Rome CET
END:STANDARD
BEGIN:STANDARD
DTSTART:20231029T020000
RDATE:20240331T030000
TZOFFSETFROM:+0200
TZOFFSETTO:+0100
TZNAME:Europe/Rome CET
END:STANDARD
BEGIN:STANDARD
DTSTART:20241027T020000
RDATE:20250330T030000
TZOFFSETFROM:+0200
TZOFFSETTO:+0100
TZNAME:Europe/Rome CET
END:STANDARD
BEGIN:STANDARD
DTSTART:20251026T020000
RDATE:20260329T030000
TZOFFSETFROM:+0200
TZOFFSETTO:+0100
TZNAME:Europe/Rome CET
END:STANDARD
BEGIN:STANDARD
DTSTART:20261025T020000
RDATE:20270328T030000
TZOFFSETFROM:+0200
TZOFFSETTO:+0100
TZNAME:Europe/Rome CET
END:STANDARD
BEGIN:STANDARD
DTSTART:20271031T020000
RDATE:20280326T030000
TZOFFSETFROM:+0200
TZOFFSETTO:+0100
TZNAME:Europe/Rome CET
END:STANDARD
BEGIN:STANDARD
DTSTART:20281029T020000
RDATE:20290325T030000
TZOFFSETFROM:+0200
TZOFFSETTO:+0100
TZNAME:Europe/Rome CET
END:STANDARD
BEGIN:STANDARD
DTSTART:20291028T020000
RDATE:20300331T030000
TZOFFSETFROM:+0200
TZOFFSETTO:+0100
TZNAME:Europe/Rome CET
END:STANDARD
BEGIN:STANDARD
DTSTART:20301027T020000
RDATE:20310330T030000
TZOFFSETFROM:+0200
TZOFFSETTO:+0100
TZNAME:Europe/Rome CET
END:STANDARD
BEGIN:STANDARD
DTSTART:20311026T020000
RDATE:20320328T030000
TZOFFSETFROM:+0200
TZOFFSETTO:+0100
TZNAME:Europe/Rome CET
END:STANDARD
BEGIN:STANDARD
DTSTART:20321031T020000
RDATE:20330327T030000
TZOFFSETFROM:+0200
TZOFFSETTO:+0100
TZNAME:Europe/Rome CET
END:STANDARD
BEGIN:STANDARD
DTSTART:20331030T020000
RDATE:20340326T030000
TZOFFSETFROM:+0200
TZOFFSETTO:+0100
TZNAME:Europe/Rome CET
END:STANDARD
BEGIN:STANDARD
DTSTART:20341029T020000
RDATE:20350325T030000
TZOFFSETFROM:+0200
TZOFFSETTO:+0100
TZNAME:Europe/Rome CET
END:STANDARD
BEGIN:STANDARD
DTSTART:20351028T020000
RDATE:20360330T030000
TZOFFSETFROM:+0200
TZOFFSETTO:+0100
TZNAME:Europe/Rome CET
END:STANDARD
BEGIN:STANDARD
DTSTART:20361026T020000
RDATE:20370329T030000
TZOFFSETFROM:+0200
TZOFFSETTO:+0100
TZNAME:Europe/Rome CET
END:STANDARD
BEGIN:STANDARD
DTSTART:20371025T020000
TZOFFSETFROM:+0200
TZOFFSETTO:+0100
TZNAME:Europe/Rome CET
END:STANDARD
BEGIN:DAYLIGHT
DTSTART:20110413T000100
RDATE:20111030T020000
TZOFFSETFROM:+0100
TZOFFSETTO:+0200
TZNAME:Europe/Rome CEST
END:DAYLIGHT
BEGIN:DAYLIGHT
DTSTART:20120325T030000
RDATE:20121028T020000
TZOFFSETFROM:+0100
TZOFFSETTO:+0200
TZNAME:Europe/Rome CEST
END:DAYLIGHT
BEGIN:DAYLIGHT
DTSTART:20130331T030000
RDATE:20131027T020000
TZOFFSETFROM:+0100
TZOFFSETTO:+0200
TZNAME:Europe/Rome CEST
END:DAYLIGHT
BEGIN:DAYLIGHT
DTSTART:20140330T030000
RDATE:20141026T020000
TZOFFSETFROM:+0100
TZOFFSETTO:+0200
TZNAME:Europe/Rome CEST
END:DAYLIGHT
BEGIN:DAYLIGHT
DTSTART:20150329T030000
RDATE:20151025T020000
TZOFFSETFROM:+0100
TZOFFSETTO:+0200
TZNAME:Europe/Rome CEST
END:DAYLIGHT
BEGIN:DAYLIGHT
DTSTART:20160327T030000
RDATE:20161030T020000
TZOFFSETFROM:+0100
TZOFFSETTO:+0200
TZNAME:Europe/Rome CEST
END:DAYLIGHT
BEGIN:DAYLIGHT
DTSTART:20170326T030000
RDATE:20171029T020000
TZOFFSETFROM:+0100
TZOFFSETTO:+0200
TZNAME:Europe/Rome CEST
END:DAYLIGHT
BEGIN:DAYLIGHT
DTSTART:20180325T030000
RDATE:20181028T020000
TZOFFSETFROM:+0100
TZOFFSETTO:+0200
TZNAME:Europe/Rome CEST
END:DAYLIGHT
BEGIN:DAYLIGHT
DTSTART:20190331T030000
RDATE:20191027T020000
TZOFFSETFROM:+0100
TZOFFSETTO:+0200
TZNAME:Europe/Rome CEST
END:DAYLIGHT
BEGIN:DAYLIGHT
DTSTART:20200329T030000
RDATE:20201025T020000
TZOFFSETFROM:+0100
TZOFFSETTO:+0200
TZNAME:Europe/Rome CEST
END:DAYLIGHT
BEGIN:DAYLIGHT
DTSTART:20210328T030000
RDATE:20211031T020000
TZOFFSETFROM:+0100
TZOFFSETTO:+0200
TZNAME:Europe/Rome CEST
END:DAYLIGHT
BEGIN:DAYLIGHT
DTSTART:20220327T030000
RDATE:20221030T020000
TZOFFSETFROM:+0100
TZOFFSETTO:+0200
TZNAME:Europe/Rome CEST
END:DAYLIGHT
BEGIN:DAYLIGHT
DTSTART:20230326T030000
RDATE:20231029T020000
TZOFFSETFROM:+0100
TZOFFSETTO:+0200
TZNAME:Europe/Rome CEST
END:DAYLIGHT
BEGIN:DAYLIGHT
DTSTART:20240331T030000
RDATE:20241027T020000
TZOFFSETFROM:+0100
TZOFFSETTO:+0200
TZNAME:Europe/Rome CEST
END:DAYLIGHT
BEGIN:DAYLIGHT
DTSTART:20250330T030000
RDATE:20251026T020000
TZOFFSETFROM:+0100
TZOFFSETTO:+0200
TZNAME:Europe/Rome CEST
END:DAYLIGHT
BEGIN:DAYLIGHT
DTSTART:20260329T030000
RDATE:20261025T020000
TZOFFSETFROM:+0100
TZOFFSETTO:+0200
TZNAME:Europe/Rome CEST
END:DAYLIGHT
BEGIN:DAYLIGHT
DTSTART:20270328T030000
RDATE:20271031T020000
TZOFFSETFROM:+0100
TZOFFSETTO:+0200
TZNAME:Europe/Rome CEST
END:DAYLIGHT
BEGIN:DAYLIGHT
DTSTART:20280326T030000
RDATE:20281029T020000
TZOFFSETFROM:+0100
TZOFFSETTO:+0200
TZNAME:Europe/Rome CEST
END:DAYLIGHT
BEGIN:DAYLIGHT
DTSTART:20290325T030000
RDATE:20291028T020000
TZOFFSETFROM:+0100
TZOFFSETTO:+0200
TZNAME:Europe/Rome CEST
END:DAYLIGHT
BEGIN:DAYLIGHT
DTSTART:20300331T030000
RDATE:20301027T020000
TZOFFSETFROM:+0100
TZOFFSETTO:+0200
TZNAME:Europe/Rome CEST
END:DAYLIGHT
BEGIN:DAYLIGHT
DTSTART:20310330T030000
RDATE:20311026T020000
TZOFFSETFROM:+0100
TZOFFSETTO:+0200
TZNAME:Europe/Rome CEST
END:DAYLIGHT
BEGIN:DAYLIGHT
DTSTART:20320328T030000
RDATE:20321031T020000
TZOFFSETFROM:+0100
TZOFFSETTO:+0200
TZNAME:Europe/Rome CEST
END:DAYLIGHT
BEGIN:DAYLIGHT
DTSTART:20330327T030000
RDATE:20331030T020000
TZOFFSETFROM:+0100
TZOFFSETTO:+0200
TZNAME:Europe/Rome CEST
END:DAYLIGHT
BEGIN:DAYLIGHT
DTSTART:20340326T030000
RDATE:20341029T020000
TZOFFSETFROM:+0100
TZOFFSETTO:+0200
TZNAME:Europe/Rome CEST
END:DAYLIGHT
BEGIN:DAYLIGHT
DTSTART:20350325T030000
RDATE:20351028T020000
TZOFFSETFROM:+0100
TZOFFSETTO:+0200
TZNAME:Europe/Rome CEST
END:DAYLIGHT
BEGIN:DAYLIGHT
DTSTART:20360330T030000
RDATE:20361026T020000
TZOFFSETFROM:+0100
TZOFFSETTO:+0200
TZNAME:Europe/Rome CEST
END:DAYLIGHT
BEGIN:DAYLIGHT
DTSTART:20370329T030000
RDATE:20371025T020000
TZOFFSETFROM:+0100
TZOFFSETTO:+0200
TZNAME:Europe/Rome CEST
END:DAYLIGHT
END:VTIMEZONE
BEGIN:VEVENT
UID:1429119962evt1566
CATEGORIES:.
SUMMARY:13- [Palestina] Application deadline Seminar
DESCRIPTION;ENCODING=QUOTED-PRINTABLE:<p><strong>The Alternative Information Center (AIC)<br />invites you to the
 <br />SPRING EDITION</strong></p><p><strong><a href="http://www.alternative
 news.org/english/index.php/camp/9th-international-student-seminar-bridges-i
 nstead-of-walls-26-310711" target="_blank">12th International Seminar &ldqu
 o;Bridges instead of Walls&rdquo;</a></strong></p><p><strong>Link in italia
 no: </strong><a href="http://www.alternativenews.org/italiano/index.php/aic
 -eventi/seminario-internazionale" target="_blank">http://www.alternativenew
 s.org/italiano/index.php/aic-eventi/seminario-internazionale</a></p><p><str
 ong>in Palestine<br />26th April &ndash; 1st Mai 2012</strong></p><div alig
 n="center" style="text-align: justify">See the muster program <a href="http
 ://www.alternativenews.org/english/images/stories/PDF/12th%20Political%20Ca
 mp%2026-01%20april_PROGRAM.doc" target="_blank">here</a></div><div align="c
 enter" style="text-align: justify">Read our concept <a href="http://www.alt
 ernativenews.org/english/images/stories/PDF/Concept%20Presentation%2012th%2
 0%20International%20Seminar_ENG.pdf" target="_blank">here</a></div><div ali
 gn="center" style="text-align: justify">APPLICATION FORM&nbsp;<a href="http
 ://www.alternativenews.org/english/images/stories/PDF/Application_form%20Po
 litical%20Camp.doc" target="_blank">HERE</a></div><p>After the success of t
 he 11th International camp during past Christmas, we are glad to invite you
  to the Spring edition of the International Political Field Seminar &quot;B
 ridges instead of Walls&quot; &ndash; taking place from the 26th of April t
 o the 1st Mai 2012 in Palestine!</p><p>The seminar is organized by The Alte
 rnative Information Center (AIC), an internationally oriented, progressive,
  joint Palestinian-Israeli activist organization. The has been founded in 1
 984 by Palestinian and Israeli activists believing in the joint struggle fo
 r the end the Occupation and the respect of the Palestinian Nation and Huma
 n rights. The AIC is engaged in dissemination of information, political adv
 ocacy, grassroots activism and critical analysis of the Palestinian and Isr
 aeli societies as well as the Palestinian-Israeli conflict. It strives to p
 romote full individual and collective social, economic, political and gende
 r equality, freedom and democracy and a rejection of the philosophy of sepa
 ration. <br />- - -<br />The AIC is based in Beit Sahour/Bethlehem. The gro
 up will move every day departing from Beit Sahour and come back every night
  to the guesthouse right next the AIC Center. The seminar includes lectures
 , interactive meetings with several civil society actors, political figures
  and partner organizations as well as tours in many different locations of 
 the West Bank and Israel. During our 6 full-program days the participants w
 ill get an intensive and critical overview of the political and economical 
 aspects of the Palestinian-Israeli conflict as well as of the Palestinian a
 nd Israeli societies. We try to cover all the crucial issues to understand 
 the roots of the conflict and the current developments: the history of the 
 conflict and the peace process, the political strategy of the occupation an
 d its economic effects, the structure of the Israeli society and the big ch
 allenges of Palestinian society such as the economic development and the re
 sistance under occupation, as well as issues such as the political repressi
 on, the human rights and the role of the international community.<br />- - 
 -<br /><strong>APPLICATION DEADLINE: 13th April 2012<br /></strong>FEES: 40
 0 &euro; (2000 NIS) including the whole program, local transport, full boar
 d &amp; lodging in double or 3 beds rooms in a local Guesthouse</p><p>If yo
 u have any question, don&rsquo;t hesitate to contact us, and please forward
  this announcement to potential interested friends, colleagues or family me
 mbers <br />More info on&nbsp; <a href="http://www.alternativenews.org/">ww
 w.alternativenews.org</a><br />FB: Alternative Information Center<br />or: 
 Beit Sahour&#39;s Office: 00972 2 2775444<br /><span id="cloak1345">Questo 
 indirizzo email è protetto dagli spambots. È necessario abilitare JavaScrip
 t per vederlo.</span><script type='text/javascript'>
 //<!--
 document.getE
 lementById('cloak1345').innerHTML = '';
 var prefix = '&#109;a' + 'i&#108;'
  + '&#116;o';
 var path = 'hr' + 'ef' + '=';
 var addy1345 = '&#97;&#105;c.
 c&#97;mps' + '&#64;';
 addy1345 = addy1345 + 'gm&#97;&#105;l' + '&#46;' + '
 c&#111;m';
 var addy_text1345 = '&#97;&#105;c.c&#97;mps' + '&#64;' + 'gm&#9
 7;&#105;l' + '&#46;' + 'c&#111;m';
 document.getElementById('cloak1345').in
 nerHTML += '<a ' + path + '\'' + prefix + ':' + addy1345 + '\'>'+addy_text1
 345+'<\/a>';
 //-->
 </script></p><p>--------------------------------------
 -----------</p><p>SPRING EDITION:</p><p>International Political Field Semin
 ar <br />Bridges Instead of Walls!</p><p>Organized by the Alternative Infor
 mation Center</p><p>Introduction<br />In an increasingly globalized world, 
 it is often the case that quantity of information is privileged over qualit
 y. We often deal with cultures without knowing their histories or the thing
 s that we have in common with them. We generalize about &quot;East&quot; an
 d &quot;West&quot; forgetting that we have several traditions, experiences,
  and values to share. Talking about a cultural conflict, or a &quot;clash o
 f civilizations&quot;, is an overly simplistic way of characterizing differ
 ences, leaving historical facts, experiences, and common desires for intera
 ction far from consideration.&nbsp; Mutual understanding is the basis on wh
 ich relationships have to be built, because all &quot;sides&quot; share val
 ues such as respect, tolerance and peace. Stereotypes should therefore not 
 prevent people from approaching the &quot;other&quot; world, nor limit a co
 nstructive dialogue about values, ideals and our common future on this plan
 et.<br />The idea to organize these international field seminars under the 
 slogan &ldquo;Building Bridges Instead of Walls&rdquo; came from these firm
  beliefs. The seminar program proved its political, social, and practical i
 mportance through the action of the participants, who collectively describe
 d it as a very rich experience.<br />We at the Alternative Information Cent
 er will make the necessary efforts to continue developing the seminar exper
 ience. In this context the ideas, suggestions and encouragement of the part
 icipants and their commitment play an essential role. Let us unite our soci
 al, cultural, humanitarian, and political efforts as peoples from many nati
 ons in order to end the walls of occupation, aggression, discrimination and
  racism. Let us build the bridge of justice, peace, equality, human justice
  and respect.</p><p><br />HOSTING ORGANIZATION: The AIC</p><p>The Alternati
 ve Information Center (AIC) is an internationally oriented, progressive, jo
 int Palestinian-Israeli activist organization. The AIC has been founded 198
 4 by Palestinian and Israeli activists believing in the joint struggle for 
 the End of the Israeli Occupation and the respect of the fundamental human 
 rights and the National rights of the Palestinians. The AIC is engaged in d
 issemination of information, political advocacy, grassroots activism and cr
 itical analysis of the Palestinian and Israeli conflict. The AIC strives to
  promote full individual and collective social, economic, political and gen
 der equality. Freedom and democracy, as well as rejection of the philosophy
  and practice of separation, are aims that the AIC pursues.</p><p>&nbsp;</p
 ><p>GOALS</p><p>The goal of this field seminar is to provide participants w
 ith elements crucial to deeply understanding&nbsp; the context and society 
 of Palestine and Israel, thus enabling them to better advocate on behalf of
  a just peace in the region.&nbsp;&nbsp; <br />Directly experiencing the ef
 fects of the conflict, as well as the living and political conditions in th
 e Occupied Palestinian Territories, will provide a unique, on the ground ex
 perience, as opposed to an understanding based on media, propaganda or rumo
 rs. This is a necessary step in the process of understanding the factors th
 at have led to the present situation.&nbsp; Comprehensive knowledge is the 
 necessary starting point for building bridges. <br />The Palestinian voice 
 is often ignored or accused&nbsp; of extremism. As a joint Palestinian-Isra
 eli organisation founded in 1984,&nbsp; the AIC aims to create spaces in wh
 ich the Palestinian people&nbsp; themselves explain their struggle and give
  direct witness to their life under occupation.<br />During the seminar we 
 will also conduct interactive meetings and workshops with Israeli experts a
 nd associations that share the same values of the AIC and are deeply engage
 d in promoting a just peace and social justice for both Palestinians and Is
 raelis. <br />The networking of individuals, associations, political partie
 s, information and media workers is fundamental in building a pressure grou
 p able to encourage governments and economic groups to act responsibly, wit
 hout ignoring the consequences of their actions or non-actions. </p><p><br 
 />TOOLS </p><p>The tools that will be used to achieve the aims described ab
 ove include:</p><p>- Tours throughout the West Bank, Jerusalem and Jaffa to
  view first-hand the living conditions of Palestinians under occupation<br 
 />- Meetings with progressive Israeli social and political groups <br />- L
 ectures by Palestinian and Israeli experts about topics including economics
 , human rights, politics, social issues, international law, history and gen
 der<br />- Meetings with politicians, social institutions and grassroots as
 sociations<br />- Cultural events (concerts, meeting with Palestinian famil
 ies, etc)<br />- Open discussions<br />- Reflection moments</p><p><br />PRO
 GRAM</p><p>The&nbsp; main guidelines adopted throughout the 6 day field sem
 inar follow a logical path: providing elements for deeper, reflective under
 standings, having direct experiences, developing a critical approach and gi
 ving suggestions for effective advocacy.<br />The first step consists in pr
 esenting the general framework of Palestine and Israel with historical and 
 political elements. <br />We will present the AIC vision, policies and acti
 vities in the field, and also a more comprehensive global perspective relat
 ed to the attitude of western and Arab countries toward the conflict. </p><
 p><br />&bull;&nbsp;The first on the ground experience will be a visit to t
 he Apartheid Wall and refugee camps in the Bethlehem area. <br />&bull;&nbs
 p;During a visit to Hebron, where human rights violations occur on a daily 
 basis, participants will meet an association for the monitoring of settleme
 nts in Hebron<br />&bull;&nbsp; During our weekly event at the AICaf&eacute
 ;, participants will meet different representatives of the Palestinian and 
 Israeli civil society<br />&bull;&nbsp;A visit to Jerusalem is scheduled to
  see the reality of the Israeli settlements, both in and surrounding the Ol
 d City<br />&bull;&nbsp;A tour of Ramlah and/or Lod and then Jaffa (in Isra
 el) will highlight the ongoing dispossession of the Palestinian population 
 there, and will include meetings with Palestinian and Israeli social activi
 sts <br />&bull;&nbsp;In Ramallah we will explore the topic of detention an
 d political prisoners with an association of specialized lawyers and activi
 sts, and will have meetings with Palestinian politicians<br />&bull;&nbsp;T
 ogether we will explore the economic dimensions of the Israeli occupation, 
 in addition to women and gender issues within both Palestinian and Israeli 
 societies<br />&bull;&nbsp;A lecture about Israeli society will offer eleme
 nts for understanding critical dynamics; the participants, moreover, will m
 eet Israeli women and men who refuse to serve in the Israeli military </p><
 p><br />The participants will be hosted in double or triple-rooms in a gues
 thouse in Beit Sahour(Bethlehem) right next to the AIC-Center. All the tour
 s will be one-day tour. The local transportation will be guaranteed by bus.
  All lectures will be in English.</p><p><br />The draft program is attached
 . Some changes are possible, although the aforementioned structure and topi
 cs will be maintained. </p><p>&nbsp;</p><p>You can find more info, pictures
  of the previous editions and past participant experiences at:&nbsp; </p><p
 ><a href="http://www.alternativenews.org/">www.alternativenews.org</a></p><
 p><br />Minimum participants for the seminar to take place: 10</p><p>For mo
 re information please contact:<br />Alternative Information Center<br />Bet
 hlehem +972 2 277 5444 <br />Or send an email to <span id="cloak18075">Ques
 to indirizzo email è protetto dagli spambots. È necessario abilitare JavaSc
 ript per vederlo.</span><script type='text/javascript'>
 //<!--
 document.g
 etElementById('cloak18075').innerHTML = '';
 var prefix = '&#109;a' + 'i&#1
 08;' + '&#116;o';
 var path = 'hr' + 'ef' + '=';
 var addy18075 = '&#97;&#1
 05;c.c&#97;mps' + '&#64;';
 addy18075 = addy18075 + 'gm&#97;&#105;l' + '&#4
 6;' + 'c&#111;m';
 var addy_text18075 = '&#97;&#105;c.c&#97;mps' + '&#64;' 
 + 'gm&#97;&#105;l' + '&#46;' + 'c&#111;m';
 document.getElementById('cloak1
 8075').innerHTML += '<a ' + path + '\'' + prefix + ':' + addy18075 + '\'>'+
 addy_text18075+'<\/a>';
 //-->
 </script> <br />The cost is EUR&nbsp; 400 (
 2000 NIS) - EURO 100 deposit and EURO 300 upon arrival<br />It includes all
  meals, accomodation, transportation, workshops, visits and lectures. This 
 cost does not include transportation to the region or health insurance for 
 the period of the field seminar. </p><p>The AIC cannot accept any responsib
 ility for any injury or damage that you may cause to yourself, others, or p
 roperty during the field seminar.</p><p>Glad to see you soon here!<br />The
  AIC Team<br />POB 31417 Jerusalem 91313 Israel&nbsp;&nbsp;&nbsp; <br /><a 
 href="http://www.alternativenews.org/">http://www.alternativenews.org</a><b
 r />email: <span id="cloak58735">Questo indirizzo email è protetto dagli sp
 ambots. È necessario abilitare JavaScript per vederlo.</span><script type='
 text/javascript'>
 //<!--
 document.getElementById('cloak58735').innerHTML 
 = '';
 var prefix = '&#109;a' + 'i&#108;' + '&#116;o';
 var path = 'hr' + '
 ef' + '=';
 var addy58735 = '&#97;&#105;cm&#97;&#105;l' + '&#64;';
 addy587
 35 = addy58735 + '&#97;lt-&#105;nf&#111;' + '&#46;' + '&#111;rg';
 var addy
 _text58735 = '&#97;&#105;cm&#97;&#105;l' + '&#64;' + '&#97;lt-&#105;nf&#111
 ;' + '&#46;' + '&#111;rg';
 document.getElementById('cloak58735').innerHTML
  += '<a ' + path + '\'' + prefix + ':' + addy58735 + '\'>'+addy_text58735+'
 <\/a>';
 //-->
 </script><br />Building 111 Main Street, Beit Sahour&nbsp; 
 <br />Queen Shlomzion Street 4, Jerusalem<br />Tel 972-2-2775444 Fax 972-2-
 2775445&nbsp;&nbsp;&nbsp;&nbsp;&nbsp;&nbsp;&nbsp;&nbsp; <br />Tel 972-2-624
 1159 Fax 972-2-6253151</p>
DTSTAMP:20260422T083245Z
DTSTART;TZID=Europe/Rome:20120413T000100
DTEND;TZID=Europe/Rome:20120414T000100
SEQUENCE:0
TRANSP:OPAQUE
END:VEVENT
END:VCALENDAR